BEGIN:VCALENDAR
VERSION:2.0
PRODID:-//Preble County Council on Aging - ECPv6.15.20//NONSGML v1.0//EN
CALSCALE:GREGORIAN
METHOD:PUBLISH
X-ORIGINAL-URL:https://prebleseniorcenter.org
X-WR-CALDESC:Events for Preble County Council on Aging
REFRESH-INTERVAL;VALUE=DURATION:PT1H
X-Robots-Tag:noindex
X-PUBLISHED-TTL:PT1H
BEGIN:VTIMEZONE
TZID:America/New_York
BEGIN:DAYLIGHT
TZOFFSETFROM:-0500
TZOFFSETTO:-0400
TZNAME:EDT
DTSTART:20290311T070000
END:DAYLIGHT
BEGIN:STANDARD
TZOFFSETFROM:-0400
TZOFFSETTO:-0500
TZNAME:EST
DTSTART:20291104T060000
END:STANDARD
BEGIN:DAYLIGHT
TZOFFSETFROM:-0500
TZOFFSETTO:-0400
TZNAME:EDT
DTSTART:20300310T070000
END:DAYLIGHT
BEGIN:STANDARD
TZOFFSETFROM:-0400
TZOFFSETTO:-0500
TZNAME:EST
DTSTART:20301103T060000
END:STANDARD
BEGIN:DAYLIGHT
TZOFFSETFROM:-0500
TZOFFSETTO:-0400
TZNAME:EDT
DTSTART:20310309T070000
END:DAYLIGHT
BEGIN:STANDARD
TZOFFSETFROM:-0400
TZOFFSETTO:-0500
TZNAME:EST
DTSTART:20311102T060000
END:STANDARD
END:VTIMEZONE
BEGIN:VEVENT
DTSTART;TZID=America/New_York:20300204T093000
DTEND;TZID=America/New_York:20300204T170000
DTSTAMP:20260423T181320
CREATED:20260309T184803Z
LAST-MODIFIED:20260309T184803Z
UID:10006080-1896427800-1896454800@prebleseniorcenter.org
SUMMARY:Bible Study
DESCRIPTION:
URL:https://prebleseniorcenter.org/event/bible-study/2030-02-04/
CATEGORIES:Activities
END:VEVENT
BEGIN:VEVENT
DTSTART;TZID=America/New_York:20300204T110000
DTEND;TZID=America/New_York:20300204T120000
DTSTAMP:20260423T181320
CREATED:20260309T184935Z
LAST-MODIFIED:20260309T184935Z
UID:10006341-1896433200-1896436800@prebleseniorcenter.org
SUMMARY:Silver Sneakers
DESCRIPTION:
URL:https://prebleseniorcenter.org/event/silver-sneakers/2030-02-04/
CATEGORIES:Activities
END:VEVENT
BEGIN:VEVENT
DTSTART;TZID=America/New_York:20300204T133000
DTEND;TZID=America/New_York:20300204T143000
DTSTAMP:20260423T181320
CREATED:20260309T185310Z
LAST-MODIFIED:20260309T185310Z
UID:10006967-1896442200-1896445800@prebleseniorcenter.org
SUMMARY:Participant's Council
DESCRIPTION:
URL:https://prebleseniorcenter.org/event/participants-council/2030-02-04/
CATEGORIES:Activities
END:VEVENT
BEGIN:VEVENT
DTSTART;TZID=America/New_York:20300205T093000
DTEND;TZID=America/New_York:20300205T103000
DTSTAMP:20260423T181320
CREATED:20260309T185038Z
LAST-MODIFIED:20260309T185038Z
UID:10006602-1896514200-1896517800@prebleseniorcenter.org
SUMMARY:SAIL
DESCRIPTION:
URL:https://prebleseniorcenter.org/event/sail/2030-02-05/
CATEGORIES:On-Line Activities & Classes
END:VEVENT
BEGIN:VEVENT
DTSTART;TZID=America/New_York:20300205T110000
DTEND;TZID=America/New_York:20300205T120000
DTSTAMP:20260423T181320
CREATED:20260309T185121Z
LAST-MODIFIED:20260309T185121Z
UID:10006863-1896519600-1896523200@prebleseniorcenter.org
SUMMARY:Jedi Council
DESCRIPTION:
URL:https://prebleseniorcenter.org/event/jedi-council/2030-02-05/
CATEGORIES:Activities
END:VEVENT
BEGIN:VEVENT
DTSTART;TZID=America/New_York:20300211T093000
DTEND;TZID=America/New_York:20300211T170000
DTSTAMP:20260423T181320
CREATED:20260309T184803Z
LAST-MODIFIED:20260309T184803Z
UID:10006081-1897032600-1897059600@prebleseniorcenter.org
SUMMARY:Bible Study
DESCRIPTION:
URL:https://prebleseniorcenter.org/event/bible-study/2030-02-11/
CATEGORIES:Activities
END:VEVENT
BEGIN:VEVENT
DTSTART;TZID=America/New_York:20300211T110000
DTEND;TZID=America/New_York:20300211T120000
DTSTAMP:20260423T181320
CREATED:20260309T184935Z
LAST-MODIFIED:20260309T184935Z
UID:10006342-1897038000-1897041600@prebleseniorcenter.org
SUMMARY:Silver Sneakers
DESCRIPTION:
URL:https://prebleseniorcenter.org/event/silver-sneakers/2030-02-11/
CATEGORIES:Activities
END:VEVENT
BEGIN:VEVENT
DTSTART;TZID=America/New_York:20300212T093000
DTEND;TZID=America/New_York:20300212T103000
DTSTAMP:20260423T181320
CREATED:20260309T185038Z
LAST-MODIFIED:20260309T185038Z
UID:10006603-1897119000-1897122600@prebleseniorcenter.org
SUMMARY:SAIL
DESCRIPTION:
URL:https://prebleseniorcenter.org/event/sail/2030-02-12/
CATEGORIES:On-Line Activities & Classes
END:VEVENT
BEGIN:VEVENT
DTSTART;TZID=America/New_York:20300212T110000
DTEND;TZID=America/New_York:20300212T120000
DTSTAMP:20260423T181320
CREATED:20260309T185121Z
LAST-MODIFIED:20260309T185121Z
UID:10006864-1897124400-1897128000@prebleseniorcenter.org
SUMMARY:Jedi Council
DESCRIPTION:
URL:https://prebleseniorcenter.org/event/jedi-council/2030-02-12/
CATEGORIES:Activities
END:VEVENT
BEGIN:VEVENT
DTSTART;TZID=America/New_York:20300218T093000
DTEND;TZID=America/New_York:20300218T170000
DTSTAMP:20260423T181320
CREATED:20260309T184803Z
LAST-MODIFIED:20260309T184803Z
UID:10006082-1897637400-1897664400@prebleseniorcenter.org
SUMMARY:Bible Study
DESCRIPTION:
URL:https://prebleseniorcenter.org/event/bible-study/2030-02-18/
CATEGORIES:Activities
END:VEVENT
BEGIN:VEVENT
DTSTART;TZID=America/New_York:20300218T110000
DTEND;TZID=America/New_York:20300218T120000
DTSTAMP:20260423T181320
CREATED:20260309T184935Z
LAST-MODIFIED:20260309T184935Z
UID:10006343-1897642800-1897646400@prebleseniorcenter.org
SUMMARY:Silver Sneakers
DESCRIPTION:
URL:https://prebleseniorcenter.org/event/silver-sneakers/2030-02-18/
CATEGORIES:Activities
END:VEVENT
BEGIN:VEVENT
DTSTART;TZID=America/New_York:20300219T093000
DTEND;TZID=America/New_York:20300219T103000
DTSTAMP:20260423T181320
CREATED:20260309T185038Z
LAST-MODIFIED:20260309T185038Z
UID:10006604-1897723800-1897727400@prebleseniorcenter.org
SUMMARY:SAIL
DESCRIPTION:
URL:https://prebleseniorcenter.org/event/sail/2030-02-19/
CATEGORIES:On-Line Activities & Classes
END:VEVENT
BEGIN:VEVENT
DTSTART;TZID=America/New_York:20300219T110000
DTEND;TZID=America/New_York:20300219T120000
DTSTAMP:20260423T181320
CREATED:20260309T185121Z
LAST-MODIFIED:20260309T185121Z
UID:10006865-1897729200-1897732800@prebleseniorcenter.org
SUMMARY:Jedi Council
DESCRIPTION:
URL:https://prebleseniorcenter.org/event/jedi-council/2030-02-19/
CATEGORIES:Activities
END:VEVENT
BEGIN:VEVENT
DTSTART;TZID=America/New_York:20300222T100000
DTEND;TZID=America/New_York:20300222T120000
DTSTAMP:20260423T181320
CREATED:20260309T185453Z
LAST-MODIFIED:20260309T185453Z
UID:10007088-1897984800-1897992000@prebleseniorcenter.org
SUMMARY:Tech Support
DESCRIPTION:
URL:https://prebleseniorcenter.org/event/tech-support/2030-02-22/
CATEGORIES:Activities
END:VEVENT
BEGIN:VEVENT
DTSTART;TZID=America/New_York:20300225T093000
DTEND;TZID=America/New_York:20300225T170000
DTSTAMP:20260423T181320
CREATED:20260309T184803Z
LAST-MODIFIED:20260309T184803Z
UID:10006083-1898242200-1898269200@prebleseniorcenter.org
SUMMARY:Bible Study
DESCRIPTION:
URL:https://prebleseniorcenter.org/event/bible-study/2030-02-25/
CATEGORIES:Activities
END:VEVENT
BEGIN:VEVENT
DTSTART;TZID=America/New_York:20300225T110000
DTEND;TZID=America/New_York:20300225T120000
DTSTAMP:20260423T181320
CREATED:20260309T184935Z
LAST-MODIFIED:20260309T184935Z
UID:10006344-1898247600-1898251200@prebleseniorcenter.org
SUMMARY:Silver Sneakers
DESCRIPTION:
URL:https://prebleseniorcenter.org/event/silver-sneakers/2030-02-25/
CATEGORIES:Activities
END:VEVENT
BEGIN:VEVENT
DTSTART;TZID=America/New_York:20300226T093000
DTEND;TZID=America/New_York:20300226T103000
DTSTAMP:20260423T181320
CREATED:20260309T185038Z
LAST-MODIFIED:20260309T185038Z
UID:10006605-1898328600-1898332200@prebleseniorcenter.org
SUMMARY:SAIL
DESCRIPTION:
URL:https://prebleseniorcenter.org/event/sail/2030-02-26/
CATEGORIES:On-Line Activities & Classes
END:VEVENT
BEGIN:VEVENT
DTSTART;TZID=America/New_York:20300226T110000
DTEND;TZID=America/New_York:20300226T120000
DTSTAMP:20260423T181320
CREATED:20260309T185121Z
LAST-MODIFIED:20260309T185121Z
UID:10006866-1898334000-1898337600@prebleseniorcenter.org
SUMMARY:Jedi Council
DESCRIPTION:
URL:https://prebleseniorcenter.org/event/jedi-council/2030-02-26/
CATEGORIES:Activities
END:VEVENT
BEGIN:VEVENT
DTSTART;TZID=America/New_York:20300227T130000
DTEND;TZID=America/New_York:20300227T170000
DTSTAMP:20260423T181320
CREATED:20260309T185403Z
LAST-MODIFIED:20260309T185403Z
UID:10007028-1898427600-1898442000@prebleseniorcenter.org
SUMMARY:Retro Rackers again Oxford
DESCRIPTION:
URL:https://prebleseniorcenter.org/event/retro-rackers-again-oxford/2030-02-27/
CATEGORIES:Activities
END:VEVENT
END:VCALENDAR