BEGIN:VCALENDAR
VERSION:2.0
PRODID:-//Preble County Council on Aging - ECPv6.15.20//NONSGML v1.0//EN
CALSCALE:GREGORIAN
METHOD:PUBLISH
X-ORIGINAL-URL:https://prebleseniorcenter.org
X-WR-CALDESC:Events for Preble County Council on Aging
REFRESH-INTERVAL;VALUE=DURATION:PT1H
X-Robots-Tag:noindex
X-PUBLISHED-TTL:PT1H
BEGIN:VTIMEZONE
TZID:America/New_York
BEGIN:DAYLIGHT
TZOFFSETFROM:-0500
TZOFFSETTO:-0400
TZNAME:EDT
DTSTART:20280312T070000
END:DAYLIGHT
BEGIN:STANDARD
TZOFFSETFROM:-0400
TZOFFSETTO:-0500
TZNAME:EST
DTSTART:20281105T060000
END:STANDARD
BEGIN:DAYLIGHT
TZOFFSETFROM:-0500
TZOFFSETTO:-0400
TZNAME:EDT
DTSTART:20290311T070000
END:DAYLIGHT
BEGIN:STANDARD
TZOFFSETFROM:-0400
TZOFFSETTO:-0500
TZNAME:EST
DTSTART:20291104T060000
END:STANDARD
BEGIN:DAYLIGHT
TZOFFSETFROM:-0500
TZOFFSETTO:-0400
TZNAME:EDT
DTSTART:20300310T070000
END:DAYLIGHT
BEGIN:STANDARD
TZOFFSETFROM:-0400
TZOFFSETTO:-0500
TZNAME:EST
DTSTART:20301103T060000
END:STANDARD
END:VTIMEZONE
BEGIN:VEVENT
DTSTART;TZID=America/New_York:20291105T093000
DTEND;TZID=America/New_York:20291105T170000
DTSTAMP:20260423T134322
CREATED:20260309T184803Z
LAST-MODIFIED:20260309T184803Z
UID:10006067-1888565400-1888592400@prebleseniorcenter.org
SUMMARY:Bible Study
DESCRIPTION:
URL:https://prebleseniorcenter.org/event/bible-study/2029-11-05/
CATEGORIES:Activities
END:VEVENT
BEGIN:VEVENT
DTSTART;TZID=America/New_York:20291105T110000
DTEND;TZID=America/New_York:20291105T120000
DTSTAMP:20260423T134322
CREATED:20260309T184935Z
LAST-MODIFIED:20260309T184935Z
UID:10006328-1888570800-1888574400@prebleseniorcenter.org
SUMMARY:Silver Sneakers
DESCRIPTION:
URL:https://prebleseniorcenter.org/event/silver-sneakers/2029-11-05/
CATEGORIES:Activities
END:VEVENT
BEGIN:VEVENT
DTSTART;TZID=America/New_York:20291105T133000
DTEND;TZID=America/New_York:20291105T143000
DTSTAMP:20260423T134322
CREATED:20260309T185310Z
LAST-MODIFIED:20260309T185310Z
UID:10006964-1888579800-1888583400@prebleseniorcenter.org
SUMMARY:Participant's Council
DESCRIPTION:
URL:https://prebleseniorcenter.org/event/participants-council/2029-11-05/
CATEGORIES:Activities
END:VEVENT
BEGIN:VEVENT
DTSTART;TZID=America/New_York:20291106T093000
DTEND;TZID=America/New_York:20291106T103000
DTSTAMP:20260423T134322
CREATED:20260309T185038Z
LAST-MODIFIED:20260309T185038Z
UID:10006589-1888651800-1888655400@prebleseniorcenter.org
SUMMARY:SAIL
DESCRIPTION:
URL:https://prebleseniorcenter.org/event/sail/2029-11-06/
CATEGORIES:On-Line Activities & Classes
END:VEVENT
BEGIN:VEVENT
DTSTART;TZID=America/New_York:20291106T110000
DTEND;TZID=America/New_York:20291106T120000
DTSTAMP:20260423T134322
CREATED:20260309T185121Z
LAST-MODIFIED:20260309T185121Z
UID:10006850-1888657200-1888660800@prebleseniorcenter.org
SUMMARY:Jedi Council
DESCRIPTION:
URL:https://prebleseniorcenter.org/event/jedi-council/2029-11-06/
CATEGORIES:Activities
END:VEVENT
BEGIN:VEVENT
DTSTART;TZID=America/New_York:20291112T093000
DTEND;TZID=America/New_York:20291112T170000
DTSTAMP:20260423T134323
CREATED:20260309T184803Z
LAST-MODIFIED:20260309T184803Z
UID:10006068-1889170200-1889197200@prebleseniorcenter.org
SUMMARY:Bible Study
DESCRIPTION:
URL:https://prebleseniorcenter.org/event/bible-study/2029-11-12/
CATEGORIES:Activities
END:VEVENT
BEGIN:VEVENT
DTSTART;TZID=America/New_York:20291112T110000
DTEND;TZID=America/New_York:20291112T120000
DTSTAMP:20260423T134323
CREATED:20260309T184935Z
LAST-MODIFIED:20260309T184935Z
UID:10006329-1889175600-1889179200@prebleseniorcenter.org
SUMMARY:Silver Sneakers
DESCRIPTION:
URL:https://prebleseniorcenter.org/event/silver-sneakers/2029-11-12/
CATEGORIES:Activities
END:VEVENT
BEGIN:VEVENT
DTSTART;TZID=America/New_York:20291113T093000
DTEND;TZID=America/New_York:20291113T103000
DTSTAMP:20260423T134323
CREATED:20260309T185038Z
LAST-MODIFIED:20260309T185038Z
UID:10006590-1889256600-1889260200@prebleseniorcenter.org
SUMMARY:SAIL
DESCRIPTION:
URL:https://prebleseniorcenter.org/event/sail/2029-11-13/
CATEGORIES:On-Line Activities & Classes
END:VEVENT
BEGIN:VEVENT
DTSTART;TZID=America/New_York:20291113T110000
DTEND;TZID=America/New_York:20291113T120000
DTSTAMP:20260423T134323
CREATED:20260309T185121Z
LAST-MODIFIED:20260309T185121Z
UID:10006851-1889262000-1889265600@prebleseniorcenter.org
SUMMARY:Jedi Council
DESCRIPTION:
URL:https://prebleseniorcenter.org/event/jedi-council/2029-11-13/
CATEGORIES:Activities
END:VEVENT
BEGIN:VEVENT
DTSTART;TZID=America/New_York:20291119T093000
DTEND;TZID=America/New_York:20291119T170000
DTSTAMP:20260423T134323
CREATED:20260309T184803Z
LAST-MODIFIED:20260309T184803Z
UID:10006069-1889775000-1889802000@prebleseniorcenter.org
SUMMARY:Bible Study
DESCRIPTION:
URL:https://prebleseniorcenter.org/event/bible-study/2029-11-19/
CATEGORIES:Activities
END:VEVENT
BEGIN:VEVENT
DTSTART;TZID=America/New_York:20291119T110000
DTEND;TZID=America/New_York:20291119T120000
DTSTAMP:20260423T134323
CREATED:20260309T184935Z
LAST-MODIFIED:20260309T184935Z
UID:10006330-1889780400-1889784000@prebleseniorcenter.org
SUMMARY:Silver Sneakers
DESCRIPTION:
URL:https://prebleseniorcenter.org/event/silver-sneakers/2029-11-19/
CATEGORIES:Activities
END:VEVENT
BEGIN:VEVENT
DTSTART;TZID=America/New_York:20291120T093000
DTEND;TZID=America/New_York:20291120T103000
DTSTAMP:20260423T134323
CREATED:20260309T185038Z
LAST-MODIFIED:20260309T185038Z
UID:10006591-1889861400-1889865000@prebleseniorcenter.org
SUMMARY:SAIL
DESCRIPTION:
URL:https://prebleseniorcenter.org/event/sail/2029-11-20/
CATEGORIES:On-Line Activities & Classes
END:VEVENT
BEGIN:VEVENT
DTSTART;TZID=America/New_York:20291120T110000
DTEND;TZID=America/New_York:20291120T120000
DTSTAMP:20260423T134323
CREATED:20260309T185121Z
LAST-MODIFIED:20260309T185121Z
UID:10006852-1889866800-1889870400@prebleseniorcenter.org
SUMMARY:Jedi Council
DESCRIPTION:
URL:https://prebleseniorcenter.org/event/jedi-council/2029-11-20/
CATEGORIES:Activities
END:VEVENT
BEGIN:VEVENT
DTSTART;TZID=America/New_York:20291123T100000
DTEND;TZID=America/New_York:20291123T120000
DTSTAMP:20260423T134323
CREATED:20260309T185453Z
LAST-MODIFIED:20260309T185453Z
UID:10007085-1890122400-1890129600@prebleseniorcenter.org
SUMMARY:Tech Support
DESCRIPTION:
URL:https://prebleseniorcenter.org/event/tech-support/2029-11-23/
CATEGORIES:Activities
END:VEVENT
BEGIN:VEVENT
DTSTART;TZID=America/New_York:20291126T093000
DTEND;TZID=America/New_York:20291126T170000
DTSTAMP:20260423T134323
CREATED:20260309T184803Z
LAST-MODIFIED:20260309T184803Z
UID:10006070-1890379800-1890406800@prebleseniorcenter.org
SUMMARY:Bible Study
DESCRIPTION:
URL:https://prebleseniorcenter.org/event/bible-study/2029-11-26/
CATEGORIES:Activities
END:VEVENT
BEGIN:VEVENT
DTSTART;TZID=America/New_York:20291126T110000
DTEND;TZID=America/New_York:20291126T120000
DTSTAMP:20260423T134323
CREATED:20260309T184935Z
LAST-MODIFIED:20260309T184935Z
UID:10006331-1890385200-1890388800@prebleseniorcenter.org
SUMMARY:Silver Sneakers
DESCRIPTION:
URL:https://prebleseniorcenter.org/event/silver-sneakers/2029-11-26/
CATEGORIES:Activities
END:VEVENT
BEGIN:VEVENT
DTSTART;TZID=America/New_York:20291127T093000
DTEND;TZID=America/New_York:20291127T103000
DTSTAMP:20260423T134323
CREATED:20260309T185038Z
LAST-MODIFIED:20260309T185038Z
UID:10006592-1890466200-1890469800@prebleseniorcenter.org
SUMMARY:SAIL
DESCRIPTION:
URL:https://prebleseniorcenter.org/event/sail/2029-11-27/
CATEGORIES:On-Line Activities & Classes
END:VEVENT
BEGIN:VEVENT
DTSTART;TZID=America/New_York:20291127T110000
DTEND;TZID=America/New_York:20291127T120000
DTSTAMP:20260423T134323
CREATED:20260309T185121Z
LAST-MODIFIED:20260309T185121Z
UID:10006853-1890471600-1890475200@prebleseniorcenter.org
SUMMARY:Jedi Council
DESCRIPTION:
URL:https://prebleseniorcenter.org/event/jedi-council/2029-11-27/
CATEGORIES:Activities
END:VEVENT
BEGIN:VEVENT
DTSTART;TZID=America/New_York:20291128T130000
DTEND;TZID=America/New_York:20291128T170000
DTSTAMP:20260423T134323
CREATED:20260309T185403Z
LAST-MODIFIED:20260309T185403Z
UID:10007025-1890565200-1890579600@prebleseniorcenter.org
SUMMARY:Retro Rackers again Oxford
DESCRIPTION:
URL:https://prebleseniorcenter.org/event/retro-rackers-again-oxford/2029-11-28/
CATEGORIES:Activities
END:VEVENT
END:VCALENDAR