BEGIN:VCALENDAR
VERSION:2.0
PRODID:-//Preble County Council on Aging - ECPv6.15.20//NONSGML v1.0//EN
CALSCALE:GREGORIAN
METHOD:PUBLISH
X-ORIGINAL-URL:https://prebleseniorcenter.org
X-WR-CALDESC:Events for Preble County Council on Aging
REFRESH-INTERVAL;VALUE=DURATION:PT1H
X-Robots-Tag:noindex
X-PUBLISHED-TTL:PT1H
BEGIN:VTIMEZONE
TZID:America/New_York
BEGIN:DAYLIGHT
TZOFFSETFROM:-0500
TZOFFSETTO:-0400
TZNAME:EDT
DTSTART:20280312T070000
END:DAYLIGHT
BEGIN:STANDARD
TZOFFSETFROM:-0400
TZOFFSETTO:-0500
TZNAME:EST
DTSTART:20281105T060000
END:STANDARD
BEGIN:DAYLIGHT
TZOFFSETFROM:-0500
TZOFFSETTO:-0400
TZNAME:EDT
DTSTART:20290311T070000
END:DAYLIGHT
BEGIN:STANDARD
TZOFFSETFROM:-0400
TZOFFSETTO:-0500
TZNAME:EST
DTSTART:20291104T060000
END:STANDARD
BEGIN:DAYLIGHT
TZOFFSETFROM:-0500
TZOFFSETTO:-0400
TZNAME:EDT
DTSTART:20300310T070000
END:DAYLIGHT
BEGIN:STANDARD
TZOFFSETFROM:-0400
TZOFFSETTO:-0500
TZNAME:EST
DTSTART:20301103T060000
END:STANDARD
END:VTIMEZONE
BEGIN:VEVENT
DTSTART;TZID=America/New_York:20291001T093000
DTEND;TZID=America/New_York:20291001T170000
DTSTAMP:20260423T121949
CREATED:20260309T184803Z
LAST-MODIFIED:20260309T184803Z
UID:10006062-1885541400-1885568400@prebleseniorcenter.org
SUMMARY:Bible Study
DESCRIPTION:
URL:https://prebleseniorcenter.org/event/bible-study/2029-10-01/
CATEGORIES:Activities
END:VEVENT
BEGIN:VEVENT
DTSTART;TZID=America/New_York:20291001T110000
DTEND;TZID=America/New_York:20291001T120000
DTSTAMP:20260423T121949
CREATED:20260309T184935Z
LAST-MODIFIED:20260309T184935Z
UID:10006323-1885546800-1885550400@prebleseniorcenter.org
SUMMARY:Silver Sneakers
DESCRIPTION:
URL:https://prebleseniorcenter.org/event/silver-sneakers/2029-10-01/
CATEGORIES:Activities
END:VEVENT
BEGIN:VEVENT
DTSTART;TZID=America/New_York:20291001T133000
DTEND;TZID=America/New_York:20291001T143000
DTSTAMP:20260423T121949
CREATED:20260309T185310Z
LAST-MODIFIED:20260309T185310Z
UID:10006963-1885555800-1885559400@prebleseniorcenter.org
SUMMARY:Participant's Council
DESCRIPTION:
URL:https://prebleseniorcenter.org/event/participants-council/2029-10-01/
CATEGORIES:Activities
END:VEVENT
BEGIN:VEVENT
DTSTART;TZID=America/New_York:20291002T093000
DTEND;TZID=America/New_York:20291002T103000
DTSTAMP:20260423T121949
CREATED:20260309T185038Z
LAST-MODIFIED:20260309T185038Z
UID:10006584-1885627800-1885631400@prebleseniorcenter.org
SUMMARY:SAIL
DESCRIPTION:
URL:https://prebleseniorcenter.org/event/sail/2029-10-02/
CATEGORIES:On-Line Activities & Classes
END:VEVENT
BEGIN:VEVENT
DTSTART;TZID=America/New_York:20291002T110000
DTEND;TZID=America/New_York:20291002T120000
DTSTAMP:20260423T121949
CREATED:20260309T185121Z
LAST-MODIFIED:20260309T185121Z
UID:10006845-1885633200-1885636800@prebleseniorcenter.org
SUMMARY:Jedi Council
DESCRIPTION:
URL:https://prebleseniorcenter.org/event/jedi-council/2029-10-02/
CATEGORIES:Activities
END:VEVENT
BEGIN:VEVENT
DTSTART;TZID=America/New_York:20291008T093000
DTEND;TZID=America/New_York:20291008T170000
DTSTAMP:20260423T121949
CREATED:20260309T184803Z
LAST-MODIFIED:20260309T184803Z
UID:10006063-1886146200-1886173200@prebleseniorcenter.org
SUMMARY:Bible Study
DESCRIPTION:
URL:https://prebleseniorcenter.org/event/bible-study/2029-10-08/
CATEGORIES:Activities
END:VEVENT
BEGIN:VEVENT
DTSTART;TZID=America/New_York:20291008T110000
DTEND;TZID=America/New_York:20291008T120000
DTSTAMP:20260423T121949
CREATED:20260309T184935Z
LAST-MODIFIED:20260309T184935Z
UID:10006324-1886151600-1886155200@prebleseniorcenter.org
SUMMARY:Silver Sneakers
DESCRIPTION:
URL:https://prebleseniorcenter.org/event/silver-sneakers/2029-10-08/
CATEGORIES:Activities
END:VEVENT
BEGIN:VEVENT
DTSTART;TZID=America/New_York:20291009T093000
DTEND;TZID=America/New_York:20291009T103000
DTSTAMP:20260423T121949
CREATED:20260309T185038Z
LAST-MODIFIED:20260309T185038Z
UID:10006585-1886232600-1886236200@prebleseniorcenter.org
SUMMARY:SAIL
DESCRIPTION:
URL:https://prebleseniorcenter.org/event/sail/2029-10-09/
CATEGORIES:On-Line Activities & Classes
END:VEVENT
BEGIN:VEVENT
DTSTART;TZID=America/New_York:20291009T110000
DTEND;TZID=America/New_York:20291009T120000
DTSTAMP:20260423T121949
CREATED:20260309T185121Z
LAST-MODIFIED:20260309T185121Z
UID:10006846-1886238000-1886241600@prebleseniorcenter.org
SUMMARY:Jedi Council
DESCRIPTION:
URL:https://prebleseniorcenter.org/event/jedi-council/2029-10-09/
CATEGORIES:Activities
END:VEVENT
BEGIN:VEVENT
DTSTART;TZID=America/New_York:20291015T093000
DTEND;TZID=America/New_York:20291015T170000
DTSTAMP:20260423T121949
CREATED:20260309T184803Z
LAST-MODIFIED:20260309T184803Z
UID:10006064-1886751000-1886778000@prebleseniorcenter.org
SUMMARY:Bible Study
DESCRIPTION:
URL:https://prebleseniorcenter.org/event/bible-study/2029-10-15/
CATEGORIES:Activities
END:VEVENT
BEGIN:VEVENT
DTSTART;TZID=America/New_York:20291015T110000
DTEND;TZID=America/New_York:20291015T120000
DTSTAMP:20260423T121949
CREATED:20260309T184935Z
LAST-MODIFIED:20260309T184935Z
UID:10006325-1886756400-1886760000@prebleseniorcenter.org
SUMMARY:Silver Sneakers
DESCRIPTION:
URL:https://prebleseniorcenter.org/event/silver-sneakers/2029-10-15/
CATEGORIES:Activities
END:VEVENT
BEGIN:VEVENT
DTSTART;TZID=America/New_York:20291016T093000
DTEND;TZID=America/New_York:20291016T103000
DTSTAMP:20260423T121949
CREATED:20260309T185038Z
LAST-MODIFIED:20260309T185038Z
UID:10006586-1886837400-1886841000@prebleseniorcenter.org
SUMMARY:SAIL
DESCRIPTION:
URL:https://prebleseniorcenter.org/event/sail/2029-10-16/
CATEGORIES:On-Line Activities & Classes
END:VEVENT
BEGIN:VEVENT
DTSTART;TZID=America/New_York:20291016T110000
DTEND;TZID=America/New_York:20291016T120000
DTSTAMP:20260423T121949
CREATED:20260309T185121Z
LAST-MODIFIED:20260309T185121Z
UID:10006847-1886842800-1886846400@prebleseniorcenter.org
SUMMARY:Jedi Council
DESCRIPTION:
URL:https://prebleseniorcenter.org/event/jedi-council/2029-10-16/
CATEGORIES:Activities
END:VEVENT
BEGIN:VEVENT
DTSTART;TZID=America/New_York:20291022T093000
DTEND;TZID=America/New_York:20291022T170000
DTSTAMP:20260423T121949
CREATED:20260309T184803Z
LAST-MODIFIED:20260309T184803Z
UID:10006065-1887355800-1887382800@prebleseniorcenter.org
SUMMARY:Bible Study
DESCRIPTION:
URL:https://prebleseniorcenter.org/event/bible-study/2029-10-22/
CATEGORIES:Activities
END:VEVENT
BEGIN:VEVENT
DTSTART;TZID=America/New_York:20291022T110000
DTEND;TZID=America/New_York:20291022T120000
DTSTAMP:20260423T121949
CREATED:20260309T184935Z
LAST-MODIFIED:20260309T184935Z
UID:10006326-1887361200-1887364800@prebleseniorcenter.org
SUMMARY:Silver Sneakers
DESCRIPTION:
URL:https://prebleseniorcenter.org/event/silver-sneakers/2029-10-22/
CATEGORIES:Activities
END:VEVENT
BEGIN:VEVENT
DTSTART;TZID=America/New_York:20291023T093000
DTEND;TZID=America/New_York:20291023T103000
DTSTAMP:20260423T121949
CREATED:20260309T185038Z
LAST-MODIFIED:20260309T185038Z
UID:10006587-1887442200-1887445800@prebleseniorcenter.org
SUMMARY:SAIL
DESCRIPTION:
URL:https://prebleseniorcenter.org/event/sail/2029-10-23/
CATEGORIES:On-Line Activities & Classes
END:VEVENT
BEGIN:VEVENT
DTSTART;TZID=America/New_York:20291023T110000
DTEND;TZID=America/New_York:20291023T120000
DTSTAMP:20260423T121949
CREATED:20260309T185121Z
LAST-MODIFIED:20260309T185121Z
UID:10006848-1887447600-1887451200@prebleseniorcenter.org
SUMMARY:Jedi Council
DESCRIPTION:
URL:https://prebleseniorcenter.org/event/jedi-council/2029-10-23/
CATEGORIES:Activities
END:VEVENT
BEGIN:VEVENT
DTSTART;TZID=America/New_York:20291024T130000
DTEND;TZID=America/New_York:20291024T170000
DTSTAMP:20260423T121949
CREATED:20260309T185403Z
LAST-MODIFIED:20260309T185403Z
UID:10007024-1887541200-1887555600@prebleseniorcenter.org
SUMMARY:Retro Rackers again Oxford
DESCRIPTION:
URL:https://prebleseniorcenter.org/event/retro-rackers-again-oxford/2029-10-24/
CATEGORIES:Activities
END:VEVENT
BEGIN:VEVENT
DTSTART;TZID=America/New_York:20291026T100000
DTEND;TZID=America/New_York:20291026T120000
DTSTAMP:20260423T121949
CREATED:20260309T185453Z
LAST-MODIFIED:20260309T185453Z
UID:10007084-1887703200-1887710400@prebleseniorcenter.org
SUMMARY:Tech Support
DESCRIPTION:
URL:https://prebleseniorcenter.org/event/tech-support/2029-10-26/
CATEGORIES:Activities
END:VEVENT
BEGIN:VEVENT
DTSTART;TZID=America/New_York:20291029T093000
DTEND;TZID=America/New_York:20291029T170000
DTSTAMP:20260423T121949
CREATED:20260309T184803Z
LAST-MODIFIED:20260309T184803Z
UID:10006066-1887960600-1887987600@prebleseniorcenter.org
SUMMARY:Bible Study
DESCRIPTION:
URL:https://prebleseniorcenter.org/event/bible-study/2029-10-29/
CATEGORIES:Activities
END:VEVENT
BEGIN:VEVENT
DTSTART;TZID=America/New_York:20291029T110000
DTEND;TZID=America/New_York:20291029T120000
DTSTAMP:20260423T121949
CREATED:20260309T184935Z
LAST-MODIFIED:20260309T184935Z
UID:10006327-1887966000-1887969600@prebleseniorcenter.org
SUMMARY:Silver Sneakers
DESCRIPTION:
URL:https://prebleseniorcenter.org/event/silver-sneakers/2029-10-29/
CATEGORIES:Activities
END:VEVENT
BEGIN:VEVENT
DTSTART;TZID=America/New_York:20291030T093000
DTEND;TZID=America/New_York:20291030T103000
DTSTAMP:20260423T121949
CREATED:20260309T185038Z
LAST-MODIFIED:20260309T185038Z
UID:10006588-1888047000-1888050600@prebleseniorcenter.org
SUMMARY:SAIL
DESCRIPTION:
URL:https://prebleseniorcenter.org/event/sail/2029-10-30/
CATEGORIES:On-Line Activities & Classes
END:VEVENT
BEGIN:VEVENT
DTSTART;TZID=America/New_York:20291030T110000
DTEND;TZID=America/New_York:20291030T120000
DTSTAMP:20260423T121949
CREATED:20260309T185121Z
LAST-MODIFIED:20260309T185121Z
UID:10006849-1888052400-1888056000@prebleseniorcenter.org
SUMMARY:Jedi Council
DESCRIPTION:
URL:https://prebleseniorcenter.org/event/jedi-council/2029-10-30/
CATEGORIES:Activities
END:VEVENT
END:VCALENDAR