BEGIN:VCALENDAR
VERSION:2.0
PRODID:-//Preble County Council on Aging - ECPv6.15.20//NONSGML v1.0//EN
CALSCALE:GREGORIAN
METHOD:PUBLISH
X-WR-CALNAME:Preble County Council on Aging
X-ORIGINAL-URL:https://prebleseniorcenter.org
X-WR-CALDESC:Events for Preble County Council on Aging
REFRESH-INTERVAL;VALUE=DURATION:PT1H
X-Robots-Tag:noindex
X-PUBLISHED-TTL:PT1H
BEGIN:VTIMEZONE
TZID:America/New_York
BEGIN:DAYLIGHT
TZOFFSETFROM:-0500
TZOFFSETTO:-0400
TZNAME:EDT
DTSTART:20280312T070000
END:DAYLIGHT
BEGIN:STANDARD
TZOFFSETFROM:-0400
TZOFFSETTO:-0500
TZNAME:EST
DTSTART:20281105T060000
END:STANDARD
BEGIN:DAYLIGHT
TZOFFSETFROM:-0500
TZOFFSETTO:-0400
TZNAME:EDT
DTSTART:20290311T070000
END:DAYLIGHT
BEGIN:STANDARD
TZOFFSETFROM:-0400
TZOFFSETTO:-0500
TZNAME:EST
DTSTART:20291104T060000
END:STANDARD
BEGIN:DAYLIGHT
TZOFFSETFROM:-0500
TZOFFSETTO:-0400
TZNAME:EDT
DTSTART:20300310T070000
END:DAYLIGHT
BEGIN:STANDARD
TZOFFSETFROM:-0400
TZOFFSETTO:-0500
TZNAME:EST
DTSTART:20301103T060000
END:STANDARD
END:VTIMEZONE
BEGIN:VEVENT
DTSTART;TZID=America/New_York:20290903T093000
DTEND;TZID=America/New_York:20290903T170000
DTSTAMP:20260423T105025
CREATED:20260309T184803Z
LAST-MODIFIED:20260309T184803Z
UID:10006058-1883122200-1883149200@prebleseniorcenter.org
SUMMARY:Bible Study
DESCRIPTION:
URL:https://prebleseniorcenter.org/event/bible-study/2029-09-03/
CATEGORIES:Activities
END:VEVENT
BEGIN:VEVENT
DTSTART;TZID=America/New_York:20290903T110000
DTEND;TZID=America/New_York:20290903T120000
DTSTAMP:20260423T105025
CREATED:20260309T184935Z
LAST-MODIFIED:20260309T184935Z
UID:10006319-1883127600-1883131200@prebleseniorcenter.org
SUMMARY:Silver Sneakers
DESCRIPTION:
URL:https://prebleseniorcenter.org/event/silver-sneakers/2029-09-03/
CATEGORIES:Activities
END:VEVENT
BEGIN:VEVENT
DTSTART;TZID=America/New_York:20290903T133000
DTEND;TZID=America/New_York:20290903T143000
DTSTAMP:20260423T105025
CREATED:20260309T185310Z
LAST-MODIFIED:20260309T185310Z
UID:10006962-1883136600-1883140200@prebleseniorcenter.org
SUMMARY:Participant's Council
DESCRIPTION:
URL:https://prebleseniorcenter.org/event/participants-council/2029-09-03/
CATEGORIES:Activities
END:VEVENT
BEGIN:VEVENT
DTSTART;TZID=America/New_York:20290904T093000
DTEND;TZID=America/New_York:20290904T103000
DTSTAMP:20260423T105025
CREATED:20260309T185038Z
LAST-MODIFIED:20260309T185038Z
UID:10006580-1883208600-1883212200@prebleseniorcenter.org
SUMMARY:SAIL
DESCRIPTION:
URL:https://prebleseniorcenter.org/event/sail/2029-09-04/
CATEGORIES:On-Line Activities & Classes
END:VEVENT
BEGIN:VEVENT
DTSTART;TZID=America/New_York:20290904T110000
DTEND;TZID=America/New_York:20290904T120000
DTSTAMP:20260423T105025
CREATED:20260309T185121Z
LAST-MODIFIED:20260309T185121Z
UID:10006841-1883214000-1883217600@prebleseniorcenter.org
SUMMARY:Jedi Council
DESCRIPTION:
URL:https://prebleseniorcenter.org/event/jedi-council/2029-09-04/
CATEGORIES:Activities
END:VEVENT
BEGIN:VEVENT
DTSTART;TZID=America/New_York:20290910T093000
DTEND;TZID=America/New_York:20290910T170000
DTSTAMP:20260423T105025
CREATED:20260309T184803Z
LAST-MODIFIED:20260309T184803Z
UID:10006059-1883727000-1883754000@prebleseniorcenter.org
SUMMARY:Bible Study
DESCRIPTION:
URL:https://prebleseniorcenter.org/event/bible-study/2029-09-10/
CATEGORIES:Activities
END:VEVENT
BEGIN:VEVENT
DTSTART;TZID=America/New_York:20290910T110000
DTEND;TZID=America/New_York:20290910T120000
DTSTAMP:20260423T105025
CREATED:20260309T184935Z
LAST-MODIFIED:20260309T184935Z
UID:10006320-1883732400-1883736000@prebleseniorcenter.org
SUMMARY:Silver Sneakers
DESCRIPTION:
URL:https://prebleseniorcenter.org/event/silver-sneakers/2029-09-10/
CATEGORIES:Activities
END:VEVENT
BEGIN:VEVENT
DTSTART;TZID=America/New_York:20290911T093000
DTEND;TZID=America/New_York:20290911T103000
DTSTAMP:20260423T105025
CREATED:20260309T185038Z
LAST-MODIFIED:20260309T185038Z
UID:10006581-1883813400-1883817000@prebleseniorcenter.org
SUMMARY:SAIL
DESCRIPTION:
URL:https://prebleseniorcenter.org/event/sail/2029-09-11/
CATEGORIES:On-Line Activities & Classes
END:VEVENT
BEGIN:VEVENT
DTSTART;TZID=America/New_York:20290911T110000
DTEND;TZID=America/New_York:20290911T120000
DTSTAMP:20260423T105025
CREATED:20260309T185121Z
LAST-MODIFIED:20260309T185121Z
UID:10006842-1883818800-1883822400@prebleseniorcenter.org
SUMMARY:Jedi Council
DESCRIPTION:
URL:https://prebleseniorcenter.org/event/jedi-council/2029-09-11/
CATEGORIES:Activities
END:VEVENT
BEGIN:VEVENT
DTSTART;TZID=America/New_York:20290917T093000
DTEND;TZID=America/New_York:20290917T170000
DTSTAMP:20260423T105025
CREATED:20260309T184803Z
LAST-MODIFIED:20260309T184803Z
UID:10006060-1884331800-1884358800@prebleseniorcenter.org
SUMMARY:Bible Study
DESCRIPTION:
URL:https://prebleseniorcenter.org/event/bible-study/2029-09-17/
CATEGORIES:Activities
END:VEVENT
BEGIN:VEVENT
DTSTART;TZID=America/New_York:20290917T110000
DTEND;TZID=America/New_York:20290917T120000
DTSTAMP:20260423T105025
CREATED:20260309T184935Z
LAST-MODIFIED:20260309T184935Z
UID:10006321-1884337200-1884340800@prebleseniorcenter.org
SUMMARY:Silver Sneakers
DESCRIPTION:
URL:https://prebleseniorcenter.org/event/silver-sneakers/2029-09-17/
CATEGORIES:Activities
END:VEVENT
BEGIN:VEVENT
DTSTART;TZID=America/New_York:20290918T093000
DTEND;TZID=America/New_York:20290918T103000
DTSTAMP:20260423T105025
CREATED:20260309T185038Z
LAST-MODIFIED:20260309T185038Z
UID:10006582-1884418200-1884421800@prebleseniorcenter.org
SUMMARY:SAIL
DESCRIPTION:
URL:https://prebleseniorcenter.org/event/sail/2029-09-18/
CATEGORIES:On-Line Activities & Classes
END:VEVENT
BEGIN:VEVENT
DTSTART;TZID=America/New_York:20290918T110000
DTEND;TZID=America/New_York:20290918T120000
DTSTAMP:20260423T105025
CREATED:20260309T185121Z
LAST-MODIFIED:20260309T185121Z
UID:10006843-1884423600-1884427200@prebleseniorcenter.org
SUMMARY:Jedi Council
DESCRIPTION:
URL:https://prebleseniorcenter.org/event/jedi-council/2029-09-18/
CATEGORIES:Activities
END:VEVENT
BEGIN:VEVENT
DTSTART;TZID=America/New_York:20290924T093000
DTEND;TZID=America/New_York:20290924T170000
DTSTAMP:20260423T105025
CREATED:20260309T184803Z
LAST-MODIFIED:20260309T184803Z
UID:10006061-1884936600-1884963600@prebleseniorcenter.org
SUMMARY:Bible Study
DESCRIPTION:
URL:https://prebleseniorcenter.org/event/bible-study/2029-09-24/
CATEGORIES:Activities
END:VEVENT
BEGIN:VEVENT
DTSTART;TZID=America/New_York:20290924T110000
DTEND;TZID=America/New_York:20290924T120000
DTSTAMP:20260423T105025
CREATED:20260309T184935Z
LAST-MODIFIED:20260309T184935Z
UID:10006322-1884942000-1884945600@prebleseniorcenter.org
SUMMARY:Silver Sneakers
DESCRIPTION:
URL:https://prebleseniorcenter.org/event/silver-sneakers/2029-09-24/
CATEGORIES:Activities
END:VEVENT
BEGIN:VEVENT
DTSTART;TZID=America/New_York:20290925T093000
DTEND;TZID=America/New_York:20290925T103000
DTSTAMP:20260423T105025
CREATED:20260309T185038Z
LAST-MODIFIED:20260309T185038Z
UID:10006583-1885023000-1885026600@prebleseniorcenter.org
SUMMARY:SAIL
DESCRIPTION:
URL:https://prebleseniorcenter.org/event/sail/2029-09-25/
CATEGORIES:On-Line Activities & Classes
END:VEVENT
BEGIN:VEVENT
DTSTART;TZID=America/New_York:20290925T110000
DTEND;TZID=America/New_York:20290925T120000
DTSTAMP:20260423T105025
CREATED:20260309T185121Z
LAST-MODIFIED:20260309T185121Z
UID:10006844-1885028400-1885032000@prebleseniorcenter.org
SUMMARY:Jedi Council
DESCRIPTION:
URL:https://prebleseniorcenter.org/event/jedi-council/2029-09-25/
CATEGORIES:Activities
END:VEVENT
BEGIN:VEVENT
DTSTART;TZID=America/New_York:20290926T130000
DTEND;TZID=America/New_York:20290926T170000
DTSTAMP:20260423T105025
CREATED:20260309T185403Z
LAST-MODIFIED:20260309T185403Z
UID:10007023-1885122000-1885136400@prebleseniorcenter.org
SUMMARY:Retro Rackers again Oxford
DESCRIPTION:
URL:https://prebleseniorcenter.org/event/retro-rackers-again-oxford/2029-09-26/
CATEGORIES:Activities
END:VEVENT
BEGIN:VEVENT
DTSTART;TZID=America/New_York:20290928T100000
DTEND;TZID=America/New_York:20290928T120000
DTSTAMP:20260423T105025
CREATED:20260309T185453Z
LAST-MODIFIED:20260309T185453Z
UID:10007083-1885284000-1885291200@prebleseniorcenter.org
SUMMARY:Tech Support
DESCRIPTION:
URL:https://prebleseniorcenter.org/event/tech-support/2029-09-28/
CATEGORIES:Activities
END:VEVENT
END:VCALENDAR