BEGIN:VCALENDAR
VERSION:2.0
PRODID:-//Preble County Council on Aging - ECPv6.15.20//NONSGML v1.0//EN
CALSCALE:GREGORIAN
METHOD:PUBLISH
X-WR-CALNAME:Preble County Council on Aging
X-ORIGINAL-URL:https://prebleseniorcenter.org
X-WR-CALDESC:Events for Preble County Council on Aging
REFRESH-INTERVAL;VALUE=DURATION:PT1H
X-Robots-Tag:noindex
X-PUBLISHED-TTL:PT1H
BEGIN:VTIMEZONE
TZID:America/New_York
BEGIN:DAYLIGHT
TZOFFSETFROM:-0500
TZOFFSETTO:-0400
TZNAME:EDT
DTSTART:20280312T070000
END:DAYLIGHT
BEGIN:STANDARD
TZOFFSETFROM:-0400
TZOFFSETTO:-0500
TZNAME:EST
DTSTART:20281105T060000
END:STANDARD
BEGIN:DAYLIGHT
TZOFFSETFROM:-0500
TZOFFSETTO:-0400
TZNAME:EDT
DTSTART:20290311T070000
END:DAYLIGHT
BEGIN:STANDARD
TZOFFSETFROM:-0400
TZOFFSETTO:-0500
TZNAME:EST
DTSTART:20291104T060000
END:STANDARD
BEGIN:DAYLIGHT
TZOFFSETFROM:-0500
TZOFFSETTO:-0400
TZNAME:EDT
DTSTART:20300310T070000
END:DAYLIGHT
BEGIN:STANDARD
TZOFFSETFROM:-0400
TZOFFSETTO:-0500
TZNAME:EST
DTSTART:20301103T060000
END:STANDARD
END:VTIMEZONE
BEGIN:VEVENT
DTSTART;TZID=America/New_York:20290604T093000
DTEND;TZID=America/New_York:20290604T170000
DTSTAMP:20260423T060136
CREATED:20260309T184803Z
LAST-MODIFIED:20260309T184803Z
UID:10006045-1875259800-1875286800@prebleseniorcenter.org
SUMMARY:Bible Study
DESCRIPTION:
URL:https://prebleseniorcenter.org/event/bible-study/2029-06-04/
CATEGORIES:Activities
END:VEVENT
BEGIN:VEVENT
DTSTART;TZID=America/New_York:20290604T110000
DTEND;TZID=America/New_York:20290604T120000
DTSTAMP:20260423T060136
CREATED:20260309T184935Z
LAST-MODIFIED:20260309T184935Z
UID:10006306-1875265200-1875268800@prebleseniorcenter.org
SUMMARY:Silver Sneakers
DESCRIPTION:
URL:https://prebleseniorcenter.org/event/silver-sneakers/2029-06-04/
CATEGORIES:Activities
END:VEVENT
BEGIN:VEVENT
DTSTART;TZID=America/New_York:20290604T133000
DTEND;TZID=America/New_York:20290604T143000
DTSTAMP:20260423T060136
CREATED:20260309T185310Z
LAST-MODIFIED:20260309T185310Z
UID:10006959-1875274200-1875277800@prebleseniorcenter.org
SUMMARY:Participant's Council
DESCRIPTION:
URL:https://prebleseniorcenter.org/event/participants-council/2029-06-04/
CATEGORIES:Activities
END:VEVENT
BEGIN:VEVENT
DTSTART;TZID=America/New_York:20290605T093000
DTEND;TZID=America/New_York:20290605T103000
DTSTAMP:20260423T060136
CREATED:20260309T185038Z
LAST-MODIFIED:20260309T185038Z
UID:10006567-1875346200-1875349800@prebleseniorcenter.org
SUMMARY:SAIL
DESCRIPTION:
URL:https://prebleseniorcenter.org/event/sail/2029-06-05/
CATEGORIES:On-Line Activities & Classes
END:VEVENT
BEGIN:VEVENT
DTSTART;TZID=America/New_York:20290605T110000
DTEND;TZID=America/New_York:20290605T120000
DTSTAMP:20260423T060136
CREATED:20260309T185121Z
LAST-MODIFIED:20260309T185121Z
UID:10006828-1875351600-1875355200@prebleseniorcenter.org
SUMMARY:Jedi Council
DESCRIPTION:
URL:https://prebleseniorcenter.org/event/jedi-council/2029-06-05/
CATEGORIES:Activities
END:VEVENT
BEGIN:VEVENT
DTSTART;TZID=America/New_York:20290611T093000
DTEND;TZID=America/New_York:20290611T170000
DTSTAMP:20260423T060136
CREATED:20260309T184803Z
LAST-MODIFIED:20260309T184803Z
UID:10006046-1875864600-1875891600@prebleseniorcenter.org
SUMMARY:Bible Study
DESCRIPTION:
URL:https://prebleseniorcenter.org/event/bible-study/2029-06-11/
CATEGORIES:Activities
END:VEVENT
BEGIN:VEVENT
DTSTART;TZID=America/New_York:20290611T110000
DTEND;TZID=America/New_York:20290611T120000
DTSTAMP:20260423T060136
CREATED:20260309T184935Z
LAST-MODIFIED:20260309T184935Z
UID:10006307-1875870000-1875873600@prebleseniorcenter.org
SUMMARY:Silver Sneakers
DESCRIPTION:
URL:https://prebleseniorcenter.org/event/silver-sneakers/2029-06-11/
CATEGORIES:Activities
END:VEVENT
BEGIN:VEVENT
DTSTART;TZID=America/New_York:20290612T093000
DTEND;TZID=America/New_York:20290612T103000
DTSTAMP:20260423T060136
CREATED:20260309T185038Z
LAST-MODIFIED:20260309T185038Z
UID:10006568-1875951000-1875954600@prebleseniorcenter.org
SUMMARY:SAIL
DESCRIPTION:
URL:https://prebleseniorcenter.org/event/sail/2029-06-12/
CATEGORIES:On-Line Activities & Classes
END:VEVENT
BEGIN:VEVENT
DTSTART;TZID=America/New_York:20290612T110000
DTEND;TZID=America/New_York:20290612T120000
DTSTAMP:20260423T060136
CREATED:20260309T185121Z
LAST-MODIFIED:20260309T185121Z
UID:10006829-1875956400-1875960000@prebleseniorcenter.org
SUMMARY:Jedi Council
DESCRIPTION:
URL:https://prebleseniorcenter.org/event/jedi-council/2029-06-12/
CATEGORIES:Activities
END:VEVENT
BEGIN:VEVENT
DTSTART;TZID=America/New_York:20290618T093000
DTEND;TZID=America/New_York:20290618T170000
DTSTAMP:20260423T060136
CREATED:20260309T184803Z
LAST-MODIFIED:20260309T184803Z
UID:10006047-1876469400-1876496400@prebleseniorcenter.org
SUMMARY:Bible Study
DESCRIPTION:
URL:https://prebleseniorcenter.org/event/bible-study/2029-06-18/
CATEGORIES:Activities
END:VEVENT
BEGIN:VEVENT
DTSTART;TZID=America/New_York:20290618T110000
DTEND;TZID=America/New_York:20290618T120000
DTSTAMP:20260423T060136
CREATED:20260309T184935Z
LAST-MODIFIED:20260309T184935Z
UID:10006308-1876474800-1876478400@prebleseniorcenter.org
SUMMARY:Silver Sneakers
DESCRIPTION:
URL:https://prebleseniorcenter.org/event/silver-sneakers/2029-06-18/
CATEGORIES:Activities
END:VEVENT
BEGIN:VEVENT
DTSTART;TZID=America/New_York:20290619T093000
DTEND;TZID=America/New_York:20290619T103000
DTSTAMP:20260423T060136
CREATED:20260309T185038Z
LAST-MODIFIED:20260309T185038Z
UID:10006569-1876555800-1876559400@prebleseniorcenter.org
SUMMARY:SAIL
DESCRIPTION:
URL:https://prebleseniorcenter.org/event/sail/2029-06-19/
CATEGORIES:On-Line Activities & Classes
END:VEVENT
BEGIN:VEVENT
DTSTART;TZID=America/New_York:20290619T110000
DTEND;TZID=America/New_York:20290619T120000
DTSTAMP:20260423T060136
CREATED:20260309T185121Z
LAST-MODIFIED:20260309T185121Z
UID:10006830-1876561200-1876564800@prebleseniorcenter.org
SUMMARY:Jedi Council
DESCRIPTION:
URL:https://prebleseniorcenter.org/event/jedi-council/2029-06-19/
CATEGORIES:Activities
END:VEVENT
BEGIN:VEVENT
DTSTART;TZID=America/New_York:20290622T100000
DTEND;TZID=America/New_York:20290622T120000
DTSTAMP:20260423T060136
CREATED:20260309T185453Z
LAST-MODIFIED:20260309T185453Z
UID:10007080-1876816800-1876824000@prebleseniorcenter.org
SUMMARY:Tech Support
DESCRIPTION:
URL:https://prebleseniorcenter.org/event/tech-support/2029-06-22/
CATEGORIES:Activities
END:VEVENT
BEGIN:VEVENT
DTSTART;TZID=America/New_York:20290625T093000
DTEND;TZID=America/New_York:20290625T170000
DTSTAMP:20260423T060136
CREATED:20260309T184803Z
LAST-MODIFIED:20260309T184803Z
UID:10006048-1877074200-1877101200@prebleseniorcenter.org
SUMMARY:Bible Study
DESCRIPTION:
URL:https://prebleseniorcenter.org/event/bible-study/2029-06-25/
CATEGORIES:Activities
END:VEVENT
BEGIN:VEVENT
DTSTART;TZID=America/New_York:20290625T110000
DTEND;TZID=America/New_York:20290625T120000
DTSTAMP:20260423T060136
CREATED:20260309T184935Z
LAST-MODIFIED:20260309T184935Z
UID:10006309-1877079600-1877083200@prebleseniorcenter.org
SUMMARY:Silver Sneakers
DESCRIPTION:
URL:https://prebleseniorcenter.org/event/silver-sneakers/2029-06-25/
CATEGORIES:Activities
END:VEVENT
BEGIN:VEVENT
DTSTART;TZID=America/New_York:20290626T093000
DTEND;TZID=America/New_York:20290626T103000
DTSTAMP:20260423T060136
CREATED:20260309T185038Z
LAST-MODIFIED:20260309T185038Z
UID:10006570-1877160600-1877164200@prebleseniorcenter.org
SUMMARY:SAIL
DESCRIPTION:
URL:https://prebleseniorcenter.org/event/sail/2029-06-26/
CATEGORIES:On-Line Activities & Classes
END:VEVENT
BEGIN:VEVENT
DTSTART;TZID=America/New_York:20290626T110000
DTEND;TZID=America/New_York:20290626T120000
DTSTAMP:20260423T060136
CREATED:20260309T185121Z
LAST-MODIFIED:20260309T185121Z
UID:10006831-1877166000-1877169600@prebleseniorcenter.org
SUMMARY:Jedi Council
DESCRIPTION:
URL:https://prebleseniorcenter.org/event/jedi-council/2029-06-26/
CATEGORIES:Activities
END:VEVENT
BEGIN:VEVENT
DTSTART;TZID=America/New_York:20290627T130000
DTEND;TZID=America/New_York:20290627T170000
DTSTAMP:20260423T060136
CREATED:20260309T185403Z
LAST-MODIFIED:20260309T185403Z
UID:10007020-1877259600-1877274000@prebleseniorcenter.org
SUMMARY:Retro Rackers again Oxford
DESCRIPTION:
URL:https://prebleseniorcenter.org/event/retro-rackers-again-oxford/2029-06-27/
CATEGORIES:Activities
END:VEVENT
END:VCALENDAR