BEGIN:VCALENDAR
VERSION:2.0
PRODID:-//Preble County Council on Aging - ECPv6.15.20//NONSGML v1.0//EN
CALSCALE:GREGORIAN
METHOD:PUBLISH
X-WR-CALNAME:Preble County Council on Aging
X-ORIGINAL-URL:https://prebleseniorcenter.org
X-WR-CALDESC:Events for Preble County Council on Aging
REFRESH-INTERVAL;VALUE=DURATION:PT1H
X-Robots-Tag:noindex
X-PUBLISHED-TTL:PT1H
BEGIN:VTIMEZONE
TZID:America/New_York
BEGIN:DAYLIGHT
TZOFFSETFROM:-0500
TZOFFSETTO:-0400
TZNAME:EDT
DTSTART:20280312T070000
END:DAYLIGHT
BEGIN:STANDARD
TZOFFSETFROM:-0400
TZOFFSETTO:-0500
TZNAME:EST
DTSTART:20281105T060000
END:STANDARD
BEGIN:DAYLIGHT
TZOFFSETFROM:-0500
TZOFFSETTO:-0400
TZNAME:EDT
DTSTART:20290311T070000
END:DAYLIGHT
BEGIN:STANDARD
TZOFFSETFROM:-0400
TZOFFSETTO:-0500
TZNAME:EST
DTSTART:20291104T060000
END:STANDARD
BEGIN:DAYLIGHT
TZOFFSETFROM:-0500
TZOFFSETTO:-0400
TZNAME:EDT
DTSTART:20300310T070000
END:DAYLIGHT
BEGIN:STANDARD
TZOFFSETFROM:-0400
TZOFFSETTO:-0500
TZNAME:EST
DTSTART:20301103T060000
END:STANDARD
END:VTIMEZONE
BEGIN:VEVENT
DTSTART;TZID=America/New_York:20290501T093000
DTEND;TZID=America/New_York:20290501T103000
DTSTAMP:20260423T043546
CREATED:20260309T185038Z
LAST-MODIFIED:20260309T185038Z
UID:10006562-1872322200-1872325800@prebleseniorcenter.org
SUMMARY:SAIL
DESCRIPTION:
URL:https://prebleseniorcenter.org/event/sail/2029-05-01/
CATEGORIES:On-Line Activities & Classes
END:VEVENT
BEGIN:VEVENT
DTSTART;TZID=America/New_York:20290501T110000
DTEND;TZID=America/New_York:20290501T120000
DTSTAMP:20260423T043546
CREATED:20260309T185121Z
LAST-MODIFIED:20260309T185121Z
UID:10006823-1872327600-1872331200@prebleseniorcenter.org
SUMMARY:Jedi Council
DESCRIPTION:
URL:https://prebleseniorcenter.org/event/jedi-council/2029-05-01/
CATEGORIES:Activities
END:VEVENT
BEGIN:VEVENT
DTSTART;TZID=America/New_York:20290507T093000
DTEND;TZID=America/New_York:20290507T170000
DTSTAMP:20260423T043546
CREATED:20260309T184803Z
LAST-MODIFIED:20260309T184803Z
UID:10006041-1872840600-1872867600@prebleseniorcenter.org
SUMMARY:Bible Study
DESCRIPTION:
URL:https://prebleseniorcenter.org/event/bible-study/2029-05-07/
CATEGORIES:Activities
END:VEVENT
BEGIN:VEVENT
DTSTART;TZID=America/New_York:20290507T110000
DTEND;TZID=America/New_York:20290507T120000
DTSTAMP:20260423T043546
CREATED:20260309T184935Z
LAST-MODIFIED:20260309T184935Z
UID:10006302-1872846000-1872849600@prebleseniorcenter.org
SUMMARY:Silver Sneakers
DESCRIPTION:
URL:https://prebleseniorcenter.org/event/silver-sneakers/2029-05-07/
CATEGORIES:Activities
END:VEVENT
BEGIN:VEVENT
DTSTART;TZID=America/New_York:20290507T133000
DTEND;TZID=America/New_York:20290507T143000
DTSTAMP:20260423T043546
CREATED:20260309T185310Z
LAST-MODIFIED:20260309T185310Z
UID:10006958-1872855000-1872858600@prebleseniorcenter.org
SUMMARY:Participant's Council
DESCRIPTION:
URL:https://prebleseniorcenter.org/event/participants-council/2029-05-07/
CATEGORIES:Activities
END:VEVENT
BEGIN:VEVENT
DTSTART;TZID=America/New_York:20290508T093000
DTEND;TZID=America/New_York:20290508T103000
DTSTAMP:20260423T043546
CREATED:20260309T185038Z
LAST-MODIFIED:20260309T185038Z
UID:10006563-1872927000-1872930600@prebleseniorcenter.org
SUMMARY:SAIL
DESCRIPTION:
URL:https://prebleseniorcenter.org/event/sail/2029-05-08/
CATEGORIES:On-Line Activities & Classes
END:VEVENT
BEGIN:VEVENT
DTSTART;TZID=America/New_York:20290508T110000
DTEND;TZID=America/New_York:20290508T120000
DTSTAMP:20260423T043546
CREATED:20260309T185121Z
LAST-MODIFIED:20260309T185121Z
UID:10006824-1872932400-1872936000@prebleseniorcenter.org
SUMMARY:Jedi Council
DESCRIPTION:
URL:https://prebleseniorcenter.org/event/jedi-council/2029-05-08/
CATEGORIES:Activities
END:VEVENT
BEGIN:VEVENT
DTSTART;TZID=America/New_York:20290514T093000
DTEND;TZID=America/New_York:20290514T170000
DTSTAMP:20260423T043546
CREATED:20260309T184803Z
LAST-MODIFIED:20260309T184803Z
UID:10006042-1873445400-1873472400@prebleseniorcenter.org
SUMMARY:Bible Study
DESCRIPTION:
URL:https://prebleseniorcenter.org/event/bible-study/2029-05-14/
CATEGORIES:Activities
END:VEVENT
BEGIN:VEVENT
DTSTART;TZID=America/New_York:20290514T110000
DTEND;TZID=America/New_York:20290514T120000
DTSTAMP:20260423T043546
CREATED:20260309T184935Z
LAST-MODIFIED:20260309T184935Z
UID:10006303-1873450800-1873454400@prebleseniorcenter.org
SUMMARY:Silver Sneakers
DESCRIPTION:
URL:https://prebleseniorcenter.org/event/silver-sneakers/2029-05-14/
CATEGORIES:Activities
END:VEVENT
BEGIN:VEVENT
DTSTART;TZID=America/New_York:20290515T093000
DTEND;TZID=America/New_York:20290515T103000
DTSTAMP:20260423T043546
CREATED:20260309T185038Z
LAST-MODIFIED:20260309T185038Z
UID:10006564-1873531800-1873535400@prebleseniorcenter.org
SUMMARY:SAIL
DESCRIPTION:
URL:https://prebleseniorcenter.org/event/sail/2029-05-15/
CATEGORIES:On-Line Activities & Classes
END:VEVENT
BEGIN:VEVENT
DTSTART;TZID=America/New_York:20290515T110000
DTEND;TZID=America/New_York:20290515T120000
DTSTAMP:20260423T043546
CREATED:20260309T185121Z
LAST-MODIFIED:20260309T185121Z
UID:10006825-1873537200-1873540800@prebleseniorcenter.org
SUMMARY:Jedi Council
DESCRIPTION:
URL:https://prebleseniorcenter.org/event/jedi-council/2029-05-15/
CATEGORIES:Activities
END:VEVENT
BEGIN:VEVENT
DTSTART;TZID=America/New_York:20290521T093000
DTEND;TZID=America/New_York:20290521T170000
DTSTAMP:20260423T043546
CREATED:20260309T184803Z
LAST-MODIFIED:20260309T184803Z
UID:10006043-1874050200-1874077200@prebleseniorcenter.org
SUMMARY:Bible Study
DESCRIPTION:
URL:https://prebleseniorcenter.org/event/bible-study/2029-05-21/
CATEGORIES:Activities
END:VEVENT
BEGIN:VEVENT
DTSTART;TZID=America/New_York:20290521T110000
DTEND;TZID=America/New_York:20290521T120000
DTSTAMP:20260423T043546
CREATED:20260309T184935Z
LAST-MODIFIED:20260309T184935Z
UID:10006304-1874055600-1874059200@prebleseniorcenter.org
SUMMARY:Silver Sneakers
DESCRIPTION:
URL:https://prebleseniorcenter.org/event/silver-sneakers/2029-05-21/
CATEGORIES:Activities
END:VEVENT
BEGIN:VEVENT
DTSTART;TZID=America/New_York:20290522T093000
DTEND;TZID=America/New_York:20290522T103000
DTSTAMP:20260423T043546
CREATED:20260309T185038Z
LAST-MODIFIED:20260309T185038Z
UID:10006565-1874136600-1874140200@prebleseniorcenter.org
SUMMARY:SAIL
DESCRIPTION:
URL:https://prebleseniorcenter.org/event/sail/2029-05-22/
CATEGORIES:On-Line Activities & Classes
END:VEVENT
BEGIN:VEVENT
DTSTART;TZID=America/New_York:20290522T110000
DTEND;TZID=America/New_York:20290522T120000
DTSTAMP:20260423T043546
CREATED:20260309T185121Z
LAST-MODIFIED:20260309T185121Z
UID:10006826-1874142000-1874145600@prebleseniorcenter.org
SUMMARY:Jedi Council
DESCRIPTION:
URL:https://prebleseniorcenter.org/event/jedi-council/2029-05-22/
CATEGORIES:Activities
END:VEVENT
BEGIN:VEVENT
DTSTART;TZID=America/New_York:20290523T130000
DTEND;TZID=America/New_York:20290523T170000
DTSTAMP:20260423T043546
CREATED:20260309T185403Z
LAST-MODIFIED:20260309T185403Z
UID:10007019-1874235600-1874250000@prebleseniorcenter.org
SUMMARY:Retro Rackers again Oxford
DESCRIPTION:
URL:https://prebleseniorcenter.org/event/retro-rackers-again-oxford/2029-05-23/
CATEGORIES:Activities
END:VEVENT
BEGIN:VEVENT
DTSTART;TZID=America/New_York:20290525T100000
DTEND;TZID=America/New_York:20290525T120000
DTSTAMP:20260423T043546
CREATED:20260309T185453Z
LAST-MODIFIED:20260309T185453Z
UID:10007079-1874397600-1874404800@prebleseniorcenter.org
SUMMARY:Tech Support
DESCRIPTION:
URL:https://prebleseniorcenter.org/event/tech-support/2029-05-25/
CATEGORIES:Activities
END:VEVENT
BEGIN:VEVENT
DTSTART;TZID=America/New_York:20290528T093000
DTEND;TZID=America/New_York:20290528T170000
DTSTAMP:20260423T043546
CREATED:20260309T184803Z
LAST-MODIFIED:20260309T184803Z
UID:10006044-1874655000-1874682000@prebleseniorcenter.org
SUMMARY:Bible Study
DESCRIPTION:
URL:https://prebleseniorcenter.org/event/bible-study/2029-05-28/
CATEGORIES:Activities
END:VEVENT
BEGIN:VEVENT
DTSTART;TZID=America/New_York:20290528T110000
DTEND;TZID=America/New_York:20290528T120000
DTSTAMP:20260423T043546
CREATED:20260309T184935Z
LAST-MODIFIED:20260309T184935Z
UID:10006305-1874660400-1874664000@prebleseniorcenter.org
SUMMARY:Silver Sneakers
DESCRIPTION:
URL:https://prebleseniorcenter.org/event/silver-sneakers/2029-05-28/
CATEGORIES:Activities
END:VEVENT
BEGIN:VEVENT
DTSTART;TZID=America/New_York:20290529T093000
DTEND;TZID=America/New_York:20290529T103000
DTSTAMP:20260423T043546
CREATED:20260309T185038Z
LAST-MODIFIED:20260309T185038Z
UID:10006566-1874741400-1874745000@prebleseniorcenter.org
SUMMARY:SAIL
DESCRIPTION:
URL:https://prebleseniorcenter.org/event/sail/2029-05-29/
CATEGORIES:On-Line Activities & Classes
END:VEVENT
BEGIN:VEVENT
DTSTART;TZID=America/New_York:20290529T110000
DTEND;TZID=America/New_York:20290529T120000
DTSTAMP:20260423T043546
CREATED:20260309T185121Z
LAST-MODIFIED:20260309T185121Z
UID:10006827-1874746800-1874750400@prebleseniorcenter.org
SUMMARY:Jedi Council
DESCRIPTION:
URL:https://prebleseniorcenter.org/event/jedi-council/2029-05-29/
CATEGORIES:Activities
END:VEVENT
END:VCALENDAR