BEGIN:VCALENDAR
VERSION:2.0
PRODID:-//Preble County Council on Aging - ECPv6.15.20//NONSGML v1.0//EN
CALSCALE:GREGORIAN
METHOD:PUBLISH
X-WR-CALNAME:Preble County Council on Aging
X-ORIGINAL-URL:https://prebleseniorcenter.org
X-WR-CALDESC:Events for Preble County Council on Aging
REFRESH-INTERVAL;VALUE=DURATION:PT1H
X-Robots-Tag:noindex
X-PUBLISHED-TTL:PT1H
BEGIN:VTIMEZONE
TZID:America/New_York
BEGIN:DAYLIGHT
TZOFFSETFROM:-0500
TZOFFSETTO:-0400
TZNAME:EDT
DTSTART:20280312T070000
END:DAYLIGHT
BEGIN:STANDARD
TZOFFSETFROM:-0400
TZOFFSETTO:-0500
TZNAME:EST
DTSTART:20281105T060000
END:STANDARD
BEGIN:DAYLIGHT
TZOFFSETFROM:-0500
TZOFFSETTO:-0400
TZNAME:EDT
DTSTART:20290311T070000
END:DAYLIGHT
BEGIN:STANDARD
TZOFFSETFROM:-0400
TZOFFSETTO:-0500
TZNAME:EST
DTSTART:20291104T060000
END:STANDARD
BEGIN:DAYLIGHT
TZOFFSETFROM:-0500
TZOFFSETTO:-0400
TZNAME:EDT
DTSTART:20300310T070000
END:DAYLIGHT
BEGIN:STANDARD
TZOFFSETFROM:-0400
TZOFFSETTO:-0500
TZNAME:EST
DTSTART:20301103T060000
END:STANDARD
END:VTIMEZONE
BEGIN:VEVENT
DTSTART;TZID=America/New_York:20290305T093000
DTEND;TZID=America/New_York:20290305T170000
DTSTAMP:20260423T012758
CREATED:20260309T184803Z
LAST-MODIFIED:20260309T184803Z
UID:10006032-1867397400-1867424400@prebleseniorcenter.org
SUMMARY:Bible Study
DESCRIPTION:
URL:https://prebleseniorcenter.org/event/bible-study/2029-03-05/
CATEGORIES:Activities
END:VEVENT
BEGIN:VEVENT
DTSTART;TZID=America/New_York:20290305T110000
DTEND;TZID=America/New_York:20290305T120000
DTSTAMP:20260423T012758
CREATED:20260309T184935Z
LAST-MODIFIED:20260309T184935Z
UID:10006293-1867402800-1867406400@prebleseniorcenter.org
SUMMARY:Silver Sneakers
DESCRIPTION:
URL:https://prebleseniorcenter.org/event/silver-sneakers/2029-03-05/
CATEGORIES:Activities
END:VEVENT
BEGIN:VEVENT
DTSTART;TZID=America/New_York:20290305T133000
DTEND;TZID=America/New_York:20290305T143000
DTSTAMP:20260423T012758
CREATED:20260309T185310Z
LAST-MODIFIED:20260309T185310Z
UID:10006956-1867411800-1867415400@prebleseniorcenter.org
SUMMARY:Participant's Council
DESCRIPTION:
URL:https://prebleseniorcenter.org/event/participants-council/2029-03-05/
CATEGORIES:Activities
END:VEVENT
BEGIN:VEVENT
DTSTART;TZID=America/New_York:20290306T093000
DTEND;TZID=America/New_York:20290306T103000
DTSTAMP:20260423T012758
CREATED:20260309T185038Z
LAST-MODIFIED:20260309T185038Z
UID:10006554-1867483800-1867487400@prebleseniorcenter.org
SUMMARY:SAIL
DESCRIPTION:
URL:https://prebleseniorcenter.org/event/sail/2029-03-06/
CATEGORIES:On-Line Activities & Classes
END:VEVENT
BEGIN:VEVENT
DTSTART;TZID=America/New_York:20290306T110000
DTEND;TZID=America/New_York:20290306T120000
DTSTAMP:20260423T012758
CREATED:20260309T185121Z
LAST-MODIFIED:20260309T185121Z
UID:10006815-1867489200-1867492800@prebleseniorcenter.org
SUMMARY:Jedi Council
DESCRIPTION:
URL:https://prebleseniorcenter.org/event/jedi-council/2029-03-06/
CATEGORIES:Activities
END:VEVENT
BEGIN:VEVENT
DTSTART;TZID=America/New_York:20290312T093000
DTEND;TZID=America/New_York:20290312T170000
DTSTAMP:20260423T012758
CREATED:20260309T184803Z
LAST-MODIFIED:20260309T184803Z
UID:10006033-1868002200-1868029200@prebleseniorcenter.org
SUMMARY:Bible Study
DESCRIPTION:
URL:https://prebleseniorcenter.org/event/bible-study/2029-03-12/
CATEGORIES:Activities
END:VEVENT
BEGIN:VEVENT
DTSTART;TZID=America/New_York:20290312T110000
DTEND;TZID=America/New_York:20290312T120000
DTSTAMP:20260423T012758
CREATED:20260309T184935Z
LAST-MODIFIED:20260309T184935Z
UID:10006294-1868007600-1868011200@prebleseniorcenter.org
SUMMARY:Silver Sneakers
DESCRIPTION:
URL:https://prebleseniorcenter.org/event/silver-sneakers/2029-03-12/
CATEGORIES:Activities
END:VEVENT
BEGIN:VEVENT
DTSTART;TZID=America/New_York:20290313T093000
DTEND;TZID=America/New_York:20290313T103000
DTSTAMP:20260423T012758
CREATED:20260309T185038Z
LAST-MODIFIED:20260309T185038Z
UID:10006555-1868088600-1868092200@prebleseniorcenter.org
SUMMARY:SAIL
DESCRIPTION:
URL:https://prebleseniorcenter.org/event/sail/2029-03-13/
CATEGORIES:On-Line Activities & Classes
END:VEVENT
BEGIN:VEVENT
DTSTART;TZID=America/New_York:20290313T110000
DTEND;TZID=America/New_York:20290313T120000
DTSTAMP:20260423T012758
CREATED:20260309T185121Z
LAST-MODIFIED:20260309T185121Z
UID:10006816-1868094000-1868097600@prebleseniorcenter.org
SUMMARY:Jedi Council
DESCRIPTION:
URL:https://prebleseniorcenter.org/event/jedi-council/2029-03-13/
CATEGORIES:Activities
END:VEVENT
BEGIN:VEVENT
DTSTART;TZID=America/New_York:20290319T093000
DTEND;TZID=America/New_York:20290319T170000
DTSTAMP:20260423T012758
CREATED:20260309T184803Z
LAST-MODIFIED:20260309T184803Z
UID:10006034-1868607000-1868634000@prebleseniorcenter.org
SUMMARY:Bible Study
DESCRIPTION:
URL:https://prebleseniorcenter.org/event/bible-study/2029-03-19/
CATEGORIES:Activities
END:VEVENT
BEGIN:VEVENT
DTSTART;TZID=America/New_York:20290319T110000
DTEND;TZID=America/New_York:20290319T120000
DTSTAMP:20260423T012758
CREATED:20260309T184935Z
LAST-MODIFIED:20260309T184935Z
UID:10006295-1868612400-1868616000@prebleseniorcenter.org
SUMMARY:Silver Sneakers
DESCRIPTION:
URL:https://prebleseniorcenter.org/event/silver-sneakers/2029-03-19/
CATEGORIES:Activities
END:VEVENT
BEGIN:VEVENT
DTSTART;TZID=America/New_York:20290320T093000
DTEND;TZID=America/New_York:20290320T103000
DTSTAMP:20260423T012758
CREATED:20260309T185038Z
LAST-MODIFIED:20260309T185038Z
UID:10006556-1868693400-1868697000@prebleseniorcenter.org
SUMMARY:SAIL
DESCRIPTION:
URL:https://prebleseniorcenter.org/event/sail/2029-03-20/
CATEGORIES:On-Line Activities & Classes
END:VEVENT
BEGIN:VEVENT
DTSTART;TZID=America/New_York:20290320T110000
DTEND;TZID=America/New_York:20290320T120000
DTSTAMP:20260423T012758
CREATED:20260309T185121Z
LAST-MODIFIED:20260309T185121Z
UID:10006817-1868698800-1868702400@prebleseniorcenter.org
SUMMARY:Jedi Council
DESCRIPTION:
URL:https://prebleseniorcenter.org/event/jedi-council/2029-03-20/
CATEGORIES:Activities
END:VEVENT
BEGIN:VEVENT
DTSTART;TZID=America/New_York:20290323T100000
DTEND;TZID=America/New_York:20290323T120000
DTSTAMP:20260423T012758
CREATED:20260309T185453Z
LAST-MODIFIED:20260309T185453Z
UID:10007077-1868954400-1868961600@prebleseniorcenter.org
SUMMARY:Tech Support
DESCRIPTION:
URL:https://prebleseniorcenter.org/event/tech-support/2029-03-23/
CATEGORIES:Activities
END:VEVENT
BEGIN:VEVENT
DTSTART;TZID=America/New_York:20290326T093000
DTEND;TZID=America/New_York:20290326T170000
DTSTAMP:20260423T012758
CREATED:20260309T184803Z
LAST-MODIFIED:20260309T184803Z
UID:10006035-1869211800-1869238800@prebleseniorcenter.org
SUMMARY:Bible Study
DESCRIPTION:
URL:https://prebleseniorcenter.org/event/bible-study/2029-03-26/
CATEGORIES:Activities
END:VEVENT
BEGIN:VEVENT
DTSTART;TZID=America/New_York:20290326T110000
DTEND;TZID=America/New_York:20290326T120000
DTSTAMP:20260423T012758
CREATED:20260309T184935Z
LAST-MODIFIED:20260309T184935Z
UID:10006296-1869217200-1869220800@prebleseniorcenter.org
SUMMARY:Silver Sneakers
DESCRIPTION:
URL:https://prebleseniorcenter.org/event/silver-sneakers/2029-03-26/
CATEGORIES:Activities
END:VEVENT
BEGIN:VEVENT
DTSTART;TZID=America/New_York:20290327T093000
DTEND;TZID=America/New_York:20290327T103000
DTSTAMP:20260423T012758
CREATED:20260309T185038Z
LAST-MODIFIED:20260309T185038Z
UID:10006557-1869298200-1869301800@prebleseniorcenter.org
SUMMARY:SAIL
DESCRIPTION:
URL:https://prebleseniorcenter.org/event/sail/2029-03-27/
CATEGORIES:On-Line Activities & Classes
END:VEVENT
BEGIN:VEVENT
DTSTART;TZID=America/New_York:20290327T110000
DTEND;TZID=America/New_York:20290327T120000
DTSTAMP:20260423T012758
CREATED:20260309T185121Z
LAST-MODIFIED:20260309T185121Z
UID:10006818-1869303600-1869307200@prebleseniorcenter.org
SUMMARY:Jedi Council
DESCRIPTION:
URL:https://prebleseniorcenter.org/event/jedi-council/2029-03-27/
CATEGORIES:Activities
END:VEVENT
BEGIN:VEVENT
DTSTART;TZID=America/New_York:20290328T130000
DTEND;TZID=America/New_York:20290328T170000
DTSTAMP:20260423T012758
CREATED:20260309T185403Z
LAST-MODIFIED:20260309T185403Z
UID:10007017-1869397200-1869411600@prebleseniorcenter.org
SUMMARY:Retro Rackers again Oxford
DESCRIPTION:
URL:https://prebleseniorcenter.org/event/retro-rackers-again-oxford/2029-03-28/
CATEGORIES:Activities
END:VEVENT
END:VCALENDAR