BEGIN:VCALENDAR
VERSION:2.0
PRODID:-//Preble County Council on Aging - ECPv6.15.20//NONSGML v1.0//EN
CALSCALE:GREGORIAN
METHOD:PUBLISH
X-WR-CALNAME:Preble County Council on Aging
X-ORIGINAL-URL:https://prebleseniorcenter.org
X-WR-CALDESC:Events for Preble County Council on Aging
REFRESH-INTERVAL;VALUE=DURATION:PT1H
X-Robots-Tag:noindex
X-PUBLISHED-TTL:PT1H
BEGIN:VTIMEZONE
TZID:America/New_York
BEGIN:DAYLIGHT
TZOFFSETFROM:-0500
TZOFFSETTO:-0400
TZNAME:EDT
DTSTART:20270314T070000
END:DAYLIGHT
BEGIN:STANDARD
TZOFFSETFROM:-0400
TZOFFSETTO:-0500
TZNAME:EST
DTSTART:20271107T060000
END:STANDARD
BEGIN:DAYLIGHT
TZOFFSETFROM:-0500
TZOFFSETTO:-0400
TZNAME:EDT
DTSTART:20280312T070000
END:DAYLIGHT
BEGIN:STANDARD
TZOFFSETFROM:-0400
TZOFFSETTO:-0500
TZNAME:EST
DTSTART:20281105T060000
END:STANDARD
BEGIN:DAYLIGHT
TZOFFSETFROM:-0500
TZOFFSETTO:-0400
TZNAME:EDT
DTSTART:20290311T070000
END:DAYLIGHT
BEGIN:STANDARD
TZOFFSETFROM:-0400
TZOFFSETTO:-0500
TZNAME:EST
DTSTART:20291104T060000
END:STANDARD
END:VTIMEZONE
BEGIN:VEVENT
DTSTART;TZID=America/New_York:20281106T093000
DTEND;TZID=America/New_York:20281106T170000
DTSTAMP:20260422T193255
CREATED:20260309T184803Z
LAST-MODIFIED:20260309T184803Z
UID:10006015-1857115800-1857142800@prebleseniorcenter.org
SUMMARY:Bible Study
DESCRIPTION:
URL:https://prebleseniorcenter.org/event/bible-study/2028-11-06/
CATEGORIES:Activities
END:VEVENT
BEGIN:VEVENT
DTSTART;TZID=America/New_York:20281106T110000
DTEND;TZID=America/New_York:20281106T120000
DTSTAMP:20260422T193255
CREATED:20260309T184935Z
LAST-MODIFIED:20260309T184935Z
UID:10006276-1857121200-1857124800@prebleseniorcenter.org
SUMMARY:Silver Sneakers
DESCRIPTION:
URL:https://prebleseniorcenter.org/event/silver-sneakers/2028-11-06/
CATEGORIES:Activities
END:VEVENT
BEGIN:VEVENT
DTSTART;TZID=America/New_York:20281106T133000
DTEND;TZID=America/New_York:20281106T143000
DTSTAMP:20260422T193255
CREATED:20260309T185310Z
LAST-MODIFIED:20260309T185310Z
UID:10006952-1857130200-1857133800@prebleseniorcenter.org
SUMMARY:Participant's Council
DESCRIPTION:
URL:https://prebleseniorcenter.org/event/participants-council/2028-11-06/
CATEGORIES:Activities
END:VEVENT
BEGIN:VEVENT
DTSTART;TZID=America/New_York:20281107T093000
DTEND;TZID=America/New_York:20281107T103000
DTSTAMP:20260422T193255
CREATED:20260309T185038Z
LAST-MODIFIED:20260309T185038Z
UID:10006537-1857202200-1857205800@prebleseniorcenter.org
SUMMARY:SAIL
DESCRIPTION:
URL:https://prebleseniorcenter.org/event/sail/2028-11-07/
CATEGORIES:On-Line Activities & Classes
END:VEVENT
BEGIN:VEVENT
DTSTART;TZID=America/New_York:20281107T110000
DTEND;TZID=America/New_York:20281107T120000
DTSTAMP:20260422T193255
CREATED:20260309T185121Z
LAST-MODIFIED:20260309T185121Z
UID:10006798-1857207600-1857211200@prebleseniorcenter.org
SUMMARY:Jedi Council
DESCRIPTION:
URL:https://prebleseniorcenter.org/event/jedi-council/2028-11-07/
CATEGORIES:Activities
END:VEVENT
BEGIN:VEVENT
DTSTART;TZID=America/New_York:20281113T093000
DTEND;TZID=America/New_York:20281113T170000
DTSTAMP:20260422T193255
CREATED:20260309T184803Z
LAST-MODIFIED:20260309T184803Z
UID:10006016-1857720600-1857747600@prebleseniorcenter.org
SUMMARY:Bible Study
DESCRIPTION:
URL:https://prebleseniorcenter.org/event/bible-study/2028-11-13/
CATEGORIES:Activities
END:VEVENT
BEGIN:VEVENT
DTSTART;TZID=America/New_York:20281113T110000
DTEND;TZID=America/New_York:20281113T120000
DTSTAMP:20260422T193255
CREATED:20260309T184935Z
LAST-MODIFIED:20260309T184935Z
UID:10006277-1857726000-1857729600@prebleseniorcenter.org
SUMMARY:Silver Sneakers
DESCRIPTION:
URL:https://prebleseniorcenter.org/event/silver-sneakers/2028-11-13/
CATEGORIES:Activities
END:VEVENT
BEGIN:VEVENT
DTSTART;TZID=America/New_York:20281114T093000
DTEND;TZID=America/New_York:20281114T103000
DTSTAMP:20260422T193255
CREATED:20260309T185038Z
LAST-MODIFIED:20260309T185038Z
UID:10006538-1857807000-1857810600@prebleseniorcenter.org
SUMMARY:SAIL
DESCRIPTION:
URL:https://prebleseniorcenter.org/event/sail/2028-11-14/
CATEGORIES:On-Line Activities & Classes
END:VEVENT
BEGIN:VEVENT
DTSTART;TZID=America/New_York:20281114T110000
DTEND;TZID=America/New_York:20281114T120000
DTSTAMP:20260422T193255
CREATED:20260309T185121Z
LAST-MODIFIED:20260309T185121Z
UID:10006799-1857812400-1857816000@prebleseniorcenter.org
SUMMARY:Jedi Council
DESCRIPTION:
URL:https://prebleseniorcenter.org/event/jedi-council/2028-11-14/
CATEGORIES:Activities
END:VEVENT
BEGIN:VEVENT
DTSTART;TZID=America/New_York:20281120T093000
DTEND;TZID=America/New_York:20281120T170000
DTSTAMP:20260422T193255
CREATED:20260309T184803Z
LAST-MODIFIED:20260309T184803Z
UID:10006017-1858325400-1858352400@prebleseniorcenter.org
SUMMARY:Bible Study
DESCRIPTION:
URL:https://prebleseniorcenter.org/event/bible-study/2028-11-20/
CATEGORIES:Activities
END:VEVENT
BEGIN:VEVENT
DTSTART;TZID=America/New_York:20281120T110000
DTEND;TZID=America/New_York:20281120T120000
DTSTAMP:20260422T193255
CREATED:20260309T184935Z
LAST-MODIFIED:20260309T184935Z
UID:10006278-1858330800-1858334400@prebleseniorcenter.org
SUMMARY:Silver Sneakers
DESCRIPTION:
URL:https://prebleseniorcenter.org/event/silver-sneakers/2028-11-20/
CATEGORIES:Activities
END:VEVENT
BEGIN:VEVENT
DTSTART;TZID=America/New_York:20281121T093000
DTEND;TZID=America/New_York:20281121T103000
DTSTAMP:20260422T193255
CREATED:20260309T185038Z
LAST-MODIFIED:20260309T185038Z
UID:10006539-1858411800-1858415400@prebleseniorcenter.org
SUMMARY:SAIL
DESCRIPTION:
URL:https://prebleseniorcenter.org/event/sail/2028-11-21/
CATEGORIES:On-Line Activities & Classes
END:VEVENT
BEGIN:VEVENT
DTSTART;TZID=America/New_York:20281121T110000
DTEND;TZID=America/New_York:20281121T120000
DTSTAMP:20260422T193255
CREATED:20260309T185121Z
LAST-MODIFIED:20260309T185121Z
UID:10006800-1858417200-1858420800@prebleseniorcenter.org
SUMMARY:Jedi Council
DESCRIPTION:
URL:https://prebleseniorcenter.org/event/jedi-council/2028-11-21/
CATEGORIES:Activities
END:VEVENT
BEGIN:VEVENT
DTSTART;TZID=America/New_York:20281122T130000
DTEND;TZID=America/New_York:20281122T170000
DTSTAMP:20260422T193255
CREATED:20260309T185403Z
LAST-MODIFIED:20260309T185403Z
UID:10007013-1858510800-1858525200@prebleseniorcenter.org
SUMMARY:Retro Rackers again Oxford
DESCRIPTION:
URL:https://prebleseniorcenter.org/event/retro-rackers-again-oxford/2028-11-22/
CATEGORIES:Activities
END:VEVENT
BEGIN:VEVENT
DTSTART;TZID=America/New_York:20281124T100000
DTEND;TZID=America/New_York:20281124T120000
DTSTAMP:20260422T193255
CREATED:20260309T185453Z
LAST-MODIFIED:20260309T185453Z
UID:10007073-1858672800-1858680000@prebleseniorcenter.org
SUMMARY:Tech Support
DESCRIPTION:
URL:https://prebleseniorcenter.org/event/tech-support/2028-11-24/
CATEGORIES:Activities
END:VEVENT
BEGIN:VEVENT
DTSTART;TZID=America/New_York:20281127T093000
DTEND;TZID=America/New_York:20281127T170000
DTSTAMP:20260422T193255
CREATED:20260309T184803Z
LAST-MODIFIED:20260309T184803Z
UID:10006018-1858930200-1858957200@prebleseniorcenter.org
SUMMARY:Bible Study
DESCRIPTION:
URL:https://prebleseniorcenter.org/event/bible-study/2028-11-27/
CATEGORIES:Activities
END:VEVENT
BEGIN:VEVENT
DTSTART;TZID=America/New_York:20281127T110000
DTEND;TZID=America/New_York:20281127T120000
DTSTAMP:20260422T193255
CREATED:20260309T184935Z
LAST-MODIFIED:20260309T184935Z
UID:10006279-1858935600-1858939200@prebleseniorcenter.org
SUMMARY:Silver Sneakers
DESCRIPTION:
URL:https://prebleseniorcenter.org/event/silver-sneakers/2028-11-27/
CATEGORIES:Activities
END:VEVENT
BEGIN:VEVENT
DTSTART;TZID=America/New_York:20281128T093000
DTEND;TZID=America/New_York:20281128T103000
DTSTAMP:20260422T193255
CREATED:20260309T185038Z
LAST-MODIFIED:20260309T185038Z
UID:10006540-1859016600-1859020200@prebleseniorcenter.org
SUMMARY:SAIL
DESCRIPTION:
URL:https://prebleseniorcenter.org/event/sail/2028-11-28/
CATEGORIES:On-Line Activities & Classes
END:VEVENT
BEGIN:VEVENT
DTSTART;TZID=America/New_York:20281128T110000
DTEND;TZID=America/New_York:20281128T120000
DTSTAMP:20260422T193255
CREATED:20260309T185121Z
LAST-MODIFIED:20260309T185121Z
UID:10006801-1859022000-1859025600@prebleseniorcenter.org
SUMMARY:Jedi Council
DESCRIPTION:
URL:https://prebleseniorcenter.org/event/jedi-council/2028-11-28/
CATEGORIES:Activities
END:VEVENT
END:VCALENDAR