BEGIN:VCALENDAR
VERSION:2.0
PRODID:-//Preble County Council on Aging - ECPv6.15.20//NONSGML v1.0//EN
CALSCALE:GREGORIAN
METHOD:PUBLISH
X-WR-CALNAME:Preble County Council on Aging
X-ORIGINAL-URL:https://prebleseniorcenter.org
X-WR-CALDESC:Events for Preble County Council on Aging
REFRESH-INTERVAL;VALUE=DURATION:PT1H
X-Robots-Tag:noindex
X-PUBLISHED-TTL:PT1H
BEGIN:VTIMEZONE
TZID:America/New_York
BEGIN:DAYLIGHT
TZOFFSETFROM:-0500
TZOFFSETTO:-0400
TZNAME:EDT
DTSTART:20270314T070000
END:DAYLIGHT
BEGIN:STANDARD
TZOFFSETFROM:-0400
TZOFFSETTO:-0500
TZNAME:EST
DTSTART:20271107T060000
END:STANDARD
BEGIN:DAYLIGHT
TZOFFSETFROM:-0500
TZOFFSETTO:-0400
TZNAME:EDT
DTSTART:20280312T070000
END:DAYLIGHT
BEGIN:STANDARD
TZOFFSETFROM:-0400
TZOFFSETTO:-0500
TZNAME:EST
DTSTART:20281105T060000
END:STANDARD
BEGIN:DAYLIGHT
TZOFFSETFROM:-0500
TZOFFSETTO:-0400
TZNAME:EDT
DTSTART:20290311T070000
END:DAYLIGHT
BEGIN:STANDARD
TZOFFSETFROM:-0400
TZOFFSETTO:-0500
TZNAME:EST
DTSTART:20291104T060000
END:STANDARD
END:VTIMEZONE
BEGIN:VEVENT
DTSTART;TZID=America/New_York:20280904T093000
DTEND;TZID=America/New_York:20280904T170000
DTSTAMP:20260422T161906
CREATED:20260309T184803Z
LAST-MODIFIED:20260309T184803Z
UID:10006006-1851672600-1851699600@prebleseniorcenter.org
SUMMARY:Bible Study
DESCRIPTION:
URL:https://prebleseniorcenter.org/event/bible-study/2028-09-04/
CATEGORIES:Activities
END:VEVENT
BEGIN:VEVENT
DTSTART;TZID=America/New_York:20280904T110000
DTEND;TZID=America/New_York:20280904T120000
DTSTAMP:20260422T161906
CREATED:20260309T184935Z
LAST-MODIFIED:20260309T184935Z
UID:10006267-1851678000-1851681600@prebleseniorcenter.org
SUMMARY:Silver Sneakers
DESCRIPTION:
URL:https://prebleseniorcenter.org/event/silver-sneakers/2028-09-04/
CATEGORIES:Activities
END:VEVENT
BEGIN:VEVENT
DTSTART;TZID=America/New_York:20280904T133000
DTEND;TZID=America/New_York:20280904T143000
DTSTAMP:20260422T161906
CREATED:20260309T185310Z
LAST-MODIFIED:20260309T185310Z
UID:10006950-1851687000-1851690600@prebleseniorcenter.org
SUMMARY:Participant's Council
DESCRIPTION:
URL:https://prebleseniorcenter.org/event/participants-council/2028-09-04/
CATEGORIES:Activities
END:VEVENT
BEGIN:VEVENT
DTSTART;TZID=America/New_York:20280905T093000
DTEND;TZID=America/New_York:20280905T103000
DTSTAMP:20260422T161906
CREATED:20260309T185038Z
LAST-MODIFIED:20260309T185038Z
UID:10006528-1851759000-1851762600@prebleseniorcenter.org
SUMMARY:SAIL
DESCRIPTION:
URL:https://prebleseniorcenter.org/event/sail/2028-09-05/
CATEGORIES:On-Line Activities & Classes
END:VEVENT
BEGIN:VEVENT
DTSTART;TZID=America/New_York:20280905T110000
DTEND;TZID=America/New_York:20280905T120000
DTSTAMP:20260422T161906
CREATED:20260309T185121Z
LAST-MODIFIED:20260309T185121Z
UID:10006789-1851764400-1851768000@prebleseniorcenter.org
SUMMARY:Jedi Council
DESCRIPTION:
URL:https://prebleseniorcenter.org/event/jedi-council/2028-09-05/
CATEGORIES:Activities
END:VEVENT
BEGIN:VEVENT
DTSTART;TZID=America/New_York:20280911T093000
DTEND;TZID=America/New_York:20280911T170000
DTSTAMP:20260422T161906
CREATED:20260309T184803Z
LAST-MODIFIED:20260309T184803Z
UID:10006007-1852277400-1852304400@prebleseniorcenter.org
SUMMARY:Bible Study
DESCRIPTION:
URL:https://prebleseniorcenter.org/event/bible-study/2028-09-11/
CATEGORIES:Activities
END:VEVENT
BEGIN:VEVENT
DTSTART;TZID=America/New_York:20280911T110000
DTEND;TZID=America/New_York:20280911T120000
DTSTAMP:20260422T161906
CREATED:20260309T184935Z
LAST-MODIFIED:20260309T184935Z
UID:10006268-1852282800-1852286400@prebleseniorcenter.org
SUMMARY:Silver Sneakers
DESCRIPTION:
URL:https://prebleseniorcenter.org/event/silver-sneakers/2028-09-11/
CATEGORIES:Activities
END:VEVENT
BEGIN:VEVENT
DTSTART;TZID=America/New_York:20280912T093000
DTEND;TZID=America/New_York:20280912T103000
DTSTAMP:20260422T161906
CREATED:20260309T185038Z
LAST-MODIFIED:20260309T185038Z
UID:10006529-1852363800-1852367400@prebleseniorcenter.org
SUMMARY:SAIL
DESCRIPTION:
URL:https://prebleseniorcenter.org/event/sail/2028-09-12/
CATEGORIES:On-Line Activities & Classes
END:VEVENT
BEGIN:VEVENT
DTSTART;TZID=America/New_York:20280912T110000
DTEND;TZID=America/New_York:20280912T120000
DTSTAMP:20260422T161906
CREATED:20260309T185121Z
LAST-MODIFIED:20260309T185121Z
UID:10006790-1852369200-1852372800@prebleseniorcenter.org
SUMMARY:Jedi Council
DESCRIPTION:
URL:https://prebleseniorcenter.org/event/jedi-council/2028-09-12/
CATEGORIES:Activities
END:VEVENT
BEGIN:VEVENT
DTSTART;TZID=America/New_York:20280918T093000
DTEND;TZID=America/New_York:20280918T170000
DTSTAMP:20260422T161906
CREATED:20260309T184803Z
LAST-MODIFIED:20260309T184803Z
UID:10006008-1852882200-1852909200@prebleseniorcenter.org
SUMMARY:Bible Study
DESCRIPTION:
URL:https://prebleseniorcenter.org/event/bible-study/2028-09-18/
CATEGORIES:Activities
END:VEVENT
BEGIN:VEVENT
DTSTART;TZID=America/New_York:20280918T110000
DTEND;TZID=America/New_York:20280918T120000
DTSTAMP:20260422T161906
CREATED:20260309T184935Z
LAST-MODIFIED:20260309T184935Z
UID:10006269-1852887600-1852891200@prebleseniorcenter.org
SUMMARY:Silver Sneakers
DESCRIPTION:
URL:https://prebleseniorcenter.org/event/silver-sneakers/2028-09-18/
CATEGORIES:Activities
END:VEVENT
BEGIN:VEVENT
DTSTART;TZID=America/New_York:20280919T093000
DTEND;TZID=America/New_York:20280919T103000
DTSTAMP:20260422T161906
CREATED:20260309T185038Z
LAST-MODIFIED:20260309T185038Z
UID:10006530-1852968600-1852972200@prebleseniorcenter.org
SUMMARY:SAIL
DESCRIPTION:
URL:https://prebleseniorcenter.org/event/sail/2028-09-19/
CATEGORIES:On-Line Activities & Classes
END:VEVENT
BEGIN:VEVENT
DTSTART;TZID=America/New_York:20280919T110000
DTEND;TZID=America/New_York:20280919T120000
DTSTAMP:20260422T161906
CREATED:20260309T185121Z
LAST-MODIFIED:20260309T185121Z
UID:10006791-1852974000-1852977600@prebleseniorcenter.org
SUMMARY:Jedi Council
DESCRIPTION:
URL:https://prebleseniorcenter.org/event/jedi-council/2028-09-19/
CATEGORIES:Activities
END:VEVENT
BEGIN:VEVENT
DTSTART;TZID=America/New_York:20280922T100000
DTEND;TZID=America/New_York:20280922T120000
DTSTAMP:20260422T161906
CREATED:20260309T185453Z
LAST-MODIFIED:20260309T185453Z
UID:10007071-1853229600-1853236800@prebleseniorcenter.org
SUMMARY:Tech Support
DESCRIPTION:
URL:https://prebleseniorcenter.org/event/tech-support/2028-09-22/
CATEGORIES:Activities
END:VEVENT
BEGIN:VEVENT
DTSTART;TZID=America/New_York:20280925T093000
DTEND;TZID=America/New_York:20280925T170000
DTSTAMP:20260422T161906
CREATED:20260309T184803Z
LAST-MODIFIED:20260309T184803Z
UID:10006009-1853487000-1853514000@prebleseniorcenter.org
SUMMARY:Bible Study
DESCRIPTION:
URL:https://prebleseniorcenter.org/event/bible-study/2028-09-25/
CATEGORIES:Activities
END:VEVENT
BEGIN:VEVENT
DTSTART;TZID=America/New_York:20280925T110000
DTEND;TZID=America/New_York:20280925T120000
DTSTAMP:20260422T161906
CREATED:20260309T184935Z
LAST-MODIFIED:20260309T184935Z
UID:10006270-1853492400-1853496000@prebleseniorcenter.org
SUMMARY:Silver Sneakers
DESCRIPTION:
URL:https://prebleseniorcenter.org/event/silver-sneakers/2028-09-25/
CATEGORIES:Activities
END:VEVENT
BEGIN:VEVENT
DTSTART;TZID=America/New_York:20280926T093000
DTEND;TZID=America/New_York:20280926T103000
DTSTAMP:20260422T161906
CREATED:20260309T185038Z
LAST-MODIFIED:20260309T185038Z
UID:10006531-1853573400-1853577000@prebleseniorcenter.org
SUMMARY:SAIL
DESCRIPTION:
URL:https://prebleseniorcenter.org/event/sail/2028-09-26/
CATEGORIES:On-Line Activities & Classes
END:VEVENT
BEGIN:VEVENT
DTSTART;TZID=America/New_York:20280926T110000
DTEND;TZID=America/New_York:20280926T120000
DTSTAMP:20260422T161906
CREATED:20260309T185121Z
LAST-MODIFIED:20260309T185121Z
UID:10006792-1853578800-1853582400@prebleseniorcenter.org
SUMMARY:Jedi Council
DESCRIPTION:
URL:https://prebleseniorcenter.org/event/jedi-council/2028-09-26/
CATEGORIES:Activities
END:VEVENT
BEGIN:VEVENT
DTSTART;TZID=America/New_York:20280927T130000
DTEND;TZID=America/New_York:20280927T170000
DTSTAMP:20260422T161906
CREATED:20260309T185403Z
LAST-MODIFIED:20260309T185403Z
UID:10007011-1853672400-1853686800@prebleseniorcenter.org
SUMMARY:Retro Rackers again Oxford
DESCRIPTION:
URL:https://prebleseniorcenter.org/event/retro-rackers-again-oxford/2028-09-27/
CATEGORIES:Activities
END:VEVENT
END:VCALENDAR