BEGIN:VCALENDAR
VERSION:2.0
PRODID:-//Preble County Council on Aging - ECPv6.15.20//NONSGML v1.0//EN
CALSCALE:GREGORIAN
METHOD:PUBLISH
X-ORIGINAL-URL:https://prebleseniorcenter.org
X-WR-CALDESC:Events for Preble County Council on Aging
REFRESH-INTERVAL;VALUE=DURATION:PT1H
X-Robots-Tag:noindex
X-PUBLISHED-TTL:PT1H
BEGIN:VTIMEZONE
TZID:America/New_York
BEGIN:DAYLIGHT
TZOFFSETFROM:-0500
TZOFFSETTO:-0400
TZNAME:EDT
DTSTART:20270314T070000
END:DAYLIGHT
BEGIN:STANDARD
TZOFFSETFROM:-0400
TZOFFSETTO:-0500
TZNAME:EST
DTSTART:20271107T060000
END:STANDARD
BEGIN:DAYLIGHT
TZOFFSETFROM:-0500
TZOFFSETTO:-0400
TZNAME:EDT
DTSTART:20280312T070000
END:DAYLIGHT
BEGIN:STANDARD
TZOFFSETFROM:-0400
TZOFFSETTO:-0500
TZNAME:EST
DTSTART:20281105T060000
END:STANDARD
BEGIN:DAYLIGHT
TZOFFSETFROM:-0500
TZOFFSETTO:-0400
TZNAME:EDT
DTSTART:20290311T070000
END:DAYLIGHT
BEGIN:STANDARD
TZOFFSETFROM:-0400
TZOFFSETTO:-0500
TZNAME:EST
DTSTART:20291104T060000
END:STANDARD
END:VTIMEZONE
BEGIN:VEVENT
DTSTART;TZID=America/New_York:20280501T093000
DTEND;TZID=America/New_York:20280501T170000
DTSTAMP:20260422T101804
CREATED:20260309T184803Z
LAST-MODIFIED:20260309T184803Z
UID:10005988-1840786200-1840813200@prebleseniorcenter.org
SUMMARY:Bible Study
DESCRIPTION:
URL:https://prebleseniorcenter.org/event/bible-study/2028-05-01/
CATEGORIES:Activities
END:VEVENT
BEGIN:VEVENT
DTSTART;TZID=America/New_York:20280501T110000
DTEND;TZID=America/New_York:20280501T120000
DTSTAMP:20260422T101804
CREATED:20260309T184935Z
LAST-MODIFIED:20260309T184935Z
UID:10006249-1840791600-1840795200@prebleseniorcenter.org
SUMMARY:Silver Sneakers
DESCRIPTION:
URL:https://prebleseniorcenter.org/event/silver-sneakers/2028-05-01/
CATEGORIES:Activities
END:VEVENT
BEGIN:VEVENT
DTSTART;TZID=America/New_York:20280501T133000
DTEND;TZID=America/New_York:20280501T143000
DTSTAMP:20260422T101804
CREATED:20260309T185310Z
LAST-MODIFIED:20260309T185310Z
UID:10006946-1840800600-1840804200@prebleseniorcenter.org
SUMMARY:Participant's Council
DESCRIPTION:
URL:https://prebleseniorcenter.org/event/participants-council/2028-05-01/
CATEGORIES:Activities
END:VEVENT
BEGIN:VEVENT
DTSTART;TZID=America/New_York:20280502T093000
DTEND;TZID=America/New_York:20280502T103000
DTSTAMP:20260422T101804
CREATED:20260309T185038Z
LAST-MODIFIED:20260309T185038Z
UID:10006510-1840872600-1840876200@prebleseniorcenter.org
SUMMARY:SAIL
DESCRIPTION:
URL:https://prebleseniorcenter.org/event/sail/2028-05-02/
CATEGORIES:On-Line Activities & Classes
END:VEVENT
BEGIN:VEVENT
DTSTART;TZID=America/New_York:20280502T110000
DTEND;TZID=America/New_York:20280502T120000
DTSTAMP:20260422T101804
CREATED:20260309T185121Z
LAST-MODIFIED:20260309T185121Z
UID:10006771-1840878000-1840881600@prebleseniorcenter.org
SUMMARY:Jedi Council
DESCRIPTION:
URL:https://prebleseniorcenter.org/event/jedi-council/2028-05-02/
CATEGORIES:Activities
END:VEVENT
BEGIN:VEVENT
DTSTART;TZID=America/New_York:20280508T093000
DTEND;TZID=America/New_York:20280508T170000
DTSTAMP:20260422T101804
CREATED:20260309T184803Z
LAST-MODIFIED:20260309T184803Z
UID:10005989-1841391000-1841418000@prebleseniorcenter.org
SUMMARY:Bible Study
DESCRIPTION:
URL:https://prebleseniorcenter.org/event/bible-study/2028-05-08/
CATEGORIES:Activities
END:VEVENT
BEGIN:VEVENT
DTSTART;TZID=America/New_York:20280508T110000
DTEND;TZID=America/New_York:20280508T120000
DTSTAMP:20260422T101804
CREATED:20260309T184935Z
LAST-MODIFIED:20260309T184935Z
UID:10006250-1841396400-1841400000@prebleseniorcenter.org
SUMMARY:Silver Sneakers
DESCRIPTION:
URL:https://prebleseniorcenter.org/event/silver-sneakers/2028-05-08/
CATEGORIES:Activities
END:VEVENT
BEGIN:VEVENT
DTSTART;TZID=America/New_York:20280509T093000
DTEND;TZID=America/New_York:20280509T103000
DTSTAMP:20260422T101804
CREATED:20260309T185038Z
LAST-MODIFIED:20260309T185038Z
UID:10006511-1841477400-1841481000@prebleseniorcenter.org
SUMMARY:SAIL
DESCRIPTION:
URL:https://prebleseniorcenter.org/event/sail/2028-05-09/
CATEGORIES:On-Line Activities & Classes
END:VEVENT
BEGIN:VEVENT
DTSTART;TZID=America/New_York:20280509T110000
DTEND;TZID=America/New_York:20280509T120000
DTSTAMP:20260422T101804
CREATED:20260309T185121Z
LAST-MODIFIED:20260309T185121Z
UID:10006772-1841482800-1841486400@prebleseniorcenter.org
SUMMARY:Jedi Council
DESCRIPTION:
URL:https://prebleseniorcenter.org/event/jedi-council/2028-05-09/
CATEGORIES:Activities
END:VEVENT
BEGIN:VEVENT
DTSTART;TZID=America/New_York:20280515T093000
DTEND;TZID=America/New_York:20280515T170000
DTSTAMP:20260422T101804
CREATED:20260309T184803Z
LAST-MODIFIED:20260309T184803Z
UID:10005990-1841995800-1842022800@prebleseniorcenter.org
SUMMARY:Bible Study
DESCRIPTION:
URL:https://prebleseniorcenter.org/event/bible-study/2028-05-15/
CATEGORIES:Activities
END:VEVENT
BEGIN:VEVENT
DTSTART;TZID=America/New_York:20280515T110000
DTEND;TZID=America/New_York:20280515T120000
DTSTAMP:20260422T101804
CREATED:20260309T184935Z
LAST-MODIFIED:20260309T184935Z
UID:10006251-1842001200-1842004800@prebleseniorcenter.org
SUMMARY:Silver Sneakers
DESCRIPTION:
URL:https://prebleseniorcenter.org/event/silver-sneakers/2028-05-15/
CATEGORIES:Activities
END:VEVENT
BEGIN:VEVENT
DTSTART;TZID=America/New_York:20280516T093000
DTEND;TZID=America/New_York:20280516T103000
DTSTAMP:20260422T101804
CREATED:20260309T185038Z
LAST-MODIFIED:20260309T185038Z
UID:10006512-1842082200-1842085800@prebleseniorcenter.org
SUMMARY:SAIL
DESCRIPTION:
URL:https://prebleseniorcenter.org/event/sail/2028-05-16/
CATEGORIES:On-Line Activities & Classes
END:VEVENT
BEGIN:VEVENT
DTSTART;TZID=America/New_York:20280516T110000
DTEND;TZID=America/New_York:20280516T120000
DTSTAMP:20260422T101804
CREATED:20260309T185121Z
LAST-MODIFIED:20260309T185121Z
UID:10006773-1842087600-1842091200@prebleseniorcenter.org
SUMMARY:Jedi Council
DESCRIPTION:
URL:https://prebleseniorcenter.org/event/jedi-council/2028-05-16/
CATEGORIES:Activities
END:VEVENT
BEGIN:VEVENT
DTSTART;TZID=America/New_York:20280522T093000
DTEND;TZID=America/New_York:20280522T170000
DTSTAMP:20260422T101804
CREATED:20260309T184803Z
LAST-MODIFIED:20260309T184803Z
UID:10005991-1842600600-1842627600@prebleseniorcenter.org
SUMMARY:Bible Study
DESCRIPTION:
URL:https://prebleseniorcenter.org/event/bible-study/2028-05-22/
CATEGORIES:Activities
END:VEVENT
BEGIN:VEVENT
DTSTART;TZID=America/New_York:20280522T110000
DTEND;TZID=America/New_York:20280522T120000
DTSTAMP:20260422T101804
CREATED:20260309T184935Z
LAST-MODIFIED:20260309T184935Z
UID:10006252-1842606000-1842609600@prebleseniorcenter.org
SUMMARY:Silver Sneakers
DESCRIPTION:
URL:https://prebleseniorcenter.org/event/silver-sneakers/2028-05-22/
CATEGORIES:Activities
END:VEVENT
BEGIN:VEVENT
DTSTART;TZID=America/New_York:20280523T093000
DTEND;TZID=America/New_York:20280523T103000
DTSTAMP:20260422T101804
CREATED:20260309T185038Z
LAST-MODIFIED:20260309T185038Z
UID:10006513-1842687000-1842690600@prebleseniorcenter.org
SUMMARY:SAIL
DESCRIPTION:
URL:https://prebleseniorcenter.org/event/sail/2028-05-23/
CATEGORIES:On-Line Activities & Classes
END:VEVENT
BEGIN:VEVENT
DTSTART;TZID=America/New_York:20280523T110000
DTEND;TZID=America/New_York:20280523T120000
DTSTAMP:20260422T101804
CREATED:20260309T185121Z
LAST-MODIFIED:20260309T185121Z
UID:10006774-1842692400-1842696000@prebleseniorcenter.org
SUMMARY:Jedi Council
DESCRIPTION:
URL:https://prebleseniorcenter.org/event/jedi-council/2028-05-23/
CATEGORIES:Activities
END:VEVENT
BEGIN:VEVENT
DTSTART;TZID=America/New_York:20280524T130000
DTEND;TZID=America/New_York:20280524T170000
DTSTAMP:20260422T101804
CREATED:20260309T185403Z
LAST-MODIFIED:20260309T185403Z
UID:10007007-1842786000-1842800400@prebleseniorcenter.org
SUMMARY:Retro Rackers again Oxford
DESCRIPTION:
URL:https://prebleseniorcenter.org/event/retro-rackers-again-oxford/2028-05-24/
CATEGORIES:Activities
END:VEVENT
BEGIN:VEVENT
DTSTART;TZID=America/New_York:20280526T100000
DTEND;TZID=America/New_York:20280526T120000
DTSTAMP:20260422T101804
CREATED:20260309T185453Z
LAST-MODIFIED:20260309T185453Z
UID:10007067-1842948000-1842955200@prebleseniorcenter.org
SUMMARY:Tech Support
DESCRIPTION:
URL:https://prebleseniorcenter.org/event/tech-support/2028-05-26/
CATEGORIES:Activities
END:VEVENT
BEGIN:VEVENT
DTSTART;TZID=America/New_York:20280529T093000
DTEND;TZID=America/New_York:20280529T170000
DTSTAMP:20260422T101804
CREATED:20260309T184803Z
LAST-MODIFIED:20260309T184803Z
UID:10005992-1843205400-1843232400@prebleseniorcenter.org
SUMMARY:Bible Study
DESCRIPTION:
URL:https://prebleseniorcenter.org/event/bible-study/2028-05-29/
CATEGORIES:Activities
END:VEVENT
BEGIN:VEVENT
DTSTART;TZID=America/New_York:20280529T110000
DTEND;TZID=America/New_York:20280529T120000
DTSTAMP:20260422T101804
CREATED:20260309T184935Z
LAST-MODIFIED:20260309T184935Z
UID:10006253-1843210800-1843214400@prebleseniorcenter.org
SUMMARY:Silver Sneakers
DESCRIPTION:
URL:https://prebleseniorcenter.org/event/silver-sneakers/2028-05-29/
CATEGORIES:Activities
END:VEVENT
BEGIN:VEVENT
DTSTART;TZID=America/New_York:20280530T093000
DTEND;TZID=America/New_York:20280530T103000
DTSTAMP:20260422T101804
CREATED:20260309T185038Z
LAST-MODIFIED:20260309T185038Z
UID:10006514-1843291800-1843295400@prebleseniorcenter.org
SUMMARY:SAIL
DESCRIPTION:
URL:https://prebleseniorcenter.org/event/sail/2028-05-30/
CATEGORIES:On-Line Activities & Classes
END:VEVENT
BEGIN:VEVENT
DTSTART;TZID=America/New_York:20280530T110000
DTEND;TZID=America/New_York:20280530T120000
DTSTAMP:20260422T101804
CREATED:20260309T185121Z
LAST-MODIFIED:20260309T185121Z
UID:10006775-1843297200-1843300800@prebleseniorcenter.org
SUMMARY:Jedi Council
DESCRIPTION:
URL:https://prebleseniorcenter.org/event/jedi-council/2028-05-30/
CATEGORIES:Activities
END:VEVENT
END:VCALENDAR