BEGIN:VCALENDAR
VERSION:2.0
PRODID:-//Preble County Council on Aging - ECPv6.15.20//NONSGML v1.0//EN
CALSCALE:GREGORIAN
METHOD:PUBLISH
X-WR-CALNAME:Preble County Council on Aging
X-ORIGINAL-URL:https://prebleseniorcenter.org
X-WR-CALDESC:Events for Preble County Council on Aging
REFRESH-INTERVAL;VALUE=DURATION:PT1H
X-Robots-Tag:noindex
X-PUBLISHED-TTL:PT1H
BEGIN:VTIMEZONE
TZID:America/New_York
BEGIN:DAYLIGHT
TZOFFSETFROM:-0500
TZOFFSETTO:-0400
TZNAME:EDT
DTSTART:20270314T070000
END:DAYLIGHT
BEGIN:STANDARD
TZOFFSETFROM:-0400
TZOFFSETTO:-0500
TZNAME:EST
DTSTART:20271107T060000
END:STANDARD
BEGIN:DAYLIGHT
TZOFFSETFROM:-0500
TZOFFSETTO:-0400
TZNAME:EDT
DTSTART:20280312T070000
END:DAYLIGHT
BEGIN:STANDARD
TZOFFSETFROM:-0400
TZOFFSETTO:-0500
TZNAME:EST
DTSTART:20281105T060000
END:STANDARD
BEGIN:DAYLIGHT
TZOFFSETFROM:-0500
TZOFFSETTO:-0400
TZNAME:EDT
DTSTART:20290311T070000
END:DAYLIGHT
BEGIN:STANDARD
TZOFFSETFROM:-0400
TZOFFSETTO:-0500
TZNAME:EST
DTSTART:20291104T060000
END:STANDARD
END:VTIMEZONE
BEGIN:VEVENT
DTSTART;TZID=America/New_York:20280403T093000
DTEND;TZID=America/New_York:20280403T170000
DTSTAMP:20260422T085503
CREATED:20260309T184803Z
LAST-MODIFIED:20260309T184803Z
UID:10005984-1838367000-1838394000@prebleseniorcenter.org
SUMMARY:Bible Study
DESCRIPTION:
URL:https://prebleseniorcenter.org/event/bible-study/2028-04-03/
CATEGORIES:Activities
END:VEVENT
BEGIN:VEVENT
DTSTART;TZID=America/New_York:20280403T110000
DTEND;TZID=America/New_York:20280403T120000
DTSTAMP:20260422T085503
CREATED:20260309T184935Z
LAST-MODIFIED:20260309T184935Z
UID:10006245-1838372400-1838376000@prebleseniorcenter.org
SUMMARY:Silver Sneakers
DESCRIPTION:
URL:https://prebleseniorcenter.org/event/silver-sneakers/2028-04-03/
CATEGORIES:Activities
END:VEVENT
BEGIN:VEVENT
DTSTART;TZID=America/New_York:20280403T133000
DTEND;TZID=America/New_York:20280403T143000
DTSTAMP:20260422T085503
CREATED:20260309T185310Z
LAST-MODIFIED:20260309T185310Z
UID:10006945-1838381400-1838385000@prebleseniorcenter.org
SUMMARY:Participant's Council
DESCRIPTION:
URL:https://prebleseniorcenter.org/event/participants-council/2028-04-03/
CATEGORIES:Activities
END:VEVENT
BEGIN:VEVENT
DTSTART;TZID=America/New_York:20280404T093000
DTEND;TZID=America/New_York:20280404T103000
DTSTAMP:20260422T085503
CREATED:20260309T185038Z
LAST-MODIFIED:20260309T185038Z
UID:10006506-1838453400-1838457000@prebleseniorcenter.org
SUMMARY:SAIL
DESCRIPTION:
URL:https://prebleseniorcenter.org/event/sail/2028-04-04/
CATEGORIES:On-Line Activities & Classes
END:VEVENT
BEGIN:VEVENT
DTSTART;TZID=America/New_York:20280404T110000
DTEND;TZID=America/New_York:20280404T120000
DTSTAMP:20260422T085503
CREATED:20260309T185121Z
LAST-MODIFIED:20260309T185121Z
UID:10006767-1838458800-1838462400@prebleseniorcenter.org
SUMMARY:Jedi Council
DESCRIPTION:
URL:https://prebleseniorcenter.org/event/jedi-council/2028-04-04/
CATEGORIES:Activities
END:VEVENT
BEGIN:VEVENT
DTSTART;TZID=America/New_York:20280410T093000
DTEND;TZID=America/New_York:20280410T170000
DTSTAMP:20260422T085503
CREATED:20260309T184803Z
LAST-MODIFIED:20260309T184803Z
UID:10005985-1838971800-1838998800@prebleseniorcenter.org
SUMMARY:Bible Study
DESCRIPTION:
URL:https://prebleseniorcenter.org/event/bible-study/2028-04-10/
CATEGORIES:Activities
END:VEVENT
BEGIN:VEVENT
DTSTART;TZID=America/New_York:20280410T110000
DTEND;TZID=America/New_York:20280410T120000
DTSTAMP:20260422T085503
CREATED:20260309T184935Z
LAST-MODIFIED:20260309T184935Z
UID:10006246-1838977200-1838980800@prebleseniorcenter.org
SUMMARY:Silver Sneakers
DESCRIPTION:
URL:https://prebleseniorcenter.org/event/silver-sneakers/2028-04-10/
CATEGORIES:Activities
END:VEVENT
BEGIN:VEVENT
DTSTART;TZID=America/New_York:20280411T093000
DTEND;TZID=America/New_York:20280411T103000
DTSTAMP:20260422T085503
CREATED:20260309T185038Z
LAST-MODIFIED:20260309T185038Z
UID:10006507-1839058200-1839061800@prebleseniorcenter.org
SUMMARY:SAIL
DESCRIPTION:
URL:https://prebleseniorcenter.org/event/sail/2028-04-11/
CATEGORIES:On-Line Activities & Classes
END:VEVENT
BEGIN:VEVENT
DTSTART;TZID=America/New_York:20280411T110000
DTEND;TZID=America/New_York:20280411T120000
DTSTAMP:20260422T085503
CREATED:20260309T185121Z
LAST-MODIFIED:20260309T185121Z
UID:10006768-1839063600-1839067200@prebleseniorcenter.org
SUMMARY:Jedi Council
DESCRIPTION:
URL:https://prebleseniorcenter.org/event/jedi-council/2028-04-11/
CATEGORIES:Activities
END:VEVENT
BEGIN:VEVENT
DTSTART;TZID=America/New_York:20280417T093000
DTEND;TZID=America/New_York:20280417T170000
DTSTAMP:20260422T085503
CREATED:20260309T184803Z
LAST-MODIFIED:20260309T184803Z
UID:10005986-1839576600-1839603600@prebleseniorcenter.org
SUMMARY:Bible Study
DESCRIPTION:
URL:https://prebleseniorcenter.org/event/bible-study/2028-04-17/
CATEGORIES:Activities
END:VEVENT
BEGIN:VEVENT
DTSTART;TZID=America/New_York:20280417T110000
DTEND;TZID=America/New_York:20280417T120000
DTSTAMP:20260422T085503
CREATED:20260309T184935Z
LAST-MODIFIED:20260309T184935Z
UID:10006247-1839582000-1839585600@prebleseniorcenter.org
SUMMARY:Silver Sneakers
DESCRIPTION:
URL:https://prebleseniorcenter.org/event/silver-sneakers/2028-04-17/
CATEGORIES:Activities
END:VEVENT
BEGIN:VEVENT
DTSTART;TZID=America/New_York:20280418T093000
DTEND;TZID=America/New_York:20280418T103000
DTSTAMP:20260422T085503
CREATED:20260309T185038Z
LAST-MODIFIED:20260309T185038Z
UID:10006508-1839663000-1839666600@prebleseniorcenter.org
SUMMARY:SAIL
DESCRIPTION:
URL:https://prebleseniorcenter.org/event/sail/2028-04-18/
CATEGORIES:On-Line Activities & Classes
END:VEVENT
BEGIN:VEVENT
DTSTART;TZID=America/New_York:20280418T110000
DTEND;TZID=America/New_York:20280418T120000
DTSTAMP:20260422T085503
CREATED:20260309T185121Z
LAST-MODIFIED:20260309T185121Z
UID:10006769-1839668400-1839672000@prebleseniorcenter.org
SUMMARY:Jedi Council
DESCRIPTION:
URL:https://prebleseniorcenter.org/event/jedi-council/2028-04-18/
CATEGORIES:Activities
END:VEVENT
BEGIN:VEVENT
DTSTART;TZID=America/New_York:20280424T093000
DTEND;TZID=America/New_York:20280424T170000
DTSTAMP:20260422T085503
CREATED:20260309T184803Z
LAST-MODIFIED:20260309T184803Z
UID:10005987-1840181400-1840208400@prebleseniorcenter.org
SUMMARY:Bible Study
DESCRIPTION:
URL:https://prebleseniorcenter.org/event/bible-study/2028-04-24/
CATEGORIES:Activities
END:VEVENT
BEGIN:VEVENT
DTSTART;TZID=America/New_York:20280424T110000
DTEND;TZID=America/New_York:20280424T120000
DTSTAMP:20260422T085503
CREATED:20260309T184935Z
LAST-MODIFIED:20260309T184935Z
UID:10006248-1840186800-1840190400@prebleseniorcenter.org
SUMMARY:Silver Sneakers
DESCRIPTION:
URL:https://prebleseniorcenter.org/event/silver-sneakers/2028-04-24/
CATEGORIES:Activities
END:VEVENT
BEGIN:VEVENT
DTSTART;TZID=America/New_York:20280425T093000
DTEND;TZID=America/New_York:20280425T103000
DTSTAMP:20260422T085503
CREATED:20260309T185038Z
LAST-MODIFIED:20260309T185038Z
UID:10006509-1840267800-1840271400@prebleseniorcenter.org
SUMMARY:SAIL
DESCRIPTION:
URL:https://prebleseniorcenter.org/event/sail/2028-04-25/
CATEGORIES:On-Line Activities & Classes
END:VEVENT
BEGIN:VEVENT
DTSTART;TZID=America/New_York:20280425T110000
DTEND;TZID=America/New_York:20280425T120000
DTSTAMP:20260422T085503
CREATED:20260309T185121Z
LAST-MODIFIED:20260309T185121Z
UID:10006770-1840273200-1840276800@prebleseniorcenter.org
SUMMARY:Jedi Council
DESCRIPTION:
URL:https://prebleseniorcenter.org/event/jedi-council/2028-04-25/
CATEGORIES:Activities
END:VEVENT
BEGIN:VEVENT
DTSTART;TZID=America/New_York:20280426T130000
DTEND;TZID=America/New_York:20280426T170000
DTSTAMP:20260422T085503
CREATED:20260309T185403Z
LAST-MODIFIED:20260309T185403Z
UID:10007006-1840366800-1840381200@prebleseniorcenter.org
SUMMARY:Retro Rackers again Oxford
DESCRIPTION:
URL:https://prebleseniorcenter.org/event/retro-rackers-again-oxford/2028-04-26/
CATEGORIES:Activities
END:VEVENT
BEGIN:VEVENT
DTSTART;TZID=America/New_York:20280428T100000
DTEND;TZID=America/New_York:20280428T120000
DTSTAMP:20260422T085503
CREATED:20260309T185453Z
LAST-MODIFIED:20260309T185453Z
UID:10007066-1840528800-1840536000@prebleseniorcenter.org
SUMMARY:Tech Support
DESCRIPTION:
URL:https://prebleseniorcenter.org/event/tech-support/2028-04-28/
CATEGORIES:Activities
END:VEVENT
END:VCALENDAR