BEGIN:VCALENDAR
VERSION:2.0
PRODID:-//Preble County Council on Aging - ECPv6.15.20//NONSGML v1.0//EN
CALSCALE:GREGORIAN
METHOD:PUBLISH
X-WR-CALNAME:Preble County Council on Aging
X-ORIGINAL-URL:https://prebleseniorcenter.org
X-WR-CALDESC:Events for Preble County Council on Aging
REFRESH-INTERVAL;VALUE=DURATION:PT1H
X-Robots-Tag:noindex
X-PUBLISHED-TTL:PT1H
BEGIN:VTIMEZONE
TZID:America/New_York
BEGIN:DAYLIGHT
TZOFFSETFROM:-0500
TZOFFSETTO:-0400
TZNAME:EDT
DTSTART:20270314T070000
END:DAYLIGHT
BEGIN:STANDARD
TZOFFSETFROM:-0400
TZOFFSETTO:-0500
TZNAME:EST
DTSTART:20271107T060000
END:STANDARD
BEGIN:DAYLIGHT
TZOFFSETFROM:-0500
TZOFFSETTO:-0400
TZNAME:EDT
DTSTART:20280312T070000
END:DAYLIGHT
BEGIN:STANDARD
TZOFFSETFROM:-0400
TZOFFSETTO:-0500
TZNAME:EST
DTSTART:20281105T060000
END:STANDARD
BEGIN:DAYLIGHT
TZOFFSETFROM:-0500
TZOFFSETTO:-0400
TZNAME:EDT
DTSTART:20290311T070000
END:DAYLIGHT
BEGIN:STANDARD
TZOFFSETFROM:-0400
TZOFFSETTO:-0500
TZNAME:EST
DTSTART:20291104T060000
END:STANDARD
END:VTIMEZONE
BEGIN:VEVENT
DTSTART;TZID=America/New_York:20280201T093000
DTEND;TZID=America/New_York:20280201T103000
DTSTAMP:20260422T060417
CREATED:20260309T185038Z
LAST-MODIFIED:20260309T185038Z
UID:10006497-1833010200-1833013800@prebleseniorcenter.org
SUMMARY:SAIL
DESCRIPTION:
URL:https://prebleseniorcenter.org/event/sail/2028-02-01/
CATEGORIES:On-Line Activities & Classes
END:VEVENT
BEGIN:VEVENT
DTSTART;TZID=America/New_York:20280201T110000
DTEND;TZID=America/New_York:20280201T120000
DTSTAMP:20260422T060417
CREATED:20260309T185121Z
LAST-MODIFIED:20260309T185121Z
UID:10006758-1833015600-1833019200@prebleseniorcenter.org
SUMMARY:Jedi Council
DESCRIPTION:
URL:https://prebleseniorcenter.org/event/jedi-council/2028-02-01/
CATEGORIES:Activities
END:VEVENT
BEGIN:VEVENT
DTSTART;TZID=America/New_York:20280207T093000
DTEND;TZID=America/New_York:20280207T170000
DTSTAMP:20260422T060417
CREATED:20260309T184803Z
LAST-MODIFIED:20260309T184803Z
UID:10005976-1833528600-1833555600@prebleseniorcenter.org
SUMMARY:Bible Study
DESCRIPTION:
URL:https://prebleseniorcenter.org/event/bible-study/2028-02-07/
CATEGORIES:Activities
END:VEVENT
BEGIN:VEVENT
DTSTART;TZID=America/New_York:20280207T110000
DTEND;TZID=America/New_York:20280207T120000
DTSTAMP:20260422T060417
CREATED:20260309T184935Z
LAST-MODIFIED:20260309T184935Z
UID:10006237-1833534000-1833537600@prebleseniorcenter.org
SUMMARY:Silver Sneakers
DESCRIPTION:
URL:https://prebleseniorcenter.org/event/silver-sneakers/2028-02-07/
CATEGORIES:Activities
END:VEVENT
BEGIN:VEVENT
DTSTART;TZID=America/New_York:20280207T133000
DTEND;TZID=America/New_York:20280207T143000
DTSTAMP:20260422T060417
CREATED:20260309T185310Z
LAST-MODIFIED:20260309T185310Z
UID:10006943-1833543000-1833546600@prebleseniorcenter.org
SUMMARY:Participant's Council
DESCRIPTION:
URL:https://prebleseniorcenter.org/event/participants-council/2028-02-07/
CATEGORIES:Activities
END:VEVENT
BEGIN:VEVENT
DTSTART;TZID=America/New_York:20280208T093000
DTEND;TZID=America/New_York:20280208T103000
DTSTAMP:20260422T060417
CREATED:20260309T185038Z
LAST-MODIFIED:20260309T185038Z
UID:10006498-1833615000-1833618600@prebleseniorcenter.org
SUMMARY:SAIL
DESCRIPTION:
URL:https://prebleseniorcenter.org/event/sail/2028-02-08/
CATEGORIES:On-Line Activities & Classes
END:VEVENT
BEGIN:VEVENT
DTSTART;TZID=America/New_York:20280208T110000
DTEND;TZID=America/New_York:20280208T120000
DTSTAMP:20260422T060417
CREATED:20260309T185121Z
LAST-MODIFIED:20260309T185121Z
UID:10006759-1833620400-1833624000@prebleseniorcenter.org
SUMMARY:Jedi Council
DESCRIPTION:
URL:https://prebleseniorcenter.org/event/jedi-council/2028-02-08/
CATEGORIES:Activities
END:VEVENT
BEGIN:VEVENT
DTSTART;TZID=America/New_York:20280214T093000
DTEND;TZID=America/New_York:20280214T170000
DTSTAMP:20260422T060417
CREATED:20260309T184803Z
LAST-MODIFIED:20260309T184803Z
UID:10005977-1834133400-1834160400@prebleseniorcenter.org
SUMMARY:Bible Study
DESCRIPTION:
URL:https://prebleseniorcenter.org/event/bible-study/2028-02-14/
CATEGORIES:Activities
END:VEVENT
BEGIN:VEVENT
DTSTART;TZID=America/New_York:20280214T110000
DTEND;TZID=America/New_York:20280214T120000
DTSTAMP:20260422T060417
CREATED:20260309T184935Z
LAST-MODIFIED:20260309T184935Z
UID:10006238-1834138800-1834142400@prebleseniorcenter.org
SUMMARY:Silver Sneakers
DESCRIPTION:
URL:https://prebleseniorcenter.org/event/silver-sneakers/2028-02-14/
CATEGORIES:Activities
END:VEVENT
BEGIN:VEVENT
DTSTART;TZID=America/New_York:20280215T093000
DTEND;TZID=America/New_York:20280215T103000
DTSTAMP:20260422T060417
CREATED:20260309T185038Z
LAST-MODIFIED:20260309T185038Z
UID:10006499-1834219800-1834223400@prebleseniorcenter.org
SUMMARY:SAIL
DESCRIPTION:
URL:https://prebleseniorcenter.org/event/sail/2028-02-15/
CATEGORIES:On-Line Activities & Classes
END:VEVENT
BEGIN:VEVENT
DTSTART;TZID=America/New_York:20280215T110000
DTEND;TZID=America/New_York:20280215T120000
DTSTAMP:20260422T060417
CREATED:20260309T185121Z
LAST-MODIFIED:20260309T185121Z
UID:10006760-1834225200-1834228800@prebleseniorcenter.org
SUMMARY:Jedi Council
DESCRIPTION:
URL:https://prebleseniorcenter.org/event/jedi-council/2028-02-15/
CATEGORIES:Activities
END:VEVENT
BEGIN:VEVENT
DTSTART;TZID=America/New_York:20280221T093000
DTEND;TZID=America/New_York:20280221T170000
DTSTAMP:20260422T060417
CREATED:20260309T184803Z
LAST-MODIFIED:20260309T184803Z
UID:10005978-1834738200-1834765200@prebleseniorcenter.org
SUMMARY:Bible Study
DESCRIPTION:
URL:https://prebleseniorcenter.org/event/bible-study/2028-02-21/
CATEGORIES:Activities
END:VEVENT
BEGIN:VEVENT
DTSTART;TZID=America/New_York:20280221T110000
DTEND;TZID=America/New_York:20280221T120000
DTSTAMP:20260422T060417
CREATED:20260309T184935Z
LAST-MODIFIED:20260309T184935Z
UID:10006239-1834743600-1834747200@prebleseniorcenter.org
SUMMARY:Silver Sneakers
DESCRIPTION:
URL:https://prebleseniorcenter.org/event/silver-sneakers/2028-02-21/
CATEGORIES:Activities
END:VEVENT
BEGIN:VEVENT
DTSTART;TZID=America/New_York:20280222T093000
DTEND;TZID=America/New_York:20280222T103000
DTSTAMP:20260422T060417
CREATED:20260309T185038Z
LAST-MODIFIED:20260309T185038Z
UID:10006500-1834824600-1834828200@prebleseniorcenter.org
SUMMARY:SAIL
DESCRIPTION:
URL:https://prebleseniorcenter.org/event/sail/2028-02-22/
CATEGORIES:On-Line Activities & Classes
END:VEVENT
BEGIN:VEVENT
DTSTART;TZID=America/New_York:20280222T110000
DTEND;TZID=America/New_York:20280222T120000
DTSTAMP:20260422T060417
CREATED:20260309T185121Z
LAST-MODIFIED:20260309T185121Z
UID:10006761-1834830000-1834833600@prebleseniorcenter.org
SUMMARY:Jedi Council
DESCRIPTION:
URL:https://prebleseniorcenter.org/event/jedi-council/2028-02-22/
CATEGORIES:Activities
END:VEVENT
BEGIN:VEVENT
DTSTART;TZID=America/New_York:20280223T130000
DTEND;TZID=America/New_York:20280223T170000
DTSTAMP:20260422T060417
CREATED:20260309T185403Z
LAST-MODIFIED:20260309T185403Z
UID:10007004-1834923600-1834938000@prebleseniorcenter.org
SUMMARY:Retro Rackers again Oxford
DESCRIPTION:
URL:https://prebleseniorcenter.org/event/retro-rackers-again-oxford/2028-02-23/
CATEGORIES:Activities
END:VEVENT
BEGIN:VEVENT
DTSTART;TZID=America/New_York:20280225T100000
DTEND;TZID=America/New_York:20280225T120000
DTSTAMP:20260422T060417
CREATED:20260309T185453Z
LAST-MODIFIED:20260309T185453Z
UID:10007064-1835085600-1835092800@prebleseniorcenter.org
SUMMARY:Tech Support
DESCRIPTION:
URL:https://prebleseniorcenter.org/event/tech-support/2028-02-25/
CATEGORIES:Activities
END:VEVENT
BEGIN:VEVENT
DTSTART;TZID=America/New_York:20280228T093000
DTEND;TZID=America/New_York:20280228T170000
DTSTAMP:20260422T060417
CREATED:20260309T184803Z
LAST-MODIFIED:20260309T184803Z
UID:10005979-1835343000-1835370000@prebleseniorcenter.org
SUMMARY:Bible Study
DESCRIPTION:
URL:https://prebleseniorcenter.org/event/bible-study/2028-02-28/
CATEGORIES:Activities
END:VEVENT
BEGIN:VEVENT
DTSTART;TZID=America/New_York:20280228T110000
DTEND;TZID=America/New_York:20280228T120000
DTSTAMP:20260422T060417
CREATED:20260309T184935Z
LAST-MODIFIED:20260309T184935Z
UID:10006240-1835348400-1835352000@prebleseniorcenter.org
SUMMARY:Silver Sneakers
DESCRIPTION:
URL:https://prebleseniorcenter.org/event/silver-sneakers/2028-02-28/
CATEGORIES:Activities
END:VEVENT
BEGIN:VEVENT
DTSTART;TZID=America/New_York:20280229T093000
DTEND;TZID=America/New_York:20280229T103000
DTSTAMP:20260422T060417
CREATED:20260309T185038Z
LAST-MODIFIED:20260309T185038Z
UID:10006501-1835429400-1835433000@prebleseniorcenter.org
SUMMARY:SAIL
DESCRIPTION:
URL:https://prebleseniorcenter.org/event/sail/2028-02-29/
CATEGORIES:On-Line Activities & Classes
END:VEVENT
BEGIN:VEVENT
DTSTART;TZID=America/New_York:20280229T110000
DTEND;TZID=America/New_York:20280229T120000
DTSTAMP:20260422T060417
CREATED:20260309T185121Z
LAST-MODIFIED:20260309T185121Z
UID:10006762-1835434800-1835438400@prebleseniorcenter.org
SUMMARY:Jedi Council
DESCRIPTION:
URL:https://prebleseniorcenter.org/event/jedi-council/2028-02-29/
CATEGORIES:Activities
END:VEVENT
END:VCALENDAR