BEGIN:VCALENDAR
VERSION:2.0
PRODID:-//Preble County Council on Aging - ECPv6.15.20//NONSGML v1.0//EN
CALSCALE:GREGORIAN
METHOD:PUBLISH
X-ORIGINAL-URL:https://prebleseniorcenter.org
X-WR-CALDESC:Events for Preble County Council on Aging
REFRESH-INTERVAL;VALUE=DURATION:PT1H
X-Robots-Tag:noindex
X-PUBLISHED-TTL:PT1H
BEGIN:VTIMEZONE
TZID:America/New_York
BEGIN:DAYLIGHT
TZOFFSETFROM:-0500
TZOFFSETTO:-0400
TZNAME:EDT
DTSTART:20270314T070000
END:DAYLIGHT
BEGIN:STANDARD
TZOFFSETFROM:-0400
TZOFFSETTO:-0500
TZNAME:EST
DTSTART:20271107T060000
END:STANDARD
BEGIN:DAYLIGHT
TZOFFSETFROM:-0500
TZOFFSETTO:-0400
TZNAME:EDT
DTSTART:20280312T070000
END:DAYLIGHT
BEGIN:STANDARD
TZOFFSETFROM:-0400
TZOFFSETTO:-0500
TZNAME:EST
DTSTART:20281105T060000
END:STANDARD
BEGIN:DAYLIGHT
TZOFFSETFROM:-0500
TZOFFSETTO:-0400
TZNAME:EDT
DTSTART:20290311T070000
END:DAYLIGHT
BEGIN:STANDARD
TZOFFSETFROM:-0400
TZOFFSETTO:-0500
TZNAME:EST
DTSTART:20291104T060000
END:STANDARD
END:VTIMEZONE
BEGIN:VEVENT
DTSTART;TZID=America/New_York:20280103T093000
DTEND;TZID=America/New_York:20280103T170000
DTSTAMP:20260422T042938
CREATED:20260309T184803Z
LAST-MODIFIED:20260309T184803Z
UID:10005971-1830504600-1830531600@prebleseniorcenter.org
SUMMARY:Bible Study
DESCRIPTION:
URL:https://prebleseniorcenter.org/event/bible-study/2028-01-03/
CATEGORIES:Activities
END:VEVENT
BEGIN:VEVENT
DTSTART;TZID=America/New_York:20280103T110000
DTEND;TZID=America/New_York:20280103T120000
DTSTAMP:20260422T042938
CREATED:20260309T184935Z
LAST-MODIFIED:20260309T184935Z
UID:10006232-1830510000-1830513600@prebleseniorcenter.org
SUMMARY:Silver Sneakers
DESCRIPTION:
URL:https://prebleseniorcenter.org/event/silver-sneakers/2028-01-03/
CATEGORIES:Activities
END:VEVENT
BEGIN:VEVENT
DTSTART;TZID=America/New_York:20280103T133000
DTEND;TZID=America/New_York:20280103T143000
DTSTAMP:20260422T042938
CREATED:20260309T185310Z
LAST-MODIFIED:20260309T185310Z
UID:10006942-1830519000-1830522600@prebleseniorcenter.org
SUMMARY:Participant's Council
DESCRIPTION:
URL:https://prebleseniorcenter.org/event/participants-council/2028-01-03/
CATEGORIES:Activities
END:VEVENT
BEGIN:VEVENT
DTSTART;TZID=America/New_York:20280104T093000
DTEND;TZID=America/New_York:20280104T103000
DTSTAMP:20260422T042938
CREATED:20260309T185038Z
LAST-MODIFIED:20260309T185038Z
UID:10006493-1830591000-1830594600@prebleseniorcenter.org
SUMMARY:SAIL
DESCRIPTION:
URL:https://prebleseniorcenter.org/event/sail/2028-01-04/
CATEGORIES:On-Line Activities & Classes
END:VEVENT
BEGIN:VEVENT
DTSTART;TZID=America/New_York:20280104T110000
DTEND;TZID=America/New_York:20280104T120000
DTSTAMP:20260422T042938
CREATED:20260309T185121Z
LAST-MODIFIED:20260309T185121Z
UID:10006754-1830596400-1830600000@prebleseniorcenter.org
SUMMARY:Jedi Council
DESCRIPTION:
URL:https://prebleseniorcenter.org/event/jedi-council/2028-01-04/
CATEGORIES:Activities
END:VEVENT
BEGIN:VEVENT
DTSTART;TZID=America/New_York:20280110T093000
DTEND;TZID=America/New_York:20280110T170000
DTSTAMP:20260422T042938
CREATED:20260309T184803Z
LAST-MODIFIED:20260309T184803Z
UID:10005972-1831109400-1831136400@prebleseniorcenter.org
SUMMARY:Bible Study
DESCRIPTION:
URL:https://prebleseniorcenter.org/event/bible-study/2028-01-10/
CATEGORIES:Activities
END:VEVENT
BEGIN:VEVENT
DTSTART;TZID=America/New_York:20280110T110000
DTEND;TZID=America/New_York:20280110T120000
DTSTAMP:20260422T042938
CREATED:20260309T184935Z
LAST-MODIFIED:20260309T184935Z
UID:10006233-1831114800-1831118400@prebleseniorcenter.org
SUMMARY:Silver Sneakers
DESCRIPTION:
URL:https://prebleseniorcenter.org/event/silver-sneakers/2028-01-10/
CATEGORIES:Activities
END:VEVENT
BEGIN:VEVENT
DTSTART;TZID=America/New_York:20280111T093000
DTEND;TZID=America/New_York:20280111T103000
DTSTAMP:20260422T042938
CREATED:20260309T185038Z
LAST-MODIFIED:20260309T185038Z
UID:10006494-1831195800-1831199400@prebleseniorcenter.org
SUMMARY:SAIL
DESCRIPTION:
URL:https://prebleseniorcenter.org/event/sail/2028-01-11/
CATEGORIES:On-Line Activities & Classes
END:VEVENT
BEGIN:VEVENT
DTSTART;TZID=America/New_York:20280111T110000
DTEND;TZID=America/New_York:20280111T120000
DTSTAMP:20260422T042938
CREATED:20260309T185121Z
LAST-MODIFIED:20260309T185121Z
UID:10006755-1831201200-1831204800@prebleseniorcenter.org
SUMMARY:Jedi Council
DESCRIPTION:
URL:https://prebleseniorcenter.org/event/jedi-council/2028-01-11/
CATEGORIES:Activities
END:VEVENT
BEGIN:VEVENT
DTSTART;TZID=America/New_York:20280117T093000
DTEND;TZID=America/New_York:20280117T170000
DTSTAMP:20260422T042938
CREATED:20260309T184803Z
LAST-MODIFIED:20260309T184803Z
UID:10005973-1831714200-1831741200@prebleseniorcenter.org
SUMMARY:Bible Study
DESCRIPTION:
URL:https://prebleseniorcenter.org/event/bible-study/2028-01-17/
CATEGORIES:Activities
END:VEVENT
BEGIN:VEVENT
DTSTART;TZID=America/New_York:20280117T110000
DTEND;TZID=America/New_York:20280117T120000
DTSTAMP:20260422T042938
CREATED:20260309T184935Z
LAST-MODIFIED:20260309T184935Z
UID:10006234-1831719600-1831723200@prebleseniorcenter.org
SUMMARY:Silver Sneakers
DESCRIPTION:
URL:https://prebleseniorcenter.org/event/silver-sneakers/2028-01-17/
CATEGORIES:Activities
END:VEVENT
BEGIN:VEVENT
DTSTART;TZID=America/New_York:20280118T093000
DTEND;TZID=America/New_York:20280118T103000
DTSTAMP:20260422T042938
CREATED:20260309T185038Z
LAST-MODIFIED:20260309T185038Z
UID:10006495-1831800600-1831804200@prebleseniorcenter.org
SUMMARY:SAIL
DESCRIPTION:
URL:https://prebleseniorcenter.org/event/sail/2028-01-18/
CATEGORIES:On-Line Activities & Classes
END:VEVENT
BEGIN:VEVENT
DTSTART;TZID=America/New_York:20280118T110000
DTEND;TZID=America/New_York:20280118T120000
DTSTAMP:20260422T042938
CREATED:20260309T185121Z
LAST-MODIFIED:20260309T185121Z
UID:10006756-1831806000-1831809600@prebleseniorcenter.org
SUMMARY:Jedi Council
DESCRIPTION:
URL:https://prebleseniorcenter.org/event/jedi-council/2028-01-18/
CATEGORIES:Activities
END:VEVENT
BEGIN:VEVENT
DTSTART;TZID=America/New_York:20280124T093000
DTEND;TZID=America/New_York:20280124T170000
DTSTAMP:20260422T042938
CREATED:20260309T184803Z
LAST-MODIFIED:20260309T184803Z
UID:10005974-1832319000-1832346000@prebleseniorcenter.org
SUMMARY:Bible Study
DESCRIPTION:
URL:https://prebleseniorcenter.org/event/bible-study/2028-01-24/
CATEGORIES:Activities
END:VEVENT
BEGIN:VEVENT
DTSTART;TZID=America/New_York:20280124T110000
DTEND;TZID=America/New_York:20280124T120000
DTSTAMP:20260422T042938
CREATED:20260309T184935Z
LAST-MODIFIED:20260309T184935Z
UID:10006235-1832324400-1832328000@prebleseniorcenter.org
SUMMARY:Silver Sneakers
DESCRIPTION:
URL:https://prebleseniorcenter.org/event/silver-sneakers/2028-01-24/
CATEGORIES:Activities
END:VEVENT
BEGIN:VEVENT
DTSTART;TZID=America/New_York:20280125T093000
DTEND;TZID=America/New_York:20280125T103000
DTSTAMP:20260422T042938
CREATED:20260309T185038Z
LAST-MODIFIED:20260309T185038Z
UID:10006496-1832405400-1832409000@prebleseniorcenter.org
SUMMARY:SAIL
DESCRIPTION:
URL:https://prebleseniorcenter.org/event/sail/2028-01-25/
CATEGORIES:On-Line Activities & Classes
END:VEVENT
BEGIN:VEVENT
DTSTART;TZID=America/New_York:20280125T110000
DTEND;TZID=America/New_York:20280125T120000
DTSTAMP:20260422T042938
CREATED:20260309T185121Z
LAST-MODIFIED:20260309T185121Z
UID:10006757-1832410800-1832414400@prebleseniorcenter.org
SUMMARY:Jedi Council
DESCRIPTION:
URL:https://prebleseniorcenter.org/event/jedi-council/2028-01-25/
CATEGORIES:Activities
END:VEVENT
BEGIN:VEVENT
DTSTART;TZID=America/New_York:20280126T130000
DTEND;TZID=America/New_York:20280126T170000
DTSTAMP:20260422T042938
CREATED:20260309T185403Z
LAST-MODIFIED:20260309T185403Z
UID:10007003-1832504400-1832518800@prebleseniorcenter.org
SUMMARY:Retro Rackers again Oxford
DESCRIPTION:
URL:https://prebleseniorcenter.org/event/retro-rackers-again-oxford/2028-01-26/
CATEGORIES:Activities
END:VEVENT
BEGIN:VEVENT
DTSTART;TZID=America/New_York:20280128T100000
DTEND;TZID=America/New_York:20280128T120000
DTSTAMP:20260422T042938
CREATED:20260309T185453Z
LAST-MODIFIED:20260309T185453Z
UID:10007063-1832666400-1832673600@prebleseniorcenter.org
SUMMARY:Tech Support
DESCRIPTION:
URL:https://prebleseniorcenter.org/event/tech-support/2028-01-28/
CATEGORIES:Activities
END:VEVENT
BEGIN:VEVENT
DTSTART;TZID=America/New_York:20280131T093000
DTEND;TZID=America/New_York:20280131T170000
DTSTAMP:20260422T042938
CREATED:20260309T184803Z
LAST-MODIFIED:20260309T184803Z
UID:10005975-1832923800-1832950800@prebleseniorcenter.org
SUMMARY:Bible Study
DESCRIPTION:
URL:https://prebleseniorcenter.org/event/bible-study/2028-01-31/
CATEGORIES:Activities
END:VEVENT
BEGIN:VEVENT
DTSTART;TZID=America/New_York:20280131T110000
DTEND;TZID=America/New_York:20280131T120000
DTSTAMP:20260422T042938
CREATED:20260309T184935Z
LAST-MODIFIED:20260309T184935Z
UID:10006236-1832929200-1832932800@prebleseniorcenter.org
SUMMARY:Silver Sneakers
DESCRIPTION:
URL:https://prebleseniorcenter.org/event/silver-sneakers/2028-01-31/
CATEGORIES:Activities
END:VEVENT
END:VCALENDAR