BEGIN:VCALENDAR
VERSION:2.0
PRODID:-//Preble County Council on Aging - ECPv6.15.20//NONSGML v1.0//EN
CALSCALE:GREGORIAN
METHOD:PUBLISH
X-ORIGINAL-URL:https://prebleseniorcenter.org
X-WR-CALDESC:Events for Preble County Council on Aging
REFRESH-INTERVAL;VALUE=DURATION:PT1H
X-Robots-Tag:noindex
X-PUBLISHED-TTL:PT1H
BEGIN:VTIMEZONE
TZID:America/New_York
BEGIN:DAYLIGHT
TZOFFSETFROM:-0500
TZOFFSETTO:-0400
TZNAME:EDT
DTSTART:20260308T070000
END:DAYLIGHT
BEGIN:STANDARD
TZOFFSETFROM:-0400
TZOFFSETTO:-0500
TZNAME:EST
DTSTART:20261101T060000
END:STANDARD
BEGIN:DAYLIGHT
TZOFFSETFROM:-0500
TZOFFSETTO:-0400
TZNAME:EDT
DTSTART:20270314T070000
END:DAYLIGHT
BEGIN:STANDARD
TZOFFSETFROM:-0400
TZOFFSETTO:-0500
TZNAME:EST
DTSTART:20271107T060000
END:STANDARD
BEGIN:DAYLIGHT
TZOFFSETFROM:-0500
TZOFFSETTO:-0400
TZNAME:EDT
DTSTART:20280312T070000
END:DAYLIGHT
BEGIN:STANDARD
TZOFFSETFROM:-0400
TZOFFSETTO:-0500
TZNAME:EST
DTSTART:20281105T060000
END:STANDARD
END:VTIMEZONE
BEGIN:VEVENT
DTSTART;TZID=America/New_York:20271206T093000
DTEND;TZID=America/New_York:20271206T170000
DTSTAMP:20260422T030353
CREATED:20260309T184803Z
LAST-MODIFIED:20260309T184803Z
UID:10005967-1828085400-1828112400@prebleseniorcenter.org
SUMMARY:Bible Study
DESCRIPTION:
URL:https://prebleseniorcenter.org/event/bible-study/2027-12-06/
CATEGORIES:Activities
END:VEVENT
BEGIN:VEVENT
DTSTART;TZID=America/New_York:20271206T110000
DTEND;TZID=America/New_York:20271206T120000
DTSTAMP:20260422T030353
CREATED:20260309T184935Z
LAST-MODIFIED:20260309T184935Z
UID:10006228-1828090800-1828094400@prebleseniorcenter.org
SUMMARY:Silver Sneakers
DESCRIPTION:
URL:https://prebleseniorcenter.org/event/silver-sneakers/2027-12-06/
CATEGORIES:Activities
END:VEVENT
BEGIN:VEVENT
DTSTART;TZID=America/New_York:20271206T133000
DTEND;TZID=America/New_York:20271206T143000
DTSTAMP:20260422T030353
CREATED:20260309T185310Z
LAST-MODIFIED:20260309T185310Z
UID:10006941-1828099800-1828103400@prebleseniorcenter.org
SUMMARY:Participant's Council
DESCRIPTION:
URL:https://prebleseniorcenter.org/event/participants-council/2027-12-06/
CATEGORIES:Activities
END:VEVENT
BEGIN:VEVENT
DTSTART;TZID=America/New_York:20271207T093000
DTEND;TZID=America/New_York:20271207T103000
DTSTAMP:20260422T030353
CREATED:20260309T185038Z
LAST-MODIFIED:20260309T185038Z
UID:10006489-1828171800-1828175400@prebleseniorcenter.org
SUMMARY:SAIL
DESCRIPTION:
URL:https://prebleseniorcenter.org/event/sail/2027-12-07/
CATEGORIES:On-Line Activities & Classes
END:VEVENT
BEGIN:VEVENT
DTSTART;TZID=America/New_York:20271207T110000
DTEND;TZID=America/New_York:20271207T120000
DTSTAMP:20260422T030353
CREATED:20260309T185121Z
LAST-MODIFIED:20260309T185121Z
UID:10006750-1828177200-1828180800@prebleseniorcenter.org
SUMMARY:Jedi Council
DESCRIPTION:
URL:https://prebleseniorcenter.org/event/jedi-council/2027-12-07/
CATEGORIES:Activities
END:VEVENT
BEGIN:VEVENT
DTSTART;TZID=America/New_York:20271213T093000
DTEND;TZID=America/New_York:20271213T170000
DTSTAMP:20260422T030353
CREATED:20260309T184803Z
LAST-MODIFIED:20260309T184803Z
UID:10005968-1828690200-1828717200@prebleseniorcenter.org
SUMMARY:Bible Study
DESCRIPTION:
URL:https://prebleseniorcenter.org/event/bible-study/2027-12-13/
CATEGORIES:Activities
END:VEVENT
BEGIN:VEVENT
DTSTART;TZID=America/New_York:20271213T110000
DTEND;TZID=America/New_York:20271213T120000
DTSTAMP:20260422T030353
CREATED:20260309T184935Z
LAST-MODIFIED:20260309T184935Z
UID:10006229-1828695600-1828699200@prebleseniorcenter.org
SUMMARY:Silver Sneakers
DESCRIPTION:
URL:https://prebleseniorcenter.org/event/silver-sneakers/2027-12-13/
CATEGORIES:Activities
END:VEVENT
BEGIN:VEVENT
DTSTART;TZID=America/New_York:20271214T093000
DTEND;TZID=America/New_York:20271214T103000
DTSTAMP:20260422T030353
CREATED:20260309T185038Z
LAST-MODIFIED:20260309T185038Z
UID:10006490-1828776600-1828780200@prebleseniorcenter.org
SUMMARY:SAIL
DESCRIPTION:
URL:https://prebleseniorcenter.org/event/sail/2027-12-14/
CATEGORIES:On-Line Activities & Classes
END:VEVENT
BEGIN:VEVENT
DTSTART;TZID=America/New_York:20271214T110000
DTEND;TZID=America/New_York:20271214T120000
DTSTAMP:20260422T030353
CREATED:20260309T185121Z
LAST-MODIFIED:20260309T185121Z
UID:10006751-1828782000-1828785600@prebleseniorcenter.org
SUMMARY:Jedi Council
DESCRIPTION:
URL:https://prebleseniorcenter.org/event/jedi-council/2027-12-14/
CATEGORIES:Activities
END:VEVENT
BEGIN:VEVENT
DTSTART;TZID=America/New_York:20271220T093000
DTEND;TZID=America/New_York:20271220T170000
DTSTAMP:20260422T030353
CREATED:20260309T184803Z
LAST-MODIFIED:20260309T184803Z
UID:10005969-1829295000-1829322000@prebleseniorcenter.org
SUMMARY:Bible Study
DESCRIPTION:
URL:https://prebleseniorcenter.org/event/bible-study/2027-12-20/
CATEGORIES:Activities
END:VEVENT
BEGIN:VEVENT
DTSTART;TZID=America/New_York:20271220T110000
DTEND;TZID=America/New_York:20271220T120000
DTSTAMP:20260422T030353
CREATED:20260309T184935Z
LAST-MODIFIED:20260309T184935Z
UID:10006230-1829300400-1829304000@prebleseniorcenter.org
SUMMARY:Silver Sneakers
DESCRIPTION:
URL:https://prebleseniorcenter.org/event/silver-sneakers/2027-12-20/
CATEGORIES:Activities
END:VEVENT
BEGIN:VEVENT
DTSTART;TZID=America/New_York:20271221T093000
DTEND;TZID=America/New_York:20271221T103000
DTSTAMP:20260422T030353
CREATED:20260309T185038Z
LAST-MODIFIED:20260309T185038Z
UID:10006491-1829381400-1829385000@prebleseniorcenter.org
SUMMARY:SAIL
DESCRIPTION:
URL:https://prebleseniorcenter.org/event/sail/2027-12-21/
CATEGORIES:On-Line Activities & Classes
END:VEVENT
BEGIN:VEVENT
DTSTART;TZID=America/New_York:20271221T110000
DTEND;TZID=America/New_York:20271221T120000
DTSTAMP:20260422T030353
CREATED:20260309T185121Z
LAST-MODIFIED:20260309T185121Z
UID:10006752-1829386800-1829390400@prebleseniorcenter.org
SUMMARY:Jedi Council
DESCRIPTION:
URL:https://prebleseniorcenter.org/event/jedi-council/2027-12-21/
CATEGORIES:Activities
END:VEVENT
BEGIN:VEVENT
DTSTART;TZID=America/New_York:20271222T130000
DTEND;TZID=America/New_York:20271222T170000
DTSTAMP:20260422T030353
CREATED:20260309T185403Z
LAST-MODIFIED:20260309T185403Z
UID:10007002-1829480400-1829494800@prebleseniorcenter.org
SUMMARY:Retro Rackers again Oxford
DESCRIPTION:
URL:https://prebleseniorcenter.org/event/retro-rackers-again-oxford/2027-12-22/
CATEGORIES:Activities
END:VEVENT
BEGIN:VEVENT
DTSTART;TZID=America/New_York:20271224T100000
DTEND;TZID=America/New_York:20271224T120000
DTSTAMP:20260422T030353
CREATED:20260309T185453Z
LAST-MODIFIED:20260309T185453Z
UID:10007062-1829642400-1829649600@prebleseniorcenter.org
SUMMARY:Tech Support
DESCRIPTION:
URL:https://prebleseniorcenter.org/event/tech-support/2027-12-24/
CATEGORIES:Activities
END:VEVENT
BEGIN:VEVENT
DTSTART;TZID=America/New_York:20271227T093000
DTEND;TZID=America/New_York:20271227T170000
DTSTAMP:20260422T030353
CREATED:20260309T184803Z
LAST-MODIFIED:20260309T184803Z
UID:10005970-1829899800-1829926800@prebleseniorcenter.org
SUMMARY:Bible Study
DESCRIPTION:
URL:https://prebleseniorcenter.org/event/bible-study/2027-12-27/
CATEGORIES:Activities
END:VEVENT
BEGIN:VEVENT
DTSTART;TZID=America/New_York:20271227T110000
DTEND;TZID=America/New_York:20271227T120000
DTSTAMP:20260422T030353
CREATED:20260309T184935Z
LAST-MODIFIED:20260309T184935Z
UID:10006231-1829905200-1829908800@prebleseniorcenter.org
SUMMARY:Silver Sneakers
DESCRIPTION:
URL:https://prebleseniorcenter.org/event/silver-sneakers/2027-12-27/
CATEGORIES:Activities
END:VEVENT
BEGIN:VEVENT
DTSTART;TZID=America/New_York:20271228T093000
DTEND;TZID=America/New_York:20271228T103000
DTSTAMP:20260422T030353
CREATED:20260309T185038Z
LAST-MODIFIED:20260309T185038Z
UID:10006492-1829986200-1829989800@prebleseniorcenter.org
SUMMARY:SAIL
DESCRIPTION:
URL:https://prebleseniorcenter.org/event/sail/2027-12-28/
CATEGORIES:On-Line Activities & Classes
END:VEVENT
BEGIN:VEVENT
DTSTART;TZID=America/New_York:20271228T110000
DTEND;TZID=America/New_York:20271228T120000
DTSTAMP:20260422T030353
CREATED:20260309T185121Z
LAST-MODIFIED:20260309T185121Z
UID:10006753-1829991600-1829995200@prebleseniorcenter.org
SUMMARY:Jedi Council
DESCRIPTION:
URL:https://prebleseniorcenter.org/event/jedi-council/2027-12-28/
CATEGORIES:Activities
END:VEVENT
END:VCALENDAR