BEGIN:VCALENDAR
VERSION:2.0
PRODID:-//Preble County Council on Aging - ECPv6.15.20//NONSGML v1.0//EN
CALSCALE:GREGORIAN
METHOD:PUBLISH
X-WR-CALNAME:Preble County Council on Aging
X-ORIGINAL-URL:https://prebleseniorcenter.org
X-WR-CALDESC:Events for Preble County Council on Aging
REFRESH-INTERVAL;VALUE=DURATION:PT1H
X-Robots-Tag:noindex
X-PUBLISHED-TTL:PT1H
BEGIN:VTIMEZONE
TZID:America/New_York
BEGIN:DAYLIGHT
TZOFFSETFROM:-0500
TZOFFSETTO:-0400
TZNAME:EDT
DTSTART:20260308T070000
END:DAYLIGHT
BEGIN:STANDARD
TZOFFSETFROM:-0400
TZOFFSETTO:-0500
TZNAME:EST
DTSTART:20261101T060000
END:STANDARD
BEGIN:DAYLIGHT
TZOFFSETFROM:-0500
TZOFFSETTO:-0400
TZNAME:EDT
DTSTART:20270314T070000
END:DAYLIGHT
BEGIN:STANDARD
TZOFFSETFROM:-0400
TZOFFSETTO:-0500
TZNAME:EST
DTSTART:20271107T060000
END:STANDARD
BEGIN:DAYLIGHT
TZOFFSETFROM:-0500
TZOFFSETTO:-0400
TZNAME:EDT
DTSTART:20280312T070000
END:DAYLIGHT
BEGIN:STANDARD
TZOFFSETFROM:-0400
TZOFFSETTO:-0500
TZNAME:EST
DTSTART:20281105T060000
END:STANDARD
END:VTIMEZONE
BEGIN:VEVENT
DTSTART;TZID=America/New_York:20271101T093000
DTEND;TZID=America/New_York:20271101T170000
DTSTAMP:20260422T011356
CREATED:20260309T184803Z
LAST-MODIFIED:20260309T184803Z
UID:10005962-1825061400-1825088400@prebleseniorcenter.org
SUMMARY:Bible Study
DESCRIPTION:
URL:https://prebleseniorcenter.org/event/bible-study/2027-11-01/
CATEGORIES:Activities
END:VEVENT
BEGIN:VEVENT
DTSTART;TZID=America/New_York:20271101T110000
DTEND;TZID=America/New_York:20271101T120000
DTSTAMP:20260422T011356
CREATED:20260309T184935Z
LAST-MODIFIED:20260309T184935Z
UID:10006223-1825066800-1825070400@prebleseniorcenter.org
SUMMARY:Silver Sneakers
DESCRIPTION:
URL:https://prebleseniorcenter.org/event/silver-sneakers/2027-11-01/
CATEGORIES:Activities
END:VEVENT
BEGIN:VEVENT
DTSTART;TZID=America/New_York:20271101T133000
DTEND;TZID=America/New_York:20271101T143000
DTSTAMP:20260422T011356
CREATED:20260309T185310Z
LAST-MODIFIED:20260309T185310Z
UID:10006940-1825075800-1825079400@prebleseniorcenter.org
SUMMARY:Participant's Council
DESCRIPTION:
URL:https://prebleseniorcenter.org/event/participants-council/2027-11-01/
CATEGORIES:Activities
END:VEVENT
BEGIN:VEVENT
DTSTART;TZID=America/New_York:20271102T093000
DTEND;TZID=America/New_York:20271102T103000
DTSTAMP:20260422T011356
CREATED:20260309T185038Z
LAST-MODIFIED:20260309T185038Z
UID:10006484-1825147800-1825151400@prebleseniorcenter.org
SUMMARY:SAIL
DESCRIPTION:
URL:https://prebleseniorcenter.org/event/sail/2027-11-02/
CATEGORIES:On-Line Activities & Classes
END:VEVENT
BEGIN:VEVENT
DTSTART;TZID=America/New_York:20271102T110000
DTEND;TZID=America/New_York:20271102T120000
DTSTAMP:20260422T011356
CREATED:20260309T185121Z
LAST-MODIFIED:20260309T185121Z
UID:10006745-1825153200-1825156800@prebleseniorcenter.org
SUMMARY:Jedi Council
DESCRIPTION:
URL:https://prebleseniorcenter.org/event/jedi-council/2027-11-02/
CATEGORIES:Activities
END:VEVENT
BEGIN:VEVENT
DTSTART;TZID=America/New_York:20271108T093000
DTEND;TZID=America/New_York:20271108T170000
DTSTAMP:20260422T011356
CREATED:20260309T184803Z
LAST-MODIFIED:20260309T184803Z
UID:10005963-1825666200-1825693200@prebleseniorcenter.org
SUMMARY:Bible Study
DESCRIPTION:
URL:https://prebleseniorcenter.org/event/bible-study/2027-11-08/
CATEGORIES:Activities
END:VEVENT
BEGIN:VEVENT
DTSTART;TZID=America/New_York:20271108T110000
DTEND;TZID=America/New_York:20271108T120000
DTSTAMP:20260422T011356
CREATED:20260309T184935Z
LAST-MODIFIED:20260309T184935Z
UID:10006224-1825671600-1825675200@prebleseniorcenter.org
SUMMARY:Silver Sneakers
DESCRIPTION:
URL:https://prebleseniorcenter.org/event/silver-sneakers/2027-11-08/
CATEGORIES:Activities
END:VEVENT
BEGIN:VEVENT
DTSTART;TZID=America/New_York:20271109T093000
DTEND;TZID=America/New_York:20271109T103000
DTSTAMP:20260422T011356
CREATED:20260309T185038Z
LAST-MODIFIED:20260309T185038Z
UID:10006485-1825752600-1825756200@prebleseniorcenter.org
SUMMARY:SAIL
DESCRIPTION:
URL:https://prebleseniorcenter.org/event/sail/2027-11-09/
CATEGORIES:On-Line Activities & Classes
END:VEVENT
BEGIN:VEVENT
DTSTART;TZID=America/New_York:20271109T110000
DTEND;TZID=America/New_York:20271109T120000
DTSTAMP:20260422T011356
CREATED:20260309T185121Z
LAST-MODIFIED:20260309T185121Z
UID:10006746-1825758000-1825761600@prebleseniorcenter.org
SUMMARY:Jedi Council
DESCRIPTION:
URL:https://prebleseniorcenter.org/event/jedi-council/2027-11-09/
CATEGORIES:Activities
END:VEVENT
BEGIN:VEVENT
DTSTART;TZID=America/New_York:20271115T093000
DTEND;TZID=America/New_York:20271115T170000
DTSTAMP:20260422T011356
CREATED:20260309T184803Z
LAST-MODIFIED:20260309T184803Z
UID:10005964-1826271000-1826298000@prebleseniorcenter.org
SUMMARY:Bible Study
DESCRIPTION:
URL:https://prebleseniorcenter.org/event/bible-study/2027-11-15/
CATEGORIES:Activities
END:VEVENT
BEGIN:VEVENT
DTSTART;TZID=America/New_York:20271115T110000
DTEND;TZID=America/New_York:20271115T120000
DTSTAMP:20260422T011356
CREATED:20260309T184935Z
LAST-MODIFIED:20260309T184935Z
UID:10006225-1826276400-1826280000@prebleseniorcenter.org
SUMMARY:Silver Sneakers
DESCRIPTION:
URL:https://prebleseniorcenter.org/event/silver-sneakers/2027-11-15/
CATEGORIES:Activities
END:VEVENT
BEGIN:VEVENT
DTSTART;TZID=America/New_York:20271116T093000
DTEND;TZID=America/New_York:20271116T103000
DTSTAMP:20260422T011356
CREATED:20260309T185038Z
LAST-MODIFIED:20260309T185038Z
UID:10006486-1826357400-1826361000@prebleseniorcenter.org
SUMMARY:SAIL
DESCRIPTION:
URL:https://prebleseniorcenter.org/event/sail/2027-11-16/
CATEGORIES:On-Line Activities & Classes
END:VEVENT
BEGIN:VEVENT
DTSTART;TZID=America/New_York:20271116T110000
DTEND;TZID=America/New_York:20271116T120000
DTSTAMP:20260422T011356
CREATED:20260309T185121Z
LAST-MODIFIED:20260309T185121Z
UID:10006747-1826362800-1826366400@prebleseniorcenter.org
SUMMARY:Jedi Council
DESCRIPTION:
URL:https://prebleseniorcenter.org/event/jedi-council/2027-11-16/
CATEGORIES:Activities
END:VEVENT
BEGIN:VEVENT
DTSTART;TZID=America/New_York:20271122T093000
DTEND;TZID=America/New_York:20271122T170000
DTSTAMP:20260422T011356
CREATED:20260309T184803Z
LAST-MODIFIED:20260309T184803Z
UID:10005965-1826875800-1826902800@prebleseniorcenter.org
SUMMARY:Bible Study
DESCRIPTION:
URL:https://prebleseniorcenter.org/event/bible-study/2027-11-22/
CATEGORIES:Activities
END:VEVENT
BEGIN:VEVENT
DTSTART;TZID=America/New_York:20271122T110000
DTEND;TZID=America/New_York:20271122T120000
DTSTAMP:20260422T011356
CREATED:20260309T184935Z
LAST-MODIFIED:20260309T184935Z
UID:10006226-1826881200-1826884800@prebleseniorcenter.org
SUMMARY:Silver Sneakers
DESCRIPTION:
URL:https://prebleseniorcenter.org/event/silver-sneakers/2027-11-22/
CATEGORIES:Activities
END:VEVENT
BEGIN:VEVENT
DTSTART;TZID=America/New_York:20271123T093000
DTEND;TZID=America/New_York:20271123T103000
DTSTAMP:20260422T011356
CREATED:20260309T185038Z
LAST-MODIFIED:20260309T185038Z
UID:10006487-1826962200-1826965800@prebleseniorcenter.org
SUMMARY:SAIL
DESCRIPTION:
URL:https://prebleseniorcenter.org/event/sail/2027-11-23/
CATEGORIES:On-Line Activities & Classes
END:VEVENT
BEGIN:VEVENT
DTSTART;TZID=America/New_York:20271123T110000
DTEND;TZID=America/New_York:20271123T120000
DTSTAMP:20260422T011356
CREATED:20260309T185121Z
LAST-MODIFIED:20260309T185121Z
UID:10006748-1826967600-1826971200@prebleseniorcenter.org
SUMMARY:Jedi Council
DESCRIPTION:
URL:https://prebleseniorcenter.org/event/jedi-council/2027-11-23/
CATEGORIES:Activities
END:VEVENT
BEGIN:VEVENT
DTSTART;TZID=America/New_York:20271124T130000
DTEND;TZID=America/New_York:20271124T170000
DTSTAMP:20260422T011356
CREATED:20260309T185403Z
LAST-MODIFIED:20260309T185403Z
UID:10007001-1827061200-1827075600@prebleseniorcenter.org
SUMMARY:Retro Rackers again Oxford
DESCRIPTION:
URL:https://prebleseniorcenter.org/event/retro-rackers-again-oxford/2027-11-24/
CATEGORIES:Activities
END:VEVENT
BEGIN:VEVENT
DTSTART;TZID=America/New_York:20271126T100000
DTEND;TZID=America/New_York:20271126T120000
DTSTAMP:20260422T011356
CREATED:20260309T185453Z
LAST-MODIFIED:20260309T185453Z
UID:10007061-1827223200-1827230400@prebleseniorcenter.org
SUMMARY:Tech Support
DESCRIPTION:
URL:https://prebleseniorcenter.org/event/tech-support/2027-11-26/
CATEGORIES:Activities
END:VEVENT
BEGIN:VEVENT
DTSTART;TZID=America/New_York:20271129T093000
DTEND;TZID=America/New_York:20271129T170000
DTSTAMP:20260422T011356
CREATED:20260309T184803Z
LAST-MODIFIED:20260309T184803Z
UID:10005966-1827480600-1827507600@prebleseniorcenter.org
SUMMARY:Bible Study
DESCRIPTION:
URL:https://prebleseniorcenter.org/event/bible-study/2027-11-29/
CATEGORIES:Activities
END:VEVENT
BEGIN:VEVENT
DTSTART;TZID=America/New_York:20271129T110000
DTEND;TZID=America/New_York:20271129T120000
DTSTAMP:20260422T011356
CREATED:20260309T184935Z
LAST-MODIFIED:20260309T184935Z
UID:10006227-1827486000-1827489600@prebleseniorcenter.org
SUMMARY:Silver Sneakers
DESCRIPTION:
URL:https://prebleseniorcenter.org/event/silver-sneakers/2027-11-29/
CATEGORIES:Activities
END:VEVENT
BEGIN:VEVENT
DTSTART;TZID=America/New_York:20271130T093000
DTEND;TZID=America/New_York:20271130T103000
DTSTAMP:20260422T011356
CREATED:20260309T185038Z
LAST-MODIFIED:20260309T185038Z
UID:10006488-1827567000-1827570600@prebleseniorcenter.org
SUMMARY:SAIL
DESCRIPTION:
URL:https://prebleseniorcenter.org/event/sail/2027-11-30/
CATEGORIES:On-Line Activities & Classes
END:VEVENT
BEGIN:VEVENT
DTSTART;TZID=America/New_York:20271130T110000
DTEND;TZID=America/New_York:20271130T120000
DTSTAMP:20260422T011356
CREATED:20260309T185121Z
LAST-MODIFIED:20260309T185121Z
UID:10006749-1827572400-1827576000@prebleseniorcenter.org
SUMMARY:Jedi Council
DESCRIPTION:
URL:https://prebleseniorcenter.org/event/jedi-council/2027-11-30/
CATEGORIES:Activities
END:VEVENT
END:VCALENDAR