BEGIN:VCALENDAR
VERSION:2.0
PRODID:-//Preble County Council on Aging - ECPv6.15.20//NONSGML v1.0//EN
CALSCALE:GREGORIAN
METHOD:PUBLISH
X-WR-CALNAME:Preble County Council on Aging
X-ORIGINAL-URL:https://prebleseniorcenter.org
X-WR-CALDESC:Events for Preble County Council on Aging
REFRESH-INTERVAL;VALUE=DURATION:PT1H
X-Robots-Tag:noindex
X-PUBLISHED-TTL:PT1H
BEGIN:VTIMEZONE
TZID:America/New_York
BEGIN:DAYLIGHT
TZOFFSETFROM:-0500
TZOFFSETTO:-0400
TZNAME:EDT
DTSTART:20260308T070000
END:DAYLIGHT
BEGIN:STANDARD
TZOFFSETFROM:-0400
TZOFFSETTO:-0500
TZNAME:EST
DTSTART:20261101T060000
END:STANDARD
BEGIN:DAYLIGHT
TZOFFSETFROM:-0500
TZOFFSETTO:-0400
TZNAME:EDT
DTSTART:20270314T070000
END:DAYLIGHT
BEGIN:STANDARD
TZOFFSETFROM:-0400
TZOFFSETTO:-0500
TZNAME:EST
DTSTART:20271107T060000
END:STANDARD
BEGIN:DAYLIGHT
TZOFFSETFROM:-0500
TZOFFSETTO:-0400
TZNAME:EDT
DTSTART:20280312T070000
END:DAYLIGHT
BEGIN:STANDARD
TZOFFSETFROM:-0400
TZOFFSETTO:-0500
TZNAME:EST
DTSTART:20281105T060000
END:STANDARD
END:VTIMEZONE
BEGIN:VEVENT
DTSTART;TZID=America/New_York:20270906T093000
DTEND;TZID=America/New_York:20270906T170000
DTSTAMP:20260421T221125
CREATED:20260309T184803Z
LAST-MODIFIED:20260309T184803Z
UID:10005954-1820223000-1820250000@prebleseniorcenter.org
SUMMARY:Bible Study
DESCRIPTION:
URL:https://prebleseniorcenter.org/event/bible-study/2027-09-06/
CATEGORIES:Activities
END:VEVENT
BEGIN:VEVENT
DTSTART;TZID=America/New_York:20270906T110000
DTEND;TZID=America/New_York:20270906T120000
DTSTAMP:20260421T221125
CREATED:20260309T184935Z
LAST-MODIFIED:20260309T184935Z
UID:10006215-1820228400-1820232000@prebleseniorcenter.org
SUMMARY:Silver Sneakers
DESCRIPTION:
URL:https://prebleseniorcenter.org/event/silver-sneakers/2027-09-06/
CATEGORIES:Activities
END:VEVENT
BEGIN:VEVENT
DTSTART;TZID=America/New_York:20270906T133000
DTEND;TZID=America/New_York:20270906T143000
DTSTAMP:20260421T221125
CREATED:20260309T185310Z
LAST-MODIFIED:20260309T185310Z
UID:10006938-1820237400-1820241000@prebleseniorcenter.org
SUMMARY:Participant's Council
DESCRIPTION:
URL:https://prebleseniorcenter.org/event/participants-council/2027-09-06/
CATEGORIES:Activities
END:VEVENT
BEGIN:VEVENT
DTSTART;TZID=America/New_York:20270907T093000
DTEND;TZID=America/New_York:20270907T103000
DTSTAMP:20260421T221125
CREATED:20260309T185038Z
LAST-MODIFIED:20260309T185038Z
UID:10006476-1820309400-1820313000@prebleseniorcenter.org
SUMMARY:SAIL
DESCRIPTION:
URL:https://prebleseniorcenter.org/event/sail/2027-09-07/
CATEGORIES:On-Line Activities & Classes
END:VEVENT
BEGIN:VEVENT
DTSTART;TZID=America/New_York:20270907T110000
DTEND;TZID=America/New_York:20270907T120000
DTSTAMP:20260421T221125
CREATED:20260309T185121Z
LAST-MODIFIED:20260309T185121Z
UID:10006737-1820314800-1820318400@prebleseniorcenter.org
SUMMARY:Jedi Council
DESCRIPTION:
URL:https://prebleseniorcenter.org/event/jedi-council/2027-09-07/
CATEGORIES:Activities
END:VEVENT
BEGIN:VEVENT
DTSTART;TZID=America/New_York:20270913T093000
DTEND;TZID=America/New_York:20270913T170000
DTSTAMP:20260421T221125
CREATED:20260309T184803Z
LAST-MODIFIED:20260309T184803Z
UID:10005955-1820827800-1820854800@prebleseniorcenter.org
SUMMARY:Bible Study
DESCRIPTION:
URL:https://prebleseniorcenter.org/event/bible-study/2027-09-13/
CATEGORIES:Activities
END:VEVENT
BEGIN:VEVENT
DTSTART;TZID=America/New_York:20270913T110000
DTEND;TZID=America/New_York:20270913T120000
DTSTAMP:20260421T221125
CREATED:20260309T184935Z
LAST-MODIFIED:20260309T184935Z
UID:10006216-1820833200-1820836800@prebleseniorcenter.org
SUMMARY:Silver Sneakers
DESCRIPTION:
URL:https://prebleseniorcenter.org/event/silver-sneakers/2027-09-13/
CATEGORIES:Activities
END:VEVENT
BEGIN:VEVENT
DTSTART;TZID=America/New_York:20270914T093000
DTEND;TZID=America/New_York:20270914T103000
DTSTAMP:20260421T221125
CREATED:20260309T185038Z
LAST-MODIFIED:20260309T185038Z
UID:10006477-1820914200-1820917800@prebleseniorcenter.org
SUMMARY:SAIL
DESCRIPTION:
URL:https://prebleseniorcenter.org/event/sail/2027-09-14/
CATEGORIES:On-Line Activities & Classes
END:VEVENT
BEGIN:VEVENT
DTSTART;TZID=America/New_York:20270914T110000
DTEND;TZID=America/New_York:20270914T120000
DTSTAMP:20260421T221125
CREATED:20260309T185121Z
LAST-MODIFIED:20260309T185121Z
UID:10006738-1820919600-1820923200@prebleseniorcenter.org
SUMMARY:Jedi Council
DESCRIPTION:
URL:https://prebleseniorcenter.org/event/jedi-council/2027-09-14/
CATEGORIES:Activities
END:VEVENT
BEGIN:VEVENT
DTSTART;TZID=America/New_York:20270920T093000
DTEND;TZID=America/New_York:20270920T170000
DTSTAMP:20260421T221125
CREATED:20260309T184803Z
LAST-MODIFIED:20260309T184803Z
UID:10005956-1821432600-1821459600@prebleseniorcenter.org
SUMMARY:Bible Study
DESCRIPTION:
URL:https://prebleseniorcenter.org/event/bible-study/2027-09-20/
CATEGORIES:Activities
END:VEVENT
BEGIN:VEVENT
DTSTART;TZID=America/New_York:20270920T110000
DTEND;TZID=America/New_York:20270920T120000
DTSTAMP:20260421T221125
CREATED:20260309T184935Z
LAST-MODIFIED:20260309T184935Z
UID:10006217-1821438000-1821441600@prebleseniorcenter.org
SUMMARY:Silver Sneakers
DESCRIPTION:
URL:https://prebleseniorcenter.org/event/silver-sneakers/2027-09-20/
CATEGORIES:Activities
END:VEVENT
BEGIN:VEVENT
DTSTART;TZID=America/New_York:20270921T093000
DTEND;TZID=America/New_York:20270921T103000
DTSTAMP:20260421T221125
CREATED:20260309T185038Z
LAST-MODIFIED:20260309T185038Z
UID:10006478-1821519000-1821522600@prebleseniorcenter.org
SUMMARY:SAIL
DESCRIPTION:
URL:https://prebleseniorcenter.org/event/sail/2027-09-21/
CATEGORIES:On-Line Activities & Classes
END:VEVENT
BEGIN:VEVENT
DTSTART;TZID=America/New_York:20270921T110000
DTEND;TZID=America/New_York:20270921T120000
DTSTAMP:20260421T221125
CREATED:20260309T185121Z
LAST-MODIFIED:20260309T185121Z
UID:10006739-1821524400-1821528000@prebleseniorcenter.org
SUMMARY:Jedi Council
DESCRIPTION:
URL:https://prebleseniorcenter.org/event/jedi-council/2027-09-21/
CATEGORIES:Activities
END:VEVENT
BEGIN:VEVENT
DTSTART;TZID=America/New_York:20270922T130000
DTEND;TZID=America/New_York:20270922T170000
DTSTAMP:20260421T221125
CREATED:20260309T185403Z
LAST-MODIFIED:20260309T185403Z
UID:10006999-1821618000-1821632400@prebleseniorcenter.org
SUMMARY:Retro Rackers again Oxford
DESCRIPTION:
URL:https://prebleseniorcenter.org/event/retro-rackers-again-oxford/2027-09-22/
CATEGORIES:Activities
END:VEVENT
BEGIN:VEVENT
DTSTART;TZID=America/New_York:20270924T100000
DTEND;TZID=America/New_York:20270924T120000
DTSTAMP:20260421T221125
CREATED:20260309T185453Z
LAST-MODIFIED:20260309T185453Z
UID:10007059-1821780000-1821787200@prebleseniorcenter.org
SUMMARY:Tech Support
DESCRIPTION:
URL:https://prebleseniorcenter.org/event/tech-support/2027-09-24/
CATEGORIES:Activities
END:VEVENT
BEGIN:VEVENT
DTSTART;TZID=America/New_York:20270927T093000
DTEND;TZID=America/New_York:20270927T170000
DTSTAMP:20260421T221125
CREATED:20260309T184803Z
LAST-MODIFIED:20260309T184803Z
UID:10005957-1822037400-1822064400@prebleseniorcenter.org
SUMMARY:Bible Study
DESCRIPTION:
URL:https://prebleseniorcenter.org/event/bible-study/2027-09-27/
CATEGORIES:Activities
END:VEVENT
BEGIN:VEVENT
DTSTART;TZID=America/New_York:20270927T110000
DTEND;TZID=America/New_York:20270927T120000
DTSTAMP:20260421T221125
CREATED:20260309T184935Z
LAST-MODIFIED:20260309T184935Z
UID:10006218-1822042800-1822046400@prebleseniorcenter.org
SUMMARY:Silver Sneakers
DESCRIPTION:
URL:https://prebleseniorcenter.org/event/silver-sneakers/2027-09-27/
CATEGORIES:Activities
END:VEVENT
BEGIN:VEVENT
DTSTART;TZID=America/New_York:20270928T093000
DTEND;TZID=America/New_York:20270928T103000
DTSTAMP:20260421T221125
CREATED:20260309T185038Z
LAST-MODIFIED:20260309T185038Z
UID:10006479-1822123800-1822127400@prebleseniorcenter.org
SUMMARY:SAIL
DESCRIPTION:
URL:https://prebleseniorcenter.org/event/sail/2027-09-28/
CATEGORIES:On-Line Activities & Classes
END:VEVENT
BEGIN:VEVENT
DTSTART;TZID=America/New_York:20270928T110000
DTEND;TZID=America/New_York:20270928T120000
DTSTAMP:20260421T221125
CREATED:20260309T185121Z
LAST-MODIFIED:20260309T185121Z
UID:10006740-1822129200-1822132800@prebleseniorcenter.org
SUMMARY:Jedi Council
DESCRIPTION:
URL:https://prebleseniorcenter.org/event/jedi-council/2027-09-28/
CATEGORIES:Activities
END:VEVENT
END:VCALENDAR