BEGIN:VCALENDAR
VERSION:2.0
PRODID:-//Preble County Council on Aging - ECPv6.15.20//NONSGML v1.0//EN
CALSCALE:GREGORIAN
METHOD:PUBLISH
X-ORIGINAL-URL:https://prebleseniorcenter.org
X-WR-CALDESC:Events for Preble County Council on Aging
REFRESH-INTERVAL;VALUE=DURATION:PT1H
X-Robots-Tag:noindex
X-PUBLISHED-TTL:PT1H
BEGIN:VTIMEZONE
TZID:America/New_York
BEGIN:DAYLIGHT
TZOFFSETFROM:-0500
TZOFFSETTO:-0400
TZNAME:EDT
DTSTART:20260308T070000
END:DAYLIGHT
BEGIN:STANDARD
TZOFFSETFROM:-0400
TZOFFSETTO:-0500
TZNAME:EST
DTSTART:20261101T060000
END:STANDARD
BEGIN:DAYLIGHT
TZOFFSETFROM:-0500
TZOFFSETTO:-0400
TZNAME:EDT
DTSTART:20270314T070000
END:DAYLIGHT
BEGIN:STANDARD
TZOFFSETFROM:-0400
TZOFFSETTO:-0500
TZNAME:EST
DTSTART:20271107T060000
END:STANDARD
BEGIN:DAYLIGHT
TZOFFSETFROM:-0500
TZOFFSETTO:-0400
TZNAME:EDT
DTSTART:20280312T070000
END:DAYLIGHT
BEGIN:STANDARD
TZOFFSETFROM:-0400
TZOFFSETTO:-0500
TZNAME:EST
DTSTART:20281105T060000
END:STANDARD
END:VTIMEZONE
BEGIN:VEVENT
DTSTART;TZID=America/New_York:20270601T093000
DTEND;TZID=America/New_York:20270601T103000
DTSTAMP:20260421T175359
CREATED:20260309T185038Z
LAST-MODIFIED:20260309T185038Z
UID:10006462-1811842200-1811845800@prebleseniorcenter.org
SUMMARY:SAIL
DESCRIPTION:
URL:https://prebleseniorcenter.org/event/sail/2027-06-01/
CATEGORIES:On-Line Activities & Classes
END:VEVENT
BEGIN:VEVENT
DTSTART;TZID=America/New_York:20270601T110000
DTEND;TZID=America/New_York:20270601T120000
DTSTAMP:20260421T175359
CREATED:20260309T185121Z
LAST-MODIFIED:20260309T185121Z
UID:10006723-1811847600-1811851200@prebleseniorcenter.org
SUMMARY:Jedi Council
DESCRIPTION:
URL:https://prebleseniorcenter.org/event/jedi-council/2027-06-01/
CATEGORIES:Activities
END:VEVENT
BEGIN:VEVENT
DTSTART;TZID=America/New_York:20270607T093000
DTEND;TZID=America/New_York:20270607T170000
DTSTAMP:20260421T175359
CREATED:20260309T184803Z
LAST-MODIFIED:20260309T184803Z
UID:10005941-1812360600-1812387600@prebleseniorcenter.org
SUMMARY:Bible Study
DESCRIPTION:
URL:https://prebleseniorcenter.org/event/bible-study/2027-06-07/
CATEGORIES:Activities
END:VEVENT
BEGIN:VEVENT
DTSTART;TZID=America/New_York:20270607T110000
DTEND;TZID=America/New_York:20270607T120000
DTSTAMP:20260421T175359
CREATED:20260309T184935Z
LAST-MODIFIED:20260309T184935Z
UID:10006202-1812366000-1812369600@prebleseniorcenter.org
SUMMARY:Silver Sneakers
DESCRIPTION:
URL:https://prebleseniorcenter.org/event/silver-sneakers/2027-06-07/
CATEGORIES:Activities
END:VEVENT
BEGIN:VEVENT
DTSTART;TZID=America/New_York:20270607T133000
DTEND;TZID=America/New_York:20270607T143000
DTSTAMP:20260421T175400
CREATED:20260309T185310Z
LAST-MODIFIED:20260309T185310Z
UID:10006935-1812375000-1812378600@prebleseniorcenter.org
SUMMARY:Participant's Council
DESCRIPTION:
URL:https://prebleseniorcenter.org/event/participants-council/2027-06-07/
CATEGORIES:Activities
END:VEVENT
BEGIN:VEVENT
DTSTART;TZID=America/New_York:20270608T093000
DTEND;TZID=America/New_York:20270608T103000
DTSTAMP:20260421T175400
CREATED:20260309T185038Z
LAST-MODIFIED:20260309T185038Z
UID:10006463-1812447000-1812450600@prebleseniorcenter.org
SUMMARY:SAIL
DESCRIPTION:
URL:https://prebleseniorcenter.org/event/sail/2027-06-08/
CATEGORIES:On-Line Activities & Classes
END:VEVENT
BEGIN:VEVENT
DTSTART;TZID=America/New_York:20270608T110000
DTEND;TZID=America/New_York:20270608T120000
DTSTAMP:20260421T175400
CREATED:20260309T185121Z
LAST-MODIFIED:20260309T185121Z
UID:10006724-1812452400-1812456000@prebleseniorcenter.org
SUMMARY:Jedi Council
DESCRIPTION:
URL:https://prebleseniorcenter.org/event/jedi-council/2027-06-08/
CATEGORIES:Activities
END:VEVENT
BEGIN:VEVENT
DTSTART;TZID=America/New_York:20270614T093000
DTEND;TZID=America/New_York:20270614T170000
DTSTAMP:20260421T175400
CREATED:20260309T184803Z
LAST-MODIFIED:20260309T184803Z
UID:10005942-1812965400-1812992400@prebleseniorcenter.org
SUMMARY:Bible Study
DESCRIPTION:
URL:https://prebleseniorcenter.org/event/bible-study/2027-06-14/
CATEGORIES:Activities
END:VEVENT
BEGIN:VEVENT
DTSTART;TZID=America/New_York:20270614T110000
DTEND;TZID=America/New_York:20270614T120000
DTSTAMP:20260421T175400
CREATED:20260309T184935Z
LAST-MODIFIED:20260309T184935Z
UID:10006203-1812970800-1812974400@prebleseniorcenter.org
SUMMARY:Silver Sneakers
DESCRIPTION:
URL:https://prebleseniorcenter.org/event/silver-sneakers/2027-06-14/
CATEGORIES:Activities
END:VEVENT
BEGIN:VEVENT
DTSTART;TZID=America/New_York:20270615T093000
DTEND;TZID=America/New_York:20270615T103000
DTSTAMP:20260421T175400
CREATED:20260309T185038Z
LAST-MODIFIED:20260309T185038Z
UID:10006464-1813051800-1813055400@prebleseniorcenter.org
SUMMARY:SAIL
DESCRIPTION:
URL:https://prebleseniorcenter.org/event/sail/2027-06-15/
CATEGORIES:On-Line Activities & Classes
END:VEVENT
BEGIN:VEVENT
DTSTART;TZID=America/New_York:20270615T110000
DTEND;TZID=America/New_York:20270615T120000
DTSTAMP:20260421T175400
CREATED:20260309T185121Z
LAST-MODIFIED:20260309T185121Z
UID:10006725-1813057200-1813060800@prebleseniorcenter.org
SUMMARY:Jedi Council
DESCRIPTION:
URL:https://prebleseniorcenter.org/event/jedi-council/2027-06-15/
CATEGORIES:Activities
END:VEVENT
BEGIN:VEVENT
DTSTART;TZID=America/New_York:20270621T093000
DTEND;TZID=America/New_York:20270621T170000
DTSTAMP:20260421T175400
CREATED:20260309T184803Z
LAST-MODIFIED:20260309T184803Z
UID:10005943-1813570200-1813597200@prebleseniorcenter.org
SUMMARY:Bible Study
DESCRIPTION:
URL:https://prebleseniorcenter.org/event/bible-study/2027-06-21/
CATEGORIES:Activities
END:VEVENT
BEGIN:VEVENT
DTSTART;TZID=America/New_York:20270621T110000
DTEND;TZID=America/New_York:20270621T120000
DTSTAMP:20260421T175400
CREATED:20260309T184935Z
LAST-MODIFIED:20260309T184935Z
UID:10006204-1813575600-1813579200@prebleseniorcenter.org
SUMMARY:Silver Sneakers
DESCRIPTION:
URL:https://prebleseniorcenter.org/event/silver-sneakers/2027-06-21/
CATEGORIES:Activities
END:VEVENT
BEGIN:VEVENT
DTSTART;TZID=America/New_York:20270622T093000
DTEND;TZID=America/New_York:20270622T103000
DTSTAMP:20260421T175400
CREATED:20260309T185038Z
LAST-MODIFIED:20260309T185038Z
UID:10006465-1813656600-1813660200@prebleseniorcenter.org
SUMMARY:SAIL
DESCRIPTION:
URL:https://prebleseniorcenter.org/event/sail/2027-06-22/
CATEGORIES:On-Line Activities & Classes
END:VEVENT
BEGIN:VEVENT
DTSTART;TZID=America/New_York:20270622T110000
DTEND;TZID=America/New_York:20270622T120000
DTSTAMP:20260421T175400
CREATED:20260309T185121Z
LAST-MODIFIED:20260309T185121Z
UID:10006726-1813662000-1813665600@prebleseniorcenter.org
SUMMARY:Jedi Council
DESCRIPTION:
URL:https://prebleseniorcenter.org/event/jedi-council/2027-06-22/
CATEGORIES:Activities
END:VEVENT
BEGIN:VEVENT
DTSTART;TZID=America/New_York:20270623T130000
DTEND;TZID=America/New_York:20270623T170000
DTSTAMP:20260421T175400
CREATED:20260309T185403Z
LAST-MODIFIED:20260309T185403Z
UID:10006996-1813755600-1813770000@prebleseniorcenter.org
SUMMARY:Retro Rackers again Oxford
DESCRIPTION:
URL:https://prebleseniorcenter.org/event/retro-rackers-again-oxford/2027-06-23/
CATEGORIES:Activities
END:VEVENT
BEGIN:VEVENT
DTSTART;TZID=America/New_York:20270625T100000
DTEND;TZID=America/New_York:20270625T120000
DTSTAMP:20260421T175400
CREATED:20260309T185453Z
LAST-MODIFIED:20260309T185453Z
UID:10007056-1813917600-1813924800@prebleseniorcenter.org
SUMMARY:Tech Support
DESCRIPTION:
URL:https://prebleseniorcenter.org/event/tech-support/2027-06-25/
CATEGORIES:Activities
END:VEVENT
BEGIN:VEVENT
DTSTART;TZID=America/New_York:20270628T093000
DTEND;TZID=America/New_York:20270628T170000
DTSTAMP:20260421T175400
CREATED:20260309T184803Z
LAST-MODIFIED:20260309T184803Z
UID:10005944-1814175000-1814202000@prebleseniorcenter.org
SUMMARY:Bible Study
DESCRIPTION:
URL:https://prebleseniorcenter.org/event/bible-study/2027-06-28/
CATEGORIES:Activities
END:VEVENT
BEGIN:VEVENT
DTSTART;TZID=America/New_York:20270628T110000
DTEND;TZID=America/New_York:20270628T120000
DTSTAMP:20260421T175400
CREATED:20260309T184935Z
LAST-MODIFIED:20260309T184935Z
UID:10006205-1814180400-1814184000@prebleseniorcenter.org
SUMMARY:Silver Sneakers
DESCRIPTION:
URL:https://prebleseniorcenter.org/event/silver-sneakers/2027-06-28/
CATEGORIES:Activities
END:VEVENT
BEGIN:VEVENT
DTSTART;TZID=America/New_York:20270629T093000
DTEND;TZID=America/New_York:20270629T103000
DTSTAMP:20260421T175400
CREATED:20260309T185038Z
LAST-MODIFIED:20260309T185038Z
UID:10006466-1814261400-1814265000@prebleseniorcenter.org
SUMMARY:SAIL
DESCRIPTION:
URL:https://prebleseniorcenter.org/event/sail/2027-06-29/
CATEGORIES:On-Line Activities & Classes
END:VEVENT
BEGIN:VEVENT
DTSTART;TZID=America/New_York:20270629T110000
DTEND;TZID=America/New_York:20270629T120000
DTSTAMP:20260421T175400
CREATED:20260309T185121Z
LAST-MODIFIED:20260309T185121Z
UID:10006727-1814266800-1814270400@prebleseniorcenter.org
SUMMARY:Jedi Council
DESCRIPTION:
URL:https://prebleseniorcenter.org/event/jedi-council/2027-06-29/
CATEGORIES:Activities
END:VEVENT
END:VCALENDAR