BEGIN:VCALENDAR
VERSION:2.0
PRODID:-//Preble County Council on Aging - ECPv6.15.20//NONSGML v1.0//EN
CALSCALE:GREGORIAN
METHOD:PUBLISH
X-WR-CALNAME:Preble County Council on Aging
X-ORIGINAL-URL:https://prebleseniorcenter.org
X-WR-CALDESC:Events for Preble County Council on Aging
REFRESH-INTERVAL;VALUE=DURATION:PT1H
X-Robots-Tag:noindex
X-PUBLISHED-TTL:PT1H
BEGIN:VTIMEZONE
TZID:America/New_York
BEGIN:DAYLIGHT
TZOFFSETFROM:-0500
TZOFFSETTO:-0400
TZNAME:EDT
DTSTART:20260308T070000
END:DAYLIGHT
BEGIN:STANDARD
TZOFFSETFROM:-0400
TZOFFSETTO:-0500
TZNAME:EST
DTSTART:20261101T060000
END:STANDARD
BEGIN:DAYLIGHT
TZOFFSETFROM:-0500
TZOFFSETTO:-0400
TZNAME:EDT
DTSTART:20270314T070000
END:DAYLIGHT
BEGIN:STANDARD
TZOFFSETFROM:-0400
TZOFFSETTO:-0500
TZNAME:EST
DTSTART:20271107T060000
END:STANDARD
BEGIN:DAYLIGHT
TZOFFSETFROM:-0500
TZOFFSETTO:-0400
TZNAME:EDT
DTSTART:20280312T070000
END:DAYLIGHT
BEGIN:STANDARD
TZOFFSETFROM:-0400
TZOFFSETTO:-0500
TZNAME:EST
DTSTART:20281105T060000
END:STANDARD
END:VTIMEZONE
BEGIN:VEVENT
DTSTART;TZID=America/New_York:20270405T093000
DTEND;TZID=America/New_York:20270405T170000
DTSTAMP:20260421T142617
CREATED:20260309T184803Z
LAST-MODIFIED:20260309T184803Z
UID:10005932-1806917400-1806944400@prebleseniorcenter.org
SUMMARY:Bible Study
DESCRIPTION:
URL:https://prebleseniorcenter.org/event/bible-study/2027-04-05/
CATEGORIES:Activities
END:VEVENT
BEGIN:VEVENT
DTSTART;TZID=America/New_York:20270405T110000
DTEND;TZID=America/New_York:20270405T120000
DTSTAMP:20260421T142617
CREATED:20260309T184935Z
LAST-MODIFIED:20260309T184935Z
UID:10006193-1806922800-1806926400@prebleseniorcenter.org
SUMMARY:Silver Sneakers
DESCRIPTION:
URL:https://prebleseniorcenter.org/event/silver-sneakers/2027-04-05/
CATEGORIES:Activities
END:VEVENT
BEGIN:VEVENT
DTSTART;TZID=America/New_York:20270405T133000
DTEND;TZID=America/New_York:20270405T143000
DTSTAMP:20260421T142617
CREATED:20260309T185310Z
LAST-MODIFIED:20260309T185310Z
UID:10006933-1806931800-1806935400@prebleseniorcenter.org
SUMMARY:Participant's Council
DESCRIPTION:
URL:https://prebleseniorcenter.org/event/participants-council/2027-04-05/
CATEGORIES:Activities
END:VEVENT
BEGIN:VEVENT
DTSTART;TZID=America/New_York:20270406T093000
DTEND;TZID=America/New_York:20270406T103000
DTSTAMP:20260421T142617
CREATED:20260309T185038Z
LAST-MODIFIED:20260309T185038Z
UID:10006454-1807003800-1807007400@prebleseniorcenter.org
SUMMARY:SAIL
DESCRIPTION:
URL:https://prebleseniorcenter.org/event/sail/2027-04-06/
CATEGORIES:On-Line Activities & Classes
END:VEVENT
BEGIN:VEVENT
DTSTART;TZID=America/New_York:20270406T110000
DTEND;TZID=America/New_York:20270406T120000
DTSTAMP:20260421T142617
CREATED:20260309T185121Z
LAST-MODIFIED:20260309T185121Z
UID:10006715-1807009200-1807012800@prebleseniorcenter.org
SUMMARY:Jedi Council
DESCRIPTION:
URL:https://prebleseniorcenter.org/event/jedi-council/2027-04-06/
CATEGORIES:Activities
END:VEVENT
BEGIN:VEVENT
DTSTART;TZID=America/New_York:20270412T093000
DTEND;TZID=America/New_York:20270412T170000
DTSTAMP:20260421T142617
CREATED:20260309T184803Z
LAST-MODIFIED:20260309T184803Z
UID:10005933-1807522200-1807549200@prebleseniorcenter.org
SUMMARY:Bible Study
DESCRIPTION:
URL:https://prebleseniorcenter.org/event/bible-study/2027-04-12/
CATEGORIES:Activities
END:VEVENT
BEGIN:VEVENT
DTSTART;TZID=America/New_York:20270412T110000
DTEND;TZID=America/New_York:20270412T120000
DTSTAMP:20260421T142617
CREATED:20260309T184935Z
LAST-MODIFIED:20260309T184935Z
UID:10006194-1807527600-1807531200@prebleseniorcenter.org
SUMMARY:Silver Sneakers
DESCRIPTION:
URL:https://prebleseniorcenter.org/event/silver-sneakers/2027-04-12/
CATEGORIES:Activities
END:VEVENT
BEGIN:VEVENT
DTSTART;TZID=America/New_York:20270413T093000
DTEND;TZID=America/New_York:20270413T103000
DTSTAMP:20260421T142617
CREATED:20260309T185038Z
LAST-MODIFIED:20260309T185038Z
UID:10006455-1807608600-1807612200@prebleseniorcenter.org
SUMMARY:SAIL
DESCRIPTION:
URL:https://prebleseniorcenter.org/event/sail/2027-04-13/
CATEGORIES:On-Line Activities & Classes
END:VEVENT
BEGIN:VEVENT
DTSTART;TZID=America/New_York:20270413T110000
DTEND;TZID=America/New_York:20270413T120000
DTSTAMP:20260421T142617
CREATED:20260309T185121Z
LAST-MODIFIED:20260309T185121Z
UID:10006716-1807614000-1807617600@prebleseniorcenter.org
SUMMARY:Jedi Council
DESCRIPTION:
URL:https://prebleseniorcenter.org/event/jedi-council/2027-04-13/
CATEGORIES:Activities
END:VEVENT
BEGIN:VEVENT
DTSTART;TZID=America/New_York:20270419T093000
DTEND;TZID=America/New_York:20270419T170000
DTSTAMP:20260421T142617
CREATED:20260309T184803Z
LAST-MODIFIED:20260309T184803Z
UID:10005934-1808127000-1808154000@prebleseniorcenter.org
SUMMARY:Bible Study
DESCRIPTION:
URL:https://prebleseniorcenter.org/event/bible-study/2027-04-19/
CATEGORIES:Activities
END:VEVENT
BEGIN:VEVENT
DTSTART;TZID=America/New_York:20270419T110000
DTEND;TZID=America/New_York:20270419T120000
DTSTAMP:20260421T142617
CREATED:20260309T184935Z
LAST-MODIFIED:20260309T184935Z
UID:10006195-1808132400-1808136000@prebleseniorcenter.org
SUMMARY:Silver Sneakers
DESCRIPTION:
URL:https://prebleseniorcenter.org/event/silver-sneakers/2027-04-19/
CATEGORIES:Activities
END:VEVENT
BEGIN:VEVENT
DTSTART;TZID=America/New_York:20270420T093000
DTEND;TZID=America/New_York:20270420T103000
DTSTAMP:20260421T142617
CREATED:20260309T185038Z
LAST-MODIFIED:20260309T185038Z
UID:10006456-1808213400-1808217000@prebleseniorcenter.org
SUMMARY:SAIL
DESCRIPTION:
URL:https://prebleseniorcenter.org/event/sail/2027-04-20/
CATEGORIES:On-Line Activities & Classes
END:VEVENT
BEGIN:VEVENT
DTSTART;TZID=America/New_York:20270420T110000
DTEND;TZID=America/New_York:20270420T120000
DTSTAMP:20260421T142617
CREATED:20260309T185121Z
LAST-MODIFIED:20260309T185121Z
UID:10006717-1808218800-1808222400@prebleseniorcenter.org
SUMMARY:Jedi Council
DESCRIPTION:
URL:https://prebleseniorcenter.org/event/jedi-council/2027-04-20/
CATEGORIES:Activities
END:VEVENT
BEGIN:VEVENT
DTSTART;TZID=America/New_York:20270423T100000
DTEND;TZID=America/New_York:20270423T120000
DTSTAMP:20260421T142617
CREATED:20260309T185453Z
LAST-MODIFIED:20260309T185453Z
UID:10007054-1808474400-1808481600@prebleseniorcenter.org
SUMMARY:Tech Support
DESCRIPTION:
URL:https://prebleseniorcenter.org/event/tech-support/2027-04-23/
CATEGORIES:Activities
END:VEVENT
BEGIN:VEVENT
DTSTART;TZID=America/New_York:20270426T093000
DTEND;TZID=America/New_York:20270426T170000
DTSTAMP:20260421T142617
CREATED:20260309T184803Z
LAST-MODIFIED:20260309T184803Z
UID:10005935-1808731800-1808758800@prebleseniorcenter.org
SUMMARY:Bible Study
DESCRIPTION:
URL:https://prebleseniorcenter.org/event/bible-study/2027-04-26/
CATEGORIES:Activities
END:VEVENT
BEGIN:VEVENT
DTSTART;TZID=America/New_York:20270426T110000
DTEND;TZID=America/New_York:20270426T120000
DTSTAMP:20260421T142617
CREATED:20260309T184935Z
LAST-MODIFIED:20260309T184935Z
UID:10006196-1808737200-1808740800@prebleseniorcenter.org
SUMMARY:Silver Sneakers
DESCRIPTION:
URL:https://prebleseniorcenter.org/event/silver-sneakers/2027-04-26/
CATEGORIES:Activities
END:VEVENT
BEGIN:VEVENT
DTSTART;TZID=America/New_York:20270427T093000
DTEND;TZID=America/New_York:20270427T103000
DTSTAMP:20260421T142617
CREATED:20260309T185038Z
LAST-MODIFIED:20260309T185038Z
UID:10006457-1808818200-1808821800@prebleseniorcenter.org
SUMMARY:SAIL
DESCRIPTION:
URL:https://prebleseniorcenter.org/event/sail/2027-04-27/
CATEGORIES:On-Line Activities & Classes
END:VEVENT
BEGIN:VEVENT
DTSTART;TZID=America/New_York:20270427T110000
DTEND;TZID=America/New_York:20270427T120000
DTSTAMP:20260421T142617
CREATED:20260309T185121Z
LAST-MODIFIED:20260309T185121Z
UID:10006718-1808823600-1808827200@prebleseniorcenter.org
SUMMARY:Jedi Council
DESCRIPTION:
URL:https://prebleseniorcenter.org/event/jedi-council/2027-04-27/
CATEGORIES:Activities
END:VEVENT
BEGIN:VEVENT
DTSTART;TZID=America/New_York:20270428T130000
DTEND;TZID=America/New_York:20270428T170000
DTSTAMP:20260421T142617
CREATED:20260309T185403Z
LAST-MODIFIED:20260309T185403Z
UID:10006994-1808917200-1808931600@prebleseniorcenter.org
SUMMARY:Retro Rackers again Oxford
DESCRIPTION:
URL:https://prebleseniorcenter.org/event/retro-rackers-again-oxford/2027-04-28/
CATEGORIES:Activities
END:VEVENT
END:VCALENDAR