BEGIN:VCALENDAR
VERSION:2.0
PRODID:-//Preble County Council on Aging - ECPv6.15.20//NONSGML v1.0//EN
CALSCALE:GREGORIAN
METHOD:PUBLISH
X-WR-CALNAME:Preble County Council on Aging
X-ORIGINAL-URL:https://prebleseniorcenter.org
X-WR-CALDESC:Events for Preble County Council on Aging
REFRESH-INTERVAL;VALUE=DURATION:PT1H
X-Robots-Tag:noindex
X-PUBLISHED-TTL:PT1H
BEGIN:VTIMEZONE
TZID:America/New_York
BEGIN:DAYLIGHT
TZOFFSETFROM:-0500
TZOFFSETTO:-0400
TZNAME:EDT
DTSTART:20250309T070000
END:DAYLIGHT
BEGIN:STANDARD
TZOFFSETFROM:-0400
TZOFFSETTO:-0500
TZNAME:EST
DTSTART:20251102T060000
END:STANDARD
BEGIN:DAYLIGHT
TZOFFSETFROM:-0500
TZOFFSETTO:-0400
TZNAME:EDT
DTSTART:20260308T070000
END:DAYLIGHT
BEGIN:STANDARD
TZOFFSETFROM:-0400
TZOFFSETTO:-0500
TZNAME:EST
DTSTART:20261101T060000
END:STANDARD
BEGIN:DAYLIGHT
TZOFFSETFROM:-0500
TZOFFSETTO:-0400
TZNAME:EDT
DTSTART:20270314T070000
END:DAYLIGHT
BEGIN:STANDARD
TZOFFSETFROM:-0400
TZOFFSETTO:-0500
TZNAME:EST
DTSTART:20271107T060000
END:STANDARD
BEGIN:DAYLIGHT
TZOFFSETFROM:-0500
TZOFFSETTO:-0400
TZNAME:EDT
DTSTART:20280312T070000
END:DAYLIGHT
BEGIN:STANDARD
TZOFFSETFROM:-0400
TZOFFSETTO:-0500
TZNAME:EST
DTSTART:20281105T060000
END:STANDARD
END:VTIMEZONE
BEGIN:VEVENT
DTSTART;VALUE=DATE:20261231
DTEND;VALUE=DATE:20270102
DTSTAMP:20260421T094826
CREATED:20260309T183925Z
LAST-MODIFIED:20260309T183925Z
UID:10005874-1798675200-1798847999@prebleseniorcenter.org
SUMMARY:CLOSED FOR HOLIDAY
DESCRIPTION:
URL:https://prebleseniorcenter.org/event/closed-for-holiday-10/
CATEGORIES:Closings & Holidays
END:VEVENT
BEGIN:VEVENT
DTSTART;TZID=America/New_York:20270104T093000
DTEND;TZID=America/New_York:20270104T170000
DTSTAMP:20260421T094826
CREATED:20260309T184803Z
LAST-MODIFIED:20260309T184803Z
UID:10005919-1799055000-1799082000@prebleseniorcenter.org
SUMMARY:Bible Study
DESCRIPTION:
URL:https://prebleseniorcenter.org/event/bible-study/2027-01-04/
CATEGORIES:Activities
END:VEVENT
BEGIN:VEVENT
DTSTART;TZID=America/New_York:20270104T110000
DTEND;TZID=America/New_York:20270104T120000
DTSTAMP:20260421T094826
CREATED:20260309T184935Z
LAST-MODIFIED:20260309T184935Z
UID:10006180-1799060400-1799064000@prebleseniorcenter.org
SUMMARY:Silver Sneakers
DESCRIPTION:
URL:https://prebleseniorcenter.org/event/silver-sneakers/2027-01-04/
CATEGORIES:Activities
END:VEVENT
BEGIN:VEVENT
DTSTART;TZID=America/New_York:20270104T133000
DTEND;TZID=America/New_York:20270104T143000
DTSTAMP:20260421T094826
CREATED:20260309T185310Z
LAST-MODIFIED:20260309T185310Z
UID:10006930-1799069400-1799073000@prebleseniorcenter.org
SUMMARY:Participant's Council
DESCRIPTION:
URL:https://prebleseniorcenter.org/event/participants-council/2027-01-04/
CATEGORIES:Activities
END:VEVENT
BEGIN:VEVENT
DTSTART;TZID=America/New_York:20270105T093000
DTEND;TZID=America/New_York:20270105T103000
DTSTAMP:20260421T094826
CREATED:20260309T185038Z
LAST-MODIFIED:20260309T185038Z
UID:10006441-1799141400-1799145000@prebleseniorcenter.org
SUMMARY:SAIL
DESCRIPTION:
URL:https://prebleseniorcenter.org/event/sail/2027-01-05/
CATEGORIES:On-Line Activities & Classes
END:VEVENT
BEGIN:VEVENT
DTSTART;TZID=America/New_York:20270105T110000
DTEND;TZID=America/New_York:20270105T120000
DTSTAMP:20260421T094826
CREATED:20260309T185121Z
LAST-MODIFIED:20260309T185121Z
UID:10006702-1799146800-1799150400@prebleseniorcenter.org
SUMMARY:Jedi Council
DESCRIPTION:
URL:https://prebleseniorcenter.org/event/jedi-council/2027-01-05/
CATEGORIES:Activities
END:VEVENT
BEGIN:VEVENT
DTSTART;TZID=America/New_York:20270111T093000
DTEND;TZID=America/New_York:20270111T170000
DTSTAMP:20260421T094826
CREATED:20260309T184803Z
LAST-MODIFIED:20260309T184803Z
UID:10005920-1799659800-1799686800@prebleseniorcenter.org
SUMMARY:Bible Study
DESCRIPTION:
URL:https://prebleseniorcenter.org/event/bible-study/2027-01-11/
CATEGORIES:Activities
END:VEVENT
BEGIN:VEVENT
DTSTART;TZID=America/New_York:20270111T110000
DTEND;TZID=America/New_York:20270111T120000
DTSTAMP:20260421T094826
CREATED:20260309T184935Z
LAST-MODIFIED:20260309T184935Z
UID:10006181-1799665200-1799668800@prebleseniorcenter.org
SUMMARY:Silver Sneakers
DESCRIPTION:
URL:https://prebleseniorcenter.org/event/silver-sneakers/2027-01-11/
CATEGORIES:Activities
END:VEVENT
BEGIN:VEVENT
DTSTART;TZID=America/New_York:20270112T093000
DTEND;TZID=America/New_York:20270112T103000
DTSTAMP:20260421T094826
CREATED:20260309T185038Z
LAST-MODIFIED:20260309T185038Z
UID:10006442-1799746200-1799749800@prebleseniorcenter.org
SUMMARY:SAIL
DESCRIPTION:
URL:https://prebleseniorcenter.org/event/sail/2027-01-12/
CATEGORIES:On-Line Activities & Classes
END:VEVENT
BEGIN:VEVENT
DTSTART;TZID=America/New_York:20270112T110000
DTEND;TZID=America/New_York:20270112T120000
DTSTAMP:20260421T094826
CREATED:20260309T185121Z
LAST-MODIFIED:20260309T185121Z
UID:10006703-1799751600-1799755200@prebleseniorcenter.org
SUMMARY:Jedi Council
DESCRIPTION:
URL:https://prebleseniorcenter.org/event/jedi-council/2027-01-12/
CATEGORIES:Activities
END:VEVENT
BEGIN:VEVENT
DTSTART;TZID=America/New_York:20270118T093000
DTEND;TZID=America/New_York:20270118T170000
DTSTAMP:20260421T094826
CREATED:20260309T184803Z
LAST-MODIFIED:20260309T184803Z
UID:10005921-1800264600-1800291600@prebleseniorcenter.org
SUMMARY:Bible Study
DESCRIPTION:
URL:https://prebleseniorcenter.org/event/bible-study/2027-01-18/
CATEGORIES:Activities
END:VEVENT
BEGIN:VEVENT
DTSTART;TZID=America/New_York:20270118T110000
DTEND;TZID=America/New_York:20270118T120000
DTSTAMP:20260421T094826
CREATED:20260309T184935Z
LAST-MODIFIED:20260309T184935Z
UID:10006182-1800270000-1800273600@prebleseniorcenter.org
SUMMARY:Silver Sneakers
DESCRIPTION:
URL:https://prebleseniorcenter.org/event/silver-sneakers/2027-01-18/
CATEGORIES:Activities
END:VEVENT
BEGIN:VEVENT
DTSTART;TZID=America/New_York:20270119T093000
DTEND;TZID=America/New_York:20270119T103000
DTSTAMP:20260421T094826
CREATED:20260309T185038Z
LAST-MODIFIED:20260309T185038Z
UID:10006443-1800351000-1800354600@prebleseniorcenter.org
SUMMARY:SAIL
DESCRIPTION:
URL:https://prebleseniorcenter.org/event/sail/2027-01-19/
CATEGORIES:On-Line Activities & Classes
END:VEVENT
BEGIN:VEVENT
DTSTART;TZID=America/New_York:20270119T110000
DTEND;TZID=America/New_York:20270119T120000
DTSTAMP:20260421T094826
CREATED:20260309T185121Z
LAST-MODIFIED:20260309T185121Z
UID:10006704-1800356400-1800360000@prebleseniorcenter.org
SUMMARY:Jedi Council
DESCRIPTION:
URL:https://prebleseniorcenter.org/event/jedi-council/2027-01-19/
CATEGORIES:Activities
END:VEVENT
BEGIN:VEVENT
DTSTART;TZID=America/New_York:20270122T100000
DTEND;TZID=America/New_York:20270122T120000
DTSTAMP:20260421T094826
CREATED:20260309T185453Z
LAST-MODIFIED:20260309T185453Z
UID:10007051-1800612000-1800619200@prebleseniorcenter.org
SUMMARY:Tech Support
DESCRIPTION:
URL:https://prebleseniorcenter.org/event/tech-support/2027-01-22/
CATEGORIES:Activities
END:VEVENT
BEGIN:VEVENT
DTSTART;TZID=America/New_York:20270125T093000
DTEND;TZID=America/New_York:20270125T170000
DTSTAMP:20260421T094826
CREATED:20260309T184803Z
LAST-MODIFIED:20260309T184803Z
UID:10005922-1800869400-1800896400@prebleseniorcenter.org
SUMMARY:Bible Study
DESCRIPTION:
URL:https://prebleseniorcenter.org/event/bible-study/2027-01-25/
CATEGORIES:Activities
END:VEVENT
BEGIN:VEVENT
DTSTART;TZID=America/New_York:20270125T110000
DTEND;TZID=America/New_York:20270125T120000
DTSTAMP:20260421T094826
CREATED:20260309T184935Z
LAST-MODIFIED:20260309T184935Z
UID:10006183-1800874800-1800878400@prebleseniorcenter.org
SUMMARY:Silver Sneakers
DESCRIPTION:
URL:https://prebleseniorcenter.org/event/silver-sneakers/2027-01-25/
CATEGORIES:Activities
END:VEVENT
BEGIN:VEVENT
DTSTART;TZID=America/New_York:20270126T093000
DTEND;TZID=America/New_York:20270126T103000
DTSTAMP:20260421T094826
CREATED:20260309T185038Z
LAST-MODIFIED:20260309T185038Z
UID:10006444-1800955800-1800959400@prebleseniorcenter.org
SUMMARY:SAIL
DESCRIPTION:
URL:https://prebleseniorcenter.org/event/sail/2027-01-26/
CATEGORIES:On-Line Activities & Classes
END:VEVENT
BEGIN:VEVENT
DTSTART;TZID=America/New_York:20270126T110000
DTEND;TZID=America/New_York:20270126T120000
DTSTAMP:20260421T094826
CREATED:20260309T185121Z
LAST-MODIFIED:20260309T185121Z
UID:10006705-1800961200-1800964800@prebleseniorcenter.org
SUMMARY:Jedi Council
DESCRIPTION:
URL:https://prebleseniorcenter.org/event/jedi-council/2027-01-26/
CATEGORIES:Activities
END:VEVENT
BEGIN:VEVENT
DTSTART;TZID=America/New_York:20270127T130000
DTEND;TZID=America/New_York:20270127T170000
DTSTAMP:20260421T094826
CREATED:20260309T185403Z
LAST-MODIFIED:20260309T185403Z
UID:10006991-1801054800-1801069200@prebleseniorcenter.org
SUMMARY:Retro Rackers again Oxford
DESCRIPTION:
URL:https://prebleseniorcenter.org/event/retro-rackers-again-oxford/2027-01-27/
CATEGORIES:Activities
END:VEVENT
END:VCALENDAR