BEGIN:VCALENDAR
VERSION:2.0
PRODID:-//Preble County Council on Aging - ECPv6.15.20//NONSGML v1.0//EN
CALSCALE:GREGORIAN
METHOD:PUBLISH
X-ORIGINAL-URL:https://prebleseniorcenter.org
X-WR-CALDESC:Events for Preble County Council on Aging
REFRESH-INTERVAL;VALUE=DURATION:PT1H
X-Robots-Tag:noindex
X-PUBLISHED-TTL:PT1H
BEGIN:VTIMEZONE
TZID:America/New_York
BEGIN:DAYLIGHT
TZOFFSETFROM:-0500
TZOFFSETTO:-0400
TZNAME:EDT
DTSTART:20250309T070000
END:DAYLIGHT
BEGIN:STANDARD
TZOFFSETFROM:-0400
TZOFFSETTO:-0500
TZNAME:EST
DTSTART:20251102T060000
END:STANDARD
BEGIN:DAYLIGHT
TZOFFSETFROM:-0500
TZOFFSETTO:-0400
TZNAME:EDT
DTSTART:20260308T070000
END:DAYLIGHT
BEGIN:STANDARD
TZOFFSETFROM:-0400
TZOFFSETTO:-0500
TZNAME:EST
DTSTART:20261101T060000
END:STANDARD
BEGIN:DAYLIGHT
TZOFFSETFROM:-0500
TZOFFSETTO:-0400
TZNAME:EDT
DTSTART:20270314T070000
END:DAYLIGHT
BEGIN:STANDARD
TZOFFSETFROM:-0400
TZOFFSETTO:-0500
TZNAME:EST
DTSTART:20271107T060000
END:STANDARD
END:VTIMEZONE
BEGIN:VEVENT
DTSTART;TZID=America/New_York:20261102T093000
DTEND;TZID=America/New_York:20261102T170000
DTSTAMP:20260421T070318
CREATED:20260309T184803Z
LAST-MODIFIED:20260309T184803Z
UID:10005910-1793611800-1793638800@prebleseniorcenter.org
SUMMARY:Bible Study
DESCRIPTION:
URL:https://prebleseniorcenter.org/event/bible-study/2026-11-02/
CATEGORIES:Activities
END:VEVENT
BEGIN:VEVENT
DTSTART;TZID=America/New_York:20261102T110000
DTEND;TZID=America/New_York:20261102T120000
DTSTAMP:20260421T070318
CREATED:20260309T184935Z
LAST-MODIFIED:20260309T184935Z
UID:10006171-1793617200-1793620800@prebleseniorcenter.org
SUMMARY:Silver Sneakers
DESCRIPTION:
URL:https://prebleseniorcenter.org/event/silver-sneakers/2026-11-02/
CATEGORIES:Activities
END:VEVENT
BEGIN:VEVENT
DTSTART;TZID=America/New_York:20261102T133000
DTEND;TZID=America/New_York:20261102T143000
DTSTAMP:20260421T070318
CREATED:20260309T185310Z
LAST-MODIFIED:20260309T185310Z
UID:10006928-1793626200-1793629800@prebleseniorcenter.org
SUMMARY:Participant's Council
DESCRIPTION:
URL:https://prebleseniorcenter.org/event/participants-council/2026-11-02/
CATEGORIES:Activities
END:VEVENT
BEGIN:VEVENT
DTSTART;TZID=America/New_York:20261103T093000
DTEND;TZID=America/New_York:20261103T103000
DTSTAMP:20260421T070318
CREATED:20260309T185038Z
LAST-MODIFIED:20260309T185038Z
UID:10006432-1793698200-1793701800@prebleseniorcenter.org
SUMMARY:SAIL
DESCRIPTION:
URL:https://prebleseniorcenter.org/event/sail/2026-11-03/
CATEGORIES:On-Line Activities & Classes
END:VEVENT
BEGIN:VEVENT
DTSTART;TZID=America/New_York:20261103T110000
DTEND;TZID=America/New_York:20261103T120000
DTSTAMP:20260421T070318
CREATED:20260309T185121Z
LAST-MODIFIED:20260309T185121Z
UID:10006693-1793703600-1793707200@prebleseniorcenter.org
SUMMARY:Jedi Council
DESCRIPTION:
URL:https://prebleseniorcenter.org/event/jedi-council/2026-11-03/
CATEGORIES:Activities
END:VEVENT
BEGIN:VEVENT
DTSTART;TZID=America/New_York:20261109T093000
DTEND;TZID=America/New_York:20261109T170000
DTSTAMP:20260421T070318
CREATED:20260309T184803Z
LAST-MODIFIED:20260309T184803Z
UID:10005911-1794216600-1794243600@prebleseniorcenter.org
SUMMARY:Bible Study
DESCRIPTION:
URL:https://prebleseniorcenter.org/event/bible-study/2026-11-09/
CATEGORIES:Activities
END:VEVENT
BEGIN:VEVENT
DTSTART;TZID=America/New_York:20261109T110000
DTEND;TZID=America/New_York:20261109T120000
DTSTAMP:20260421T070318
CREATED:20260309T184935Z
LAST-MODIFIED:20260309T184935Z
UID:10006172-1794222000-1794225600@prebleseniorcenter.org
SUMMARY:Silver Sneakers
DESCRIPTION:
URL:https://prebleseniorcenter.org/event/silver-sneakers/2026-11-09/
CATEGORIES:Activities
END:VEVENT
BEGIN:VEVENT
DTSTART;TZID=America/New_York:20261110T093000
DTEND;TZID=America/New_York:20261110T103000
DTSTAMP:20260421T070318
CREATED:20260309T185038Z
LAST-MODIFIED:20260309T185038Z
UID:10006433-1794303000-1794306600@prebleseniorcenter.org
SUMMARY:SAIL
DESCRIPTION:
URL:https://prebleseniorcenter.org/event/sail/2026-11-10/
CATEGORIES:On-Line Activities & Classes
END:VEVENT
BEGIN:VEVENT
DTSTART;TZID=America/New_York:20261110T110000
DTEND;TZID=America/New_York:20261110T120000
DTSTAMP:20260421T070318
CREATED:20260309T185121Z
LAST-MODIFIED:20260309T185121Z
UID:10006694-1794308400-1794312000@prebleseniorcenter.org
SUMMARY:Jedi Council
DESCRIPTION:
URL:https://prebleseniorcenter.org/event/jedi-council/2026-11-10/
CATEGORIES:Activities
END:VEVENT
BEGIN:VEVENT
DTSTART;TZID=America/New_York:20261116T093000
DTEND;TZID=America/New_York:20261116T170000
DTSTAMP:20260421T070318
CREATED:20260309T184803Z
LAST-MODIFIED:20260309T184803Z
UID:10005912-1794821400-1794848400@prebleseniorcenter.org
SUMMARY:Bible Study
DESCRIPTION:
URL:https://prebleseniorcenter.org/event/bible-study/2026-11-16/
CATEGORIES:Activities
END:VEVENT
BEGIN:VEVENT
DTSTART;TZID=America/New_York:20261116T110000
DTEND;TZID=America/New_York:20261116T120000
DTSTAMP:20260421T070318
CREATED:20260309T184935Z
LAST-MODIFIED:20260309T184935Z
UID:10006173-1794826800-1794830400@prebleseniorcenter.org
SUMMARY:Silver Sneakers
DESCRIPTION:
URL:https://prebleseniorcenter.org/event/silver-sneakers/2026-11-16/
CATEGORIES:Activities
END:VEVENT
BEGIN:VEVENT
DTSTART;TZID=America/New_York:20261117T093000
DTEND;TZID=America/New_York:20261117T103000
DTSTAMP:20260421T070318
CREATED:20260309T185038Z
LAST-MODIFIED:20260309T185038Z
UID:10006434-1794907800-1794911400@prebleseniorcenter.org
SUMMARY:SAIL
DESCRIPTION:
URL:https://prebleseniorcenter.org/event/sail/2026-11-17/
CATEGORIES:On-Line Activities & Classes
END:VEVENT
BEGIN:VEVENT
DTSTART;TZID=America/New_York:20261117T110000
DTEND;TZID=America/New_York:20261117T120000
DTSTAMP:20260421T070318
CREATED:20260309T185121Z
LAST-MODIFIED:20260309T185121Z
UID:10006695-1794913200-1794916800@prebleseniorcenter.org
SUMMARY:Jedi Council
DESCRIPTION:
URL:https://prebleseniorcenter.org/event/jedi-council/2026-11-17/
CATEGORIES:Activities
END:VEVENT
BEGIN:VEVENT
DTSTART;TZID=America/New_York:20261123T093000
DTEND;TZID=America/New_York:20261123T170000
DTSTAMP:20260421T070318
CREATED:20260309T184803Z
LAST-MODIFIED:20260309T184803Z
UID:10005913-1795426200-1795453200@prebleseniorcenter.org
SUMMARY:Bible Study
DESCRIPTION:
URL:https://prebleseniorcenter.org/event/bible-study/2026-11-23/
CATEGORIES:Activities
END:VEVENT
BEGIN:VEVENT
DTSTART;TZID=America/New_York:20261123T110000
DTEND;TZID=America/New_York:20261123T120000
DTSTAMP:20260421T070318
CREATED:20260309T184935Z
LAST-MODIFIED:20260309T184935Z
UID:10006174-1795431600-1795435200@prebleseniorcenter.org
SUMMARY:Silver Sneakers
DESCRIPTION:
URL:https://prebleseniorcenter.org/event/silver-sneakers/2026-11-23/
CATEGORIES:Activities
END:VEVENT
BEGIN:VEVENT
DTSTART;TZID=America/New_York:20261124T093000
DTEND;TZID=America/New_York:20261124T103000
DTSTAMP:20260421T070318
CREATED:20260309T185038Z
LAST-MODIFIED:20260309T185038Z
UID:10006435-1795512600-1795516200@prebleseniorcenter.org
SUMMARY:SAIL
DESCRIPTION:
URL:https://prebleseniorcenter.org/event/sail/2026-11-24/
CATEGORIES:On-Line Activities & Classes
END:VEVENT
BEGIN:VEVENT
DTSTART;TZID=America/New_York:20261124T110000
DTEND;TZID=America/New_York:20261124T120000
DTSTAMP:20260421T070318
CREATED:20260309T185121Z
LAST-MODIFIED:20260309T185121Z
UID:10006696-1795518000-1795521600@prebleseniorcenter.org
SUMMARY:Jedi Council
DESCRIPTION:
URL:https://prebleseniorcenter.org/event/jedi-council/2026-11-24/
CATEGORIES:Activities
END:VEVENT
BEGIN:VEVENT
DTSTART;TZID=America/New_York:20261125T130000
DTEND;TZID=America/New_York:20261125T170000
DTSTAMP:20260421T070318
CREATED:20260309T185403Z
LAST-MODIFIED:20260309T185403Z
UID:10006989-1795611600-1795626000@prebleseniorcenter.org
SUMMARY:Retro Rackers again Oxford
DESCRIPTION:
URL:https://prebleseniorcenter.org/event/retro-rackers-again-oxford/2026-11-25/
CATEGORIES:Activities
END:VEVENT
BEGIN:VEVENT
DTSTART;VALUE=DATE:20261126
DTEND;VALUE=DATE:20261128
DTSTAMP:20260421T070318
CREATED:20260309T183655Z
LAST-MODIFIED:20260309T184039Z
UID:10005871-1795651200-1795823999@prebleseniorcenter.org
SUMMARY:CLOSED FOR HOLIDAY
DESCRIPTION:
URL:https://prebleseniorcenter.org/event/closed-for-holiday-7/
CATEGORIES:Closings & Holidays
END:VEVENT
BEGIN:VEVENT
DTSTART;TZID=America/New_York:20261127T100000
DTEND;TZID=America/New_York:20261127T120000
DTSTAMP:20260421T070318
CREATED:20260309T185453Z
LAST-MODIFIED:20260309T185453Z
UID:10007049-1795773600-1795780800@prebleseniorcenter.org
SUMMARY:Tech Support
DESCRIPTION:
URL:https://prebleseniorcenter.org/event/tech-support/2026-11-27/
CATEGORIES:Activities
END:VEVENT
BEGIN:VEVENT
DTSTART;TZID=America/New_York:20261130T093000
DTEND;TZID=America/New_York:20261130T170000
DTSTAMP:20260421T070318
CREATED:20260309T184803Z
LAST-MODIFIED:20260309T184803Z
UID:10005914-1796031000-1796058000@prebleseniorcenter.org
SUMMARY:Bible Study
DESCRIPTION:
URL:https://prebleseniorcenter.org/event/bible-study/2026-11-30/
CATEGORIES:Activities
END:VEVENT
BEGIN:VEVENT
DTSTART;TZID=America/New_York:20261130T110000
DTEND;TZID=America/New_York:20261130T120000
DTSTAMP:20260421T070318
CREATED:20260309T184935Z
LAST-MODIFIED:20260309T184935Z
UID:10006175-1796036400-1796040000@prebleseniorcenter.org
SUMMARY:Silver Sneakers
DESCRIPTION:
URL:https://prebleseniorcenter.org/event/silver-sneakers/2026-11-30/
CATEGORIES:Activities
END:VEVENT
END:VCALENDAR